Workbook

Sheet Table 32
A1: Table 32
A2: year | B2: 1 | C2: 3 | D2: 10 | E2: 30 | F2: 100 | G2: 300 | H2: 1000 | I2: 3000 | J2: 10000 | K2: 30000 | L2: 100000 | M2: 300000 | N2: 1000000
A3: Core(MOX) | B3: 8873.97 | C3: 1714.2899 | D3: 2026.6259 | E3: 1228.4791 | F3: 864.6031 | G3: 430.23548 | H3: 276.86061 | I3: 150.6762 | J3: 95.052391 | K3: 30.4449 | L3: 4.8180641 | M3: 1.677063 | N3: 0.87476764
A4: Axial blanket(UOX) | B4: 5210.0437 | C4: 465.6375 | D4: 903.74812 | E4: 682.36006 | F4: 501.50625 | G4: 366.12562 | H4: 340.22501 | I4: 260.8725 | J4: 222.3584 | K4: 94.184062 | L4: 14.860603 | M4: 0.44833312 | N4: 0.4954718
A5: Radial blanket(UOX) | B5: 5091.65 | C5: 600.175 | D5: 1049.91 | E5: 811.4189 | F5: 611.795 | G5: 485.777 | H5: 483.54666 | I5: 395.01 | J5: 343.71145 | K5: 156.951 | L5: 24.435638 | M5: 0.62557 | N5: 1.0304364
A8: Currently, the above table is valid for LMFR reactor type, calculations for other fuel types of LMFR are in development

Sheet User input
A1: NFCSS Results for Reactor Type:
C2: CORE | D2: Axial blanket | E2: Radial blanket | F2: CORE | G2: Axial blanket | H2: Radial blanket
A3: # | B3: Time [Year] | C3: SFD (tHM) | D3: SFD (tHM) | E3: SFD (tHM) | F3: GWd/t | G3: GWd/t | H3: GWd/t
A4: 1 | B4: 2020 | C4: 0 | D4: 0 | E4: 0 | F4: 151.448 | G4: 11.828 | H4: 3.807
A5: 2 | B5: 2021 | C5: 4.35 | D5: 5.37 | E5: 4.07 | F5: 151.448 | G5: 11.828 | H5: 3.807
A6: 3 | B6: 2022 | C6: 4.35 | D6: 5.37 | E6: 4.07 | F6: 151.448 | G6: 11.828 | H6: 3.807
A7: 4 | B7: 2023 | C7: 4.35 | D7: 5.37 | E7: 4.07 | F7: 151.448 | G7: 11.828 | H7: 3.807
A8: 5 | B8: 2024 | C8: 4.35 | D8: 5.37 | E8: 4.07 | F8: 151.448 | G8: 11.828 | H8: 3.807
A9: 6 | B9: 2025 | C9: 4.35 | D9: 5.37 | E9: 4.07 | F9: 151.448 | G9: 11.828 | H9: 3.807
A10: 7 | B10: 2026 | C10: 4.35 | D10: 5.37 | E10: 4.07 | F10: 151.448 | G10: 11.828 | H10: 3.807
A11: 8 | B11: 2027 | C11: 4.35 | D11: 5.37 | E11: 4.07 | F11: 151.448 | G11: 11.828 | H11: 3.807
A12: 9 | B12: 2028 | C12: 4.35 | D12: 5.37 | E12: 4.07 | F12: 151.448 | G12: 11.828 | H12: 3.807
A13: 10 | B13: 2029 | C13: 4.35 | D13: 5.37 | E13: 4.07 | F13: 151.448 | G13: 11.828 | H13: 3.807
A14: 11 | B14: 2030 | C14: 4.35 | D14: 5.37 | E14: 4.07 | F14: 151.448 | G14: 11.828 | H14: 3.807
A15: 12 | B15: 2031 | C15: 4.35 | D15: 5.37 | E15: 4.07 | F15: 151.448 | G15: 11.828 | H15: 3.807
... A64: 61 | B64: 2080 | C64: 4.35 | D64: 5.37 | E64: 4.07 | F64: 151.448 | G64: 11.828 | H64: 3.807
A65: 62
A66: 63
A67: 64
A68: 65
A69: 66
A70: 67
A71: 68
A72: 69
A73: 70
A74: 71
A75: 72
A76: 73
... A203: 200

Sheet cal_CORE
A1: Time [Year] | B1: 1 | C1: 2 | D1: 3 | E1: 4 | F1: 5 | G1: 6 | H1: 7 | I1: 8 | J1: 9 | K1: 10 | L1: 11 | M1: 12 | N1: 13 | O1: 14 | P1: 15 | Q1: 16 | R1: 17 | S1: 18 | T1: 19 | U1: 20 | V1: 21 | W1: 22 | X1: 23 | Y1: 24 | Z1: 25 | AA1: 26 | AB1: 27 | AC1: 28 | AD1: 29 | AE1: 30 | AF1: 31 | AG1: 32 | AH1: 33 | AI1: 34 | AJ1: 35 | AK1: 36 | AL1: 37 | AM1: 38 | AN1: 39 | AO1: 40 | AP1: 41 | AQ1: 42 | AR1: 43 | AS1: 44 | AT1: 45 | AU1: 46 | AV1: 47 | AW1: 48 | AX1: 49 | AY1: 50 | AZ1: 51 | BA1: 52 | BB1: 53 | BC1: 54 | BD1: 55 | BE1: 56 | BF1: 57 | BG1: 58 | BH1: 59 | BI1: 60 | BJ1: 61 | BK1: 62 | BL1: 63 | BM1: 64 | BN1: 65 | BO1: 66 | BP1: 67 | BQ1: 68 | BR1: 69 | BS1: 70 | BT1: 71 | BU1: 72 | BV1: 73 | BW1: 74 | BX1: 75 | BY1: 76 | BZ1: 77 | CA1: 78 | CB1: 79 | CC1: 80 | CD1: 90 | CE1: 100 | CF1: 200 | CG1: 300 | CH1: 400 | CI1: 500 | CJ1: 600 | CK1: 700 | CL1: 800 | CM1: 900 | CN1: 1000 | CO1: 2000 | CP1: 3000 | CQ1: 4000 | CR1: 5000 | CS1: 6000 | CT1: 7000 | CU1: 8000 | CV1: 9000 | CW1: 10000 | CX1: 20000 | CY1: 30000 | CZ1: 40000 | DA1: 50000 | DB1: 60000 | DC1: 70000 | DD1: 80000 | DE1: 90000 | DF1: 100000 | DG1: 110000 | DH1: 120000 | DI1: 130000 | DJ1: 140000 | DK1: 150000 | DL1: 160000 | DM1: 170000 | DN1: 180000 | DO1: 190000 | DP1: 200000 | DQ1: 210000 | DR1: 220000 | DS1: 230000 | DT1: 240000 | DU1: 250000 | DV1: 260000 | DW1: 270000 | DX1: 280000 | DY1: 290000 | DZ1: 300000 | EA1: 310000 | EB1: 320000 | EC1: 330000 | ED1: 340000 | EE1: 350000 | EF1: 360000 | EG1: 370000 | EH1: 380000 | EI1: 390000 | EJ1: 400000 | EK1: 410000 | EL1: 420000 | EM1: 430000 | EN1: 440000 | EO1: 450000 | EP1: 460000 | EQ1: 470000 | ER1: 480000 | ES1: 490000 | ET1: 500000 | EU1: 510000 | EV1: 520000 | EW1: 530000 | EX1: 540000 | EY1: 550000 | EZ1: 560000 | FA1: 570000 | FB1: 580000 | FC1: 590000 | FD1: 600000 | FE1: 610000 | FF1: 620000 | FG1: 630000 | FH1: 640000 | FI1: 650000 | FJ1: 660000 | FK1: 670000 | FL1: 680000 | FM1: 690000 | FN1: 700000 | FO1: 710000 | FP1: 720000 | FQ1: 730000 | FR1: 740000 | FS1: 750000 | FT1: 760000 | FU1: 770000 | FV1: 780000 | FW1: 790000 | FX1: 800000 | FY1: 810000 | FZ1: 820000 | GA1: 830000 | GB1: 840000 | GC1: 850000 | GD1: 860000 | GE1: 870000 | GF1: 880000 | GG1: 890000 | GH1: 900000 | GI1: 910000 | GJ1: 920000 | GK1: 930000 | GL1: 940000 | GM1: 950000 | GN1: 960000 | GO1: 970000 | GP1: 980000 | GQ1: 990000 | GR1: 1000000
A2: UO2 | B2: ='Table 32'!B3 -> 8873.97 | C2: =C11 -> 3144.9436 | D2: ='Table 32'!C3 -> 1714.2899 | E2: =E11 -> 1784.2387 | F2: =F11 -> 1840.4547 | G2: =G11 -> 1887.6989 | H2: =H11 -> 1928.5882 | I2: =I11 -> 1964.7233 | J2: =J11 -> 1997.1583 | K2: ='Table 32'!D3 -> 2026.6259 | L2: =L11 -> 1940.495 | M2: =M11 -> 1865.064 | N2: =N11 -> 1798.2662 | O2: =O11 -> 1738.5559 | P2: =P11 -> 1684.7504 | Q2: =Q11 -> 1635.9272 | R2: =R11 -> 1591.3543 | S2: =S11 -> 1550.4427 | ... AD2: =AD11 -> 1247.6035 | AE2: ='Table 32'!E3 -> 1228.4791 | AF2: =AF11 -> 1216.7829 | AG2: =AG11 -> 1205.5642 | AH2: =AH11 -> 1194.7894 | AI2: =AI11 -> 1184.4284 | AJ2: =AJ11 -> 1174.4537 | AK2: =AK11 -> 1164.8405 | AL2: =AL11 -> 1155.5663 | AM2: =AM11 -> 1146.6103 | ... CD2: =CD11 -> 891.59297 | CE2: ='Table 32'!F3 -> 864.6031 | CF2: =CF11 -> 556.64115 | CG2: ='Table 32'!G3 -> 430.23548 | CH2: =CH11 -> 387.22338 | CI2: =CI11 -> 356.84472 | CJ2: =CJ11 -> 333.80137 | CK2: =CK11 -> 315.48335 | CL2: =CL11 -> 300.43012 | CM2: =CM11 -> 287.74956 | CN2: ='Table 32'!H3 -> 276.86061 | CO2: =CO11 -> 188.60757 | CP2: ='Table 32'!I3 -> 150.6762 | CQ2: =CQ11 -> 134.96972 | CR2: =CR11 -> 123.92341 | CS2: =CS11 -> 115.57246 | CT2: =CT11 -> 108.95242 | CU2: =CU11 -> 103.52519 | CV2: =CV11 -> 98.962881 | CW2: ='Table 32'!J3 -> 95.052391 | CX2: =CX11 -> 46.344775 | CY2: ='Table 32'!K3 -> 30.4449 | CZ2: =CZ11 -> 19.597738 | DA2: =DA11 -> 13.92565 | DB2: =DB11 -> 10.533474 | DC2: =DC11 -> 8.3188143 | DD2: =DD11 -> 6.7805207 | DE2: =DE11 -> 5.6615757 | DF2: ='Table 32'!L3 -> 4.8180641 | DG2: =DG11 -> 4.3965368 | DH2: =DH11 -> 4.0439984 | DI2: =DI11 -> 3.7447124 | DJ2: =DJ11 -> 3.4874005 | DK2: =DK11 -> 3.2637668 | DL2: =DL11 -> 3.0675715 | DM2: =DM11 -> 2.8940304 | DN2: =DN11 -> 2.7394131 | ... DY2: =DY11 -> 1.732577 | DZ2: ='Table 32'!M3 -> 1.677063 | EA2: =EA11 -> 1.6475982 | EB2: =EB11 -> 1.6195623 | EC2: =EC11 -> 1.5928446 | ED2: =ED11 -> 1.5673458 | EE2: =EE11 -> 1.5429769 | EF2: =EF11 -> 1.5196576 | EG2: =EG11 -> 1.4973154 | EH2: =EH11 -> 1.4758846 | ... GQ2: =GQ11 -> 0.87953318 | GR2: ='Table 32'!N3 -> 0.87476764
A4: UO2 calculation value
A5: y | C5: =C6+(C7-C6)*(C8-C9)/(C10-C9) -> 8.0535512 | D5: =D6+(D7-D6)*(D8-D9)/(D10-D9) -> 7.4467542 | E5: =E6+(E7-E6)*(E8-E9)/(E10-E9) -> 7.4867471 | F5: =F6+(F7-F6)*(F8-F9)/(F10-F9) -> 7.517768 | G5: =G6+(G7-G6)*(G8-G9)/(G10-G9) -> 7.5431139 | H5: =H6+(H7-H6)*(H8-H9)/(H10-H9) -> 7.5645435 | I5: =I6+(I7-I6)*(I8-I9)/(I10-I9) -> 7.5831067 | J5: =J6+(J7-J6)*(J8-J9)/(J10-J9) -> 7.5994806 | L5: =L6+(L7-L6)*(L8-L9)/(L10-L9) -> 7.5706984 | M5: =M6+(M7-M6)*(M8-M9)/(M10-M9) -> 7.5310507 | N5: =N6+(N7-N6)*(N8-N9)/(N10-N9) -> 7.4945783 | O5: =O6+(O7-O6)*(O8-O9)/(O10-O9) -> 7.4608101 | P5: =P6+(P7-P6)*(P8-P9)/(P10-P9) -> 7.4293727 | Q5: =Q6+(Q7-Q6)*(Q8-Q9)/(Q10-Q9) -> 7.399965 | R5: =R6+(R7-R6)*(R8-R9)/(R10-R9) -> 7.3723407 | S5: =S6+(S7-S6)*(S8-S9)/(S10-S9) -> 7.3462958 | ... GQ5: =GQ6+(GQ7-GQ6)*(GQ8-GQ9)/(GQ10-GQ9) -> -0.12836399
A6: yi | C6: =LN($B$2) -> 9.0908776 | D6: =LN($B$2) -> 9.0908776 | E6: =LN($D$2) -> 7.4467542 | F6: =LN($D$2) -> 7.4467542 | G6: =LN($D$2) -> 7.4467542 | H6: =LN($D$2) -> 7.4467542 | I6: =LN($D$2) -> 7.4467542 | J6: =LN($D$2) -> 7.4467542 | L6: =LN($K$2) -> 7.6141276 | M6: =LN($K$2) -> 7.6141276 | N6: =LN($K$2) -> 7.6141276 | O6: =LN($K$2) -> 7.6141276 | P6: =LN($K$2) -> 7.6141276 | Q6: =LN($K$2) -> 7.6141276 | R6: =LN($K$2) -> 7.6141276 | S6: =LN($K$2) -> 7.6141276 | ... AE6: =LN($K$2) -> 7.6141276 | AF6: =LN($AE$2) -> 7.1135322 | AG6: =LN($AE$2) -> 7.1135322 | AH6: =LN($AE$2) -> 7.1135322 | AI6: =LN($AE$2) -> 7.1135322 | AJ6: =LN($AE$2) -> 7.1135322 | AK6: =LN($AE$2) -> 7.1135322 | AL6: =LN($AE$2) -> 7.1135322 | AM6: =LN($AE$2) -> 7.1135322 | ... CE6: =LN($AE$2) -> 7.1135322 | CF6: =LN($CE$2) -> 6.7622706 | CG6: =LN($CE$2) -> 6.7622706 | CH6: =LN($CG$2) -> 6.0643327 | CI6: =LN($CG$2) -> 6.0643327 | CJ6: =LN($CG$2) -> 6.0643327 | CK6: =LN($CG$2) -> 6.0643327 | CL6: =LN($CG$2) -> 6.0643327 | CM6: =LN($CG$2) -> 6.0643327 | CN6: =LN($CG$2) -> 6.0643327 | CO6: =LN($CN$2) -> 5.6235142 | CP6: =LN($CP$2) -> 5.0151332 | CQ6: =LN($CP$2) -> 5.0151332 | CR6: =LN($CP$2) -> 5.0151332 | CS6: =LN($CP$2) -> 5.0151332 | CT6: =LN($CP$2) -> 5.0151332 | CU6: =LN($CP$2) -> 5.0151332 | CV6: =LN($CP$2) -> 5.0151332 | CW6: =LN($CP$2) -> 5.0151332 | CX6: =LN($CW$2) -> 4.5544282 | CY6: =LN($CW$2) -> 4.5544282 | CZ6: =LN($CY$2) -> 3.4159185 | DA6: =LN($CY$2) -> 3.4159185 | DB6: =LN($CY$2) -> 3.4159185 | DC6: =LN($CY$2) -> 3.4159185 | DD6: =LN($CY$2) -> 3.4159185 | DE6: =LN($CY$2) -> 3.4159185 | DF6: =LN($CY$2) -> 3.4159185 | DG6: =LN($DF$2) -> 1.5723722 | DH6: =LN($DF$2) -> 1.5723722 | DI6: =LN($DF$2) -> 1.5723722 | DJ6: =LN($DF$2) -> 1.5723722 | DK6: =LN($DF$2) -> 1.5723722 | DL6: =LN($DF$2) -> 1.5723722 | DM6: =LN($DF$2) -> 1.5723722 | DN6: =LN($DF$2) -> 1.5723722 | ... DZ6: =LN($DF$2) -> 1.5723722 | EA6: =LN($DZ$2) -> 0.51704405 | EB6: =LN($DZ$2) -> 0.51704405 | EC6: =LN($DZ$2) -> 0.51704405 | ED6: =LN($DZ$2) -> 0.51704405 | EE6: =LN($DZ$2) -> 0.51704405 | EF6: =LN($DZ$2) -> 0.51704405 | EG6: =LN($DZ$2) -> 0.51704405 | EH6: =LN($DZ$2) -> 0.51704405 | ... GQ6: =LN($DZ$2) -> 0.51704405
A7: yi+1 | C7: =LN($D$2) -> 7.4467542 | D7: =LN($D$2) -> 7.4467542 | E7: =LN($K$2) -> 7.6141276 | F7: =LN($K$2) -> 7.6141276 | G7: =LN($K$2) -> 7.6141276 | H7: =LN($K$2) -> 7.6141276 | I7: =LN($K$2) -> 7.6141276 | J7: =LN($K$2) -> 7.6141276 | L7: =LN($AE$2) -> 7.1135322 | M7: =LN($AE$2) -> 7.1135322 | N7: =LN($AE$2) -> 7.1135322 | O7: =LN($AE$2) -> 7.1135322 | P7: =LN($AE$2) -> 7.1135322 | Q7: =LN($AE$2) -> 7.1135322 | R7: =LN($AE$2) -> 7.1135322 | S7: =LN($AE$2) -> 7.1135322 | ... AE7: =LN($AE$2) -> 7.1135322 | AF7: =LN($CE$2) -> 6.7622706 | AG7: =LN($CE$2) -> 6.7622706 | AH7: =LN($CE$2) -> 6.7622706 | AI7: =LN($CE$2) -> 6.7622706 | AJ7: =LN($CE$2) -> 6.7622706 | AK7: =LN($CE$2) -> 6.7622706 | AL7: =LN($CE$2) -> 6.7622706 | AM7: =LN($CE$2) -> 6.7622706 | ... CE7: =LN($CE$2) -> 6.7622706 | CF7: =LN($CG$2) -> 6.0643327 | CG7: =LN($CG$2) -> 6.0643327 | CH7: =LN($CN$2) -> 5.6235142 | CI7: =LN($CN$2) -> 5.6235142 | CJ7: =LN($CN$2) -> 5.6235142 | CK7: =LN($CN$2) -> 5.6235142 | CL7: =LN($CN$2) -> 5.6235142 | CM7: =LN($CN$2) -> 5.6235142 | CN7: =LN($CN$2) -> 5.6235142 | CO7: =LN($CP$2) -> 5.0151332 | CP7: =LN($CP$2) -> 5.0151332 | CQ7: =LN($CW$2) -> 4.5544282 | CR7: =LN($CW$2) -> 4.5544282 | CS7: =LN($CW$2) -> 4.5544282 | CT7: =LN($CW$2) -> 4.5544282 | CU7: =LN($CW$2) -> 4.5544282 | CV7: =LN($CW$2) -> 4.5544282 | CW7: =LN($CW$2) -> 4.5544282 | CX7: =LN($CY$2) -> 3.4159185 | CY7: =LN($CY$2) -> 3.4159185 | CZ7: =LN($DF$2) -> 1.5723722 | DA7: =LN($DF$2) -> 1.5723722 | DB7: =LN($DF$2) -> 1.5723722 | DC7: =LN($DF$2) -> 1.5723722 | DD7: =LN($DF$2) -> 1.5723722 | DE7: =LN($DF$2) -> 1.5723722 | DF7: =LN($DF$2) -> 1.5723722 | DG7: =LN($DZ$2) -> 0.51704405 | DH7: =LN($DZ$2) -> 0.51704405 | DI7: =LN($DZ$2) -> 0.51704405 | DJ7: =LN($DZ$2) -> 0.51704405 | DK7: =LN($DZ$2) -> 0.51704405 | DL7: =LN($DZ$2) -> 0.51704405 | DM7: =LN($DZ$2) -> 0.51704405 | DN7: =LN($DZ$2) -> 0.51704405 | ... DZ7: =LN($DZ$2) -> 0.51704405 | EA7: =LN($GR$2) -> -0.13379698 | EB7: =LN($GR$2) -> -0.13379698 | EC7: =LN($GR$2) -> -0.13379698 | ED7: =LN($GR$2) -> -0.13379698 | EE7: =LN($GR$2) -> -0.13379698 | EF7: =LN($GR$2) -> -0.13379698 | EG7: =LN($GR$2) -> -0.13379698 | EH7: =LN($GR$2) -> -0.13379698 | ... GQ7: =LN($GR$2) -> -0.13379698
A8: x | C8: =LN(C1) -> 0.69314718 | D8: =LN(D1) -> 1.0986123 | E8: =LN(E1) -> 1.3862944 | F8: =LN(F1) -> 1.6094379 | G8: =LN(G1) -> 1.7917595 | H8: =LN(H1) -> 1.9459101 | I8: =LN(I1) -> 2.0794415 | J8: =LN(J1) -> 2.1972246 | L8: =LN(L1) -> 2.3978953 | M8: =LN(M1) -> 2.4849066 | N8: =LN(N1) -> 2.5649494 | O8: =LN(O1) -> 2.6390573 | P8: =LN(P1) -> 2.7080502 | Q8: =LN(Q1) -> 2.7725887 | R8: =LN(R1) -> 2.8332133 | S8: =LN(S1) -> 2.8903718 | ... GQ8: =LN(GQ1) -> 13.80546
A9: xi | C9: =LN($B$1) -> 0 | D9: =LN($B$1) -> 0 | E9: =LN($D$1) -> 1.0986123 | F9: =LN($D$1) -> 1.0986123 | G9: =LN($D$1) -> 1.0986123 | H9: =LN($D$1) -> 1.0986123 | I9: =LN($D$1) -> 1.0986123 | J9: =LN($D$1) -> 1.0986123 | L9: =LN($K$1) -> 2.3025851 | M9: =LN($K$1) -> 2.3025851 | N9: =LN($K$1) -> 2.3025851 | O9: =LN($K$1) -> 2.3025851 | P9: =LN($K$1) -> 2.3025851 | Q9: =LN($K$1) -> 2.3025851 | R9: =LN($K$1) -> 2.3025851 | S9: =LN($K$1) -> 2.3025851 | ... AE9: =LN($K$1) -> 2.3025851 | AF9: =LN($AE$1) -> 3.4011974 | AG9: =LN($AE$1) -> 3.4011974 | AH9: =LN($AE$1) -> 3.4011974 | AI9: =LN($AE$1) -> 3.4011974 | AJ9: =LN($AE$1) -> 3.4011974 | AK9: =LN($AE$1) -> 3.4011974 | AL9: =LN($AE$1) -> 3.4011974 | AM9: =LN($AE$1) -> 3.4011974 | ... CE9: =LN($AE$1) -> 3.4011974 | CF9: =LN($CE$1) -> 4.6051702 | CG9: =LN($CE$1) -> 4.6051702 | CH9: =LN($CG$1) -> 5.7037825 | CI9: =LN($CG$1) -> 5.7037825 | CJ9: =LN($CG$1) -> 5.7037825 | CK9: =LN($CG$1) -> 5.7037825 | CL9: =LN($CG$1) -> 5.7037825 | CM9: =LN($CG$1) -> 5.7037825 | CN9: =LN($CG$1) -> 5.7037825 | CO9: =LN($CN$1) -> 6.9077553 | CP9: =LN($CP$1) -> 8.0063676 | CQ9: =LN($CP$1) -> 8.0063676 | CR9: =LN($CP$1) -> 8.0063676 | CS9: =LN($CP$1) -> 8.0063676 | CT9: =LN($CP$1) -> 8.0063676 | CU9: =LN($CP$1) -> 8.0063676 | CV9: =LN($CP$1) -> 8.0063676 | CW9: =LN($CP$1) -> 8.0063676 | CX9: =LN($CW$1) -> 9.2103404 | CY9: =LN($CW$1) -> 9.2103404 | CZ9: =LN($CY$1) -> 10.308953 | DA9: =LN($CY$1) -> 10.308953 | DB9: =LN($CY$1) -> 10.308953 | DC9: =LN($CY$1) -> 10.308953 | DD9: =LN($CY$1) -> 10.308953 | DE9: =LN($CY$1) -> 10.308953 | DF9: =LN($CY$1) -> 10.308953 | DG9: =LN($DF$1) -> 11.512925 | DH9: =LN($DF$1) -> 11.512925 | DI9: =LN($DF$1) -> 11.512925 | DJ9: =LN($DF$1) -> 11.512925 | DK9: =LN($DF$1) -> 11.512925 | DL9: =LN($DF$1) -> 11.512925 | DM9: =LN($DF$1) -> 11.512925 | DN9: =LN($DF$1) -> 11.512925 | ... DZ9: =LN($DF$1) -> 11.512925 | EA9: =LN($DZ$1) -> 12.611538 | EB9: =LN($DZ$1) -> 12.611538 | EC9: =LN($DZ$1) -> 12.611538 | ED9: =LN($DZ$1) -> 12.611538 | EE9: =LN($DZ$1) -> 12.611538 | EF9: =LN($DZ$1) -> 12.611538 | EG9: =LN($DZ$1) -> 12.611538 | EH9: =LN($DZ$1) -> 12.611538 | ... GQ9: =LN($DZ$1) -> 12.611538
A10: xi+1 | C10: =LN($D$1) -> 1.0986123 | D10: =LN($D$1) -> 1.0986123 | E10: =LN($K$1) -> 2.3025851 | F10: =LN($K$1) -> 2.3025851 | G10: =LN($K$1) -> 2.3025851 | H10: =LN($K$1) -> 2.3025851 | I10: =LN($K$1) -> 2.3025851 | J10: =LN($K$1) -> 2.3025851 | L10: =LN($AE$1) -> 3.4011974 | M10: =LN($AE$1) -> 3.4011974 | N10: =LN($AE$1) -> 3.4011974 | O10: =LN($AE$1) -> 3.4011974 | P10: =LN($AE$1) -> 3.4011974 | Q10: =LN($AE$1) -> 3.4011974 | R10: =LN($AE$1) -> 3.4011974 | S10: =LN($AE$1) -> 3.4011974 | ... AE10: =LN($AE$1) -> 3.4011974 | AF10: =LN($CE$1) -> 4.6051702 | AG10: =LN($CE$1) -> 4.6051702 | AH10: =LN($CE$1) -> 4.6051702 | AI10: =LN($CE$1) -> 4.6051702 | AJ10: =LN($CE$1) -> 4.6051702 | AK10: =LN($CE$1) -> 4.6051702 | AL10: =LN($CE$1) -> 4.6051702 | AM10: =LN($CE$1) -> 4.6051702 | ... CE10: =LN($CE$1) -> 4.6051702 | CF10: =LN($CG$1) -> 5.7037825 | CG10: =LN($CG$1) -> 5.7037825 | CH10: =LN($CN$1) -> 6.9077553 | CI10: =LN($CN$1) -> 6.9077553 | CJ10: =LN($CN$1) -> 6.9077553 | CK10: =LN($CN$1) -> 6.9077553 | CL10: =LN($CN$1) -> 6.9077553 | CM10: =LN($CN$1) -> 6.9077553 | CN10: =LN($CN$1) -> 6.9077553 | CO10: =LN($CP$1) -> 8.0063676 | CP10: =LN($CW$1) -> 9.2103404 | CQ10: =LN($CW$1) -> 9.2103404 | CR10: =LN($CW$1) -> 9.2103404 | CS10: =LN($CW$1) -> 9.2103404 | CT10: =LN($CW$1) -> 9.2103404 | CU10: =LN($CW$1) -> 9.2103404 | CV10: =LN($CW$1) -> 9.2103404 | CW10: =LN($CW$1) -> 9.2103404 | CX10: =LN($CY$1) -> 10.308953 | CY10: =LN($CY$1) -> 10.308953 | CZ10: =LN($DF$1) -> 11.512925 | DA10: =LN($DF$1) -> 11.512925 | DB10: =LN($DF$1) -> 11.512925 | DC10: =LN($DF$1) -> 11.512925 | DD10: =LN($DF$1) -> 11.512925 | DE10: =LN($DF$1) -> 11.512925 | DF10: =LN($DF$1) -> 11.512925 | DG10: =LN($DZ$1) -> 12.611538 | DH10: =LN($DZ$1) -> 12.611538 | DI10: =LN($DZ$1) -> 12.611538 | DJ10: =LN($DZ$1) -> 12.611538 | DK10: =LN($DZ$1) -> 12.611538 | DL10: =LN($DZ$1) -> 12.611538 | DM10: =LN($DZ$1) -> 12.611538 | DN10: =LN($DZ$1) -> 12.611538 | ... DZ10: =LN($DZ$1) -> 12.611538 | EA10: =LN($GR$1) -> 13.815511 | EB10: =LN($GR$1) -> 13.815511 | EC10: =LN($GR$1) -> 13.815511 | ED10: =LN($GR$1) -> 13.815511 | EE10: =LN($GR$1) -> 13.815511 | EF10: =LN($GR$1) -> 13.815511 | EG10: =LN($GR$1) -> 13.815511 | EH10: =LN($GR$1) -> 13.815511 | ... GQ10: =LN($GR$1) -> 13.815511
A11: DH | C11: =EXP(C5) -> 3144.9436 | D11: =EXP(D5) -> 1714.2899 | E11: =EXP(E5) -> 1784.2387 | F11: =EXP(F5) -> 1840.4547 | G11: =EXP(G5) -> 1887.6989 | H11: =EXP(H5) -> 1928.5882 | I11: =EXP(I5) -> 1964.7233 | J11: =EXP(J5) -> 1997.1583 | L11: =EXP(L5) -> 1940.495 | M11: =EXP(M5) -> 1865.064 | N11: =EXP(N5) -> 1798.2662 | O11: =EXP(O5) -> 1738.5559 | P11: =EXP(P5) -> 1684.7504 | Q11: =EXP(Q5) -> 1635.9272 | R11: =EXP(R5) -> 1591.3543 | S11: =EXP(S5) -> 1550.4427 | ... GQ11: =EXP(GQ5) -> 0.87953318
A14: 1 | CC14: 1 | CD14: =EXP($CD$6+($CD$7-$CD$6)*((LN($CD$1-A14))-$CD$9)/($CD$10-$CD$9)) -> 894.50415 | CE14: =EXP($CE$6+($CE$7-$CE$6)*((LN($CE$1-A14))-$CE$9)/($CE$10-$CE$9)) -> 867.14202 | CF14: =EXP($CF$6+($CF$7-$CF$6)*((LN($CF$1-A14))-$CF$9)/($CF$10-$CF$9)) -> 558.41656 | CG14: =EXP($CG$6+($CG$7-$CG$6)*((LN($CG$1-A14))-$CG$9)/($CG$10-$CG$9)) -> 431.14905 | CH14: =EXP($CH$6+($CH$7-$CH$6)*((LN($CH$1-A14))-$CH$9)/($CH$10-$CH$9)) -> 387.57843 | CI14: =EXP($CI$6+($CI$7-$CI$6)*((LN($CI$1-A14))-$CI$9)/($CI$10-$CI$9)) -> 357.10638 | CJ14: =EXP($CJ$6+($CJ$7-$CJ$6)*((LN($CJ$1-A14))-$CJ$9)/($CJ$10-$CJ$9)) -> 334.0053 | CK14: =EXP($CK$6+($CK$7-$CK$6)*((LN($CK$1-A14))-$CK$9)/($CK$10-$CK$9)) -> 315.64853 | CL14: =EXP($CL$6+($CL$7-$CL$6)*((LN($CL$1-A14))-$CL$9)/($CL$10-$CL$9)) -> 300.56774 | CM14: =EXP($CM$6+($CM$7-$CM$6)*((LN($CM$1-A14))-$CM$9)/($CM$10-$CM$9)) -> 287.86671 | CN14: =EXP($CN$6+($CN$7-$CN$6)*((LN($CN$1-A14))-$CN$9)/($CN$10-$CN$9)) -> 276.96205 | CO14: =EXP($CO$6+($CO$7-$CO$6)*((LN($CO$1-A14))-$CO$9)/($CO$10-$CO$9)) -> 188.65981 | CP14: =EXP($CP$6+($CP$7-$CP$6)*((LN($CP$1-A14))-$CP$9)/($CP$10-$CP$9)) -> 150.6762 | CQ14: =EXP($CQ$6+($CQ$7-$CQ$6)*((LN($CQ$1-A14))-$CQ$9)/($CQ$10-$CQ$9)) -> 134.98264 | CR14: =EXP($CR$6+($CR$7-$CR$6)*((LN($CR$1-A14))-$CR$9)/($CR$10-$CR$9)) -> 123.9329 | CS14: =EXP($CS$6+($CS$7-$CS$6)*((LN($CS$1-A14))-$CS$9)/($CS$10-$CS$9)) -> 115.57983 | CT14: =EXP($CT$6+($CT$7-$CT$6)*((LN($CT$1-A14))-$CT$9)/($CT$10-$CT$9)) -> 108.95838 | CU14: =EXP($CU$6+($CU$7-$CU$6)*((LN($CU$1-A14))-$CU$9)/($CU$10-$CU$9)) -> 103.53014 | CV14: =EXP($CV$6+($CV$7-$CV$6)*((LN($CV$1-A14))-$CV$9)/($CV$10-$CV$9)) -> 98.967089 | CW14: =EXP($CW$6+($CW$7-$CW$6)*((LN($CW$1-A14))-$CW$9)/($CW$10-$CW$9)) -> 95.056029 | CX14: =EXP($CX$6+($CX$7-$CX$6)*((LN($CX$1-A14))-$CX$9)/($CX$10-$CX$9)) -> 46.347177 | CY14: =EXP($CY$6+($CY$7-$CY$6)*((LN($CY$1-A14))-$CY$9)/($CY$10-$CY$9)) -> 30.445952 | CZ14: =EXP($CZ$6+($CZ$7-$CZ$6)*((LN($CZ$1-A14))-$CZ$9)/($CZ$10-$CZ$9)) -> 19.598489 | DA14: =EXP($DA$6+($DA$7-$DA$6)*((LN($DA$1-A14))-$DA$9)/($DA$10-$DA$9)) -> 13.926077 | DB14: =EXP($DB$6+($DB$7-$DB$6)*((LN($DB$1-A14))-$DB$9)/($DB$10-$DB$9)) -> 10.533743 | DC14: =EXP($DC$6+($DC$7-$DC$6)*((LN($DC$1-A14))-$DC$9)/($DC$10-$DC$9)) -> 8.3189962 | DD14: =EXP($DD$6+($DD$7-$DD$6)*((LN($DD$1-A14))-$DD$9)/($DD$10-$DD$9)) -> 6.7806505 | DE14: =EXP($DE$6+($DE$7-$DE$6)*((LN($DE$1-A14))-$DE$9)/($DE$10-$DE$9)) -> 5.661672 | DF14: =EXP($DF$6+($DF$7-$DF$6)*((LN($DF$1-A14))-$DF$9)/($DF$10-$DF$9)) -> 4.8181378
A15: 2 | CC15: 2 | CD15: =EXP($CD$6+($CD$7-$CD$6)*((LN($CD$1-A15))-$CD$9)/($CD$10-$CD$9)) -> 897.45791 | CE15: =EXP($CE$6+($CE$7-$CE$6)*((LN($CE$1-A15))-$CE$9)/($CE$10-$CE$9)) -> 869.71428 | CF15: =EXP($CF$6+($CF$7-$CF$6)*((LN($CF$1-A15))-$CF$9)/($CF$10-$CF$9)) -> 560.20661 | CG15: =EXP($CG$6+($CG$7-$CG$6)*((LN($CG$1-A15))-$CG$9)/($CG$10-$CG$9)) -> 432.06763 | CH15: =EXP($CH$6+($CH$7-$CH$6)*((LN($CH$1-A15))-$CH$9)/($CH$10-$CH$9)) -> 387.9347 | CI15: =EXP($CI$6+($CI$7-$CI$6)*((LN($CI$1-A15))-$CI$9)/($CI$10-$CI$9)) -> 357.36877 | CJ15: =EXP($CJ$6+($CJ$7-$CJ$6)*((LN($CJ$1-A15))-$CJ$9)/($CJ$10-$CJ$9)) -> 334.20969 | CK15: =EXP($CK$6+($CK$7-$CK$6)*((LN($CK$1-A15))-$CK$9)/($CK$10-$CK$9)) -> 315.81403 | CL15: =EXP($CL$6+($CL$7-$CL$6)*((LN($CL$1-A15))-$CL$9)/($CL$10-$CL$9)) -> 300.70559 | CM15: =EXP($CM$6+($CM$7-$CM$6)*((LN($CM$1-A15))-$CM$9)/($CM$10-$CM$9)) -> 287.98404 | CN15: =EXP($CN$6+($CN$7-$CN$6)*((LN($CN$1-A15))-$CN$9)/($CN$10-$CN$9)) -> 277.06363 | CO15: =EXP($CO$6+($CO$7-$CO$6)*((LN($CO$1-A15))-$CO$9)/($CO$10-$CO$9)) -> 188.71209 | CP15: =EXP($CP$6+($CP$7-$CP$6)*((LN($CP$1-A15))-$CP$9)/($CP$10-$CP$9)) -> 150.6762 | CQ15: =EXP($CQ$6+($CQ$7-$CQ$6)*((LN($CQ$1-A15))-$CQ$9)/($CQ$10-$CQ$9)) -> 134.99556 | CR15: =EXP($CR$6+($CR$7-$CR$6)*((LN($CR$1-A15))-$CR$9)/($CR$10-$CR$9)) -> 123.94238 | CS15: =EXP($CS$6+($CS$7-$CS$6)*((LN($CS$1-A15))-$CS$9)/($CS$10-$CS$9)) -> 115.5872 | CT15: =EXP($CT$6+($CT$7-$CT$6)*((LN($CT$1-A15))-$CT$9)/($CT$10-$CT$9)) -> 108.96434 | CU15: =EXP($CU$6+($CU$7-$CU$6)*((LN($CU$1-A15))-$CU$9)/($CU$10-$CU$9)) -> 103.5351 | CV15: =EXP($CV$6+($CV$7-$CV$6)*((LN($CV$1-A15))-$CV$9)/($CV$10-$CV$9)) -> 98.971298 | CW15: =EXP($CW$6+($CW$7-$CW$6)*((LN($CW$1-A15))-$CW$9)/($CW$10-$CW$9)) -> 95.059667 | CX15: =EXP($CX$6+($CX$7-$CX$6)*((LN($CX$1-A15))-$CX$9)/($CX$10-$CX$9)) -> 46.349578 | CY15: =EXP($CY$6+($CY$7-$CY$6)*((LN($CY$1-A15))-$CY$9)/($CY$10-$CY$9)) -> 30.447004 | CZ15: =EXP($CZ$6+($CZ$7-$CZ$6)*((LN($CZ$1-A15))-$CZ$9)/($CZ$10-$CZ$9)) -> 19.599239 | DA15: =EXP($DA$6+($DA$7-$DA$6)*((LN($DA$1-A15))-$DA$9)/($DA$10-$DA$9)) -> 13.926503 | DB15: =EXP($DB$6+($DB$7-$DB$6)*((LN($DB$1-A15))-$DB$9)/($DB$10-$DB$9)) -> 10.534012 | DC15: =EXP($DC$6+($DC$7-$DC$6)*((LN($DC$1-A15))-$DC$9)/($DC$10-$DC$9)) -> 8.3191782 | DD15: =EXP($DD$6+($DD$7-$DD$6)*((LN($DD$1-A15))-$DD$9)/($DD$10-$DD$9)) -> 6.7807802 | DE15: =EXP($DE$6+($DE$7-$DE$6)*((LN($DE$1-A15))-$DE$9)/($DE$10-$DE$9)) -> 5.6617684 | DF15: =EXP($DF$6+($DF$7-$DF$6)*((LN($DF$1-A15))-$DF$9)/($DF$10-$DF$9)) -> 4.8182116
A16: 3 | CC16: 3 | CD16: =EXP($CD$6+($CD$7-$CD$6)*((LN($CD$1-A16))-$CD$9)/($CD$10-$CD$9)) -> 900.45534 | CE16: =EXP($CE$6+($CE$7-$CE$6)*((LN($CE$1-A16))-$CE$9)/($CE$10-$CE$9)) -> 872.32067 | CF16: =EXP($CF$6+($CF$7-$CF$6)*((LN($CF$1-A16))-$CF$9)/($CF$10-$CF$9)) -> 562.01151 | CG16: =EXP($CG$6+($CG$7-$CG$6)*((LN($CG$1-A16))-$CG$9)/($CG$10-$CG$9)) -> 432.99127 | CH16: =EXP($CH$6+($CH$7-$CH$6)*((LN($CH$1-A16))-$CH$9)/($CH$10-$CH$9)) -> 388.29219 | CI16: =EXP($CI$6+($CI$7-$CI$6)*((LN($CI$1-A16))-$CI$9)/($CI$10-$CI$9)) -> 357.63187 | CJ16: =EXP($CJ$6+($CJ$7-$CJ$6)*((LN($CJ$1-A16))-$CJ$9)/($CJ$10-$CJ$9)) -> 334.41455 | CK16: =EXP($CK$6+($CK$7-$CK$6)*((LN($CK$1-A16))-$CK$9)/($CK$10-$CK$9)) -> 315.97985 | CL16: =EXP($CL$6+($CL$7-$CL$6)*((LN($CL$1-A16))-$CL$9)/($CL$10-$CL$9)) -> 300.84368 | CM16: =EXP($CM$6+($CM$7-$CM$6)*((LN($CM$1-A16))-$CM$9)/($CM$10-$CM$9)) -> 288.10155 | CN16: =EXP($CN$6+($CN$7-$CN$6)*((LN($CN$1-A16))-$CN$9)/($CN$10-$CN$9)) -> 277.16534 | CO16: =EXP($CO$6+($CO$7-$CO$6)*((LN($CO$1-A16))-$CO$9)/($CO$10-$CO$9)) -> 188.76442 | CP16: =EXP($CP$6+($CP$7-$CP$6)*((LN($CP$1-A16))-$CP$9)/($CP$10-$CP$9)) -> 150.6762 | CQ16: =EXP($CQ$6+($CQ$7-$CQ$6)*((LN($CQ$1-A16))-$CQ$9)/($CQ$10-$CQ$9)) -> 135.00848 | CR16: =EXP($CR$6+($CR$7-$CR$6)*((LN($CR$1-A16))-$CR$9)/($CR$10-$CR$9)) -> 123.95188 | CS16: =EXP($CS$6+($CS$7-$CS$6)*((LN($CS$1-A16))-$CS$9)/($CS$10-$CS$9)) -> 115.59458 | CT16: =EXP($CT$6+($CT$7-$CT$6)*((LN($CT$1-A16))-$CT$9)/($CT$10-$CT$9)) -> 108.9703 | CU16: =EXP($CU$6+($CU$7-$CU$6)*((LN($CU$1-A16))-$CU$9)/($CU$10-$CU$9)) -> 103.54005 | CV16: =EXP($CV$6+($CV$7-$CV$6)*((LN($CV$1-A16))-$CV$9)/($CV$10-$CV$9)) -> 98.975507 | CW16: =EXP($CW$6+($CW$7-$CW$6)*((LN($CW$1-A16))-$CW$9)/($CW$10-$CW$9)) -> 95.063305 | CX16: =EXP($CX$6+($CX$7-$CX$6)*((LN($CX$1-A16))-$CX$9)/($CX$10-$CX$9)) -> 46.351981 | CY16: =EXP($CY$6+($CY$7-$CY$6)*((LN($CY$1-A16))-$CY$9)/($CY$10-$CY$9)) -> 30.448055 | CZ16: =EXP($CZ$6+($CZ$7-$CZ$6)*((LN($CZ$1-A16))-$CZ$9)/($CZ$10-$CZ$9)) -> 19.599989 | DA16: =EXP($DA$6+($DA$7-$DA$6)*((LN($DA$1-A16))-$DA$9)/($DA$10-$DA$9)) -> 13.92693 | DB16: =EXP($DB$6+($DB$7-$DB$6)*((LN($DB$1-A16))-$DB$9)/($DB$10-$DB$9)) -> 10.534281 | DC16: =EXP($DC$6+($DC$7-$DC$6)*((LN($DC$1-A16))-$DC$9)/($DC$10-$DC$9)) -> 8.3193602 | DD16: =EXP($DD$6+($DD$7-$DD$6)*((LN($DD$1-A16))-$DD$9)/($DD$10-$DD$9)) -> 6.78091 | DE16: =EXP($DE$6+($DE$7-$DE$6)*((LN($DE$1-A16))-$DE$9)/($DE$10-$DE$9)) -> 5.6618647 | DF16: =EXP($DF$6+($DF$7-$DF$6)*((LN($DF$1-A16))-$DF$9)/($DF$10-$DF$9)) -> 4.8182854
A17: 4 | CC17: 4 | CD17: =EXP($CD$6+($CD$7-$CD$6)*((LN($CD$1-A17))-$CD$9)/($CD$10-$CD$9)) -> 903.4976 | CE17: =EXP($CE$6+($CE$7-$CE$6)*((LN($CE$1-A17))-$CE$9)/($CE$10-$CE$9)) -> 874.962 | CF17: =EXP($CF$6+($CF$7-$CF$6)*((LN($CF$1-A17))-$CF$9)/($CF$10-$CF$9)) -> 563.83146 | CG17: =EXP($CG$6+($CG$7-$CG$6)*((LN($CG$1-A17))-$CG$9)/($CG$10-$CG$9)) -> 433.92 | CH17: =EXP($CH$6+($CH$7-$CH$6)*((LN($CH$1-A17))-$CH$9)/($CH$10-$CH$9)) -> 388.65091 | CI17: =EXP($CI$6+($CI$7-$CI$6)*((LN($CI$1-A17))-$CI$9)/($CI$10-$CI$9)) -> 357.8957 | CJ17: =EXP($CJ$6+($CJ$7-$CJ$6)*((LN($CJ$1-A17))-$CJ$9)/($CJ$10-$CJ$9)) -> 334.61988 | CK17: =EXP($CK$6+($CK$7-$CK$6)*((LN($CK$1-A17))-$CK$9)/($CK$10-$CK$9)) -> 316.146 | CL17: =EXP($CL$6+($CL$7-$CL$6)*((LN($CL$1-A17))-$CL$9)/($CL$10-$CL$9)) -> 300.982 | CM17: =EXP($CM$6+($CM$7-$CM$6)*((LN($CM$1-A17))-$CM$9)/($CM$10-$CM$9)) -> 288.21923 | CN17: =EXP($CN$6+($CN$7-$CN$6)*((LN($CN$1-A17))-$CN$9)/($CN$10-$CN$9)) -> 277.2672 | CO17: =EXP($CO$6+($CO$7-$CO$6)*((LN($CO$1-A17))-$CO$9)/($CO$10-$CO$9)) -> 188.81678 | CP17: =EXP($CP$6+($CP$7-$CP$6)*((LN($CP$1-A17))-$CP$9)/($CP$10-$CP$9)) -> 150.6762 | CQ17: =EXP($CQ$6+($CQ$7-$CQ$6)*((LN($CQ$1-A17))-$CQ$9)/($CQ$10-$CQ$9)) -> 135.02141 | CR17: =EXP($CR$6+($CR$7-$CR$6)*((LN($CR$1-A17))-$CR$9)/($CR$10-$CR$9)) -> 123.96137 | CS17: =EXP($CS$6+($CS$7-$CS$6)*((LN($CS$1-A17))-$CS$9)/($CS$10-$CS$9)) -> 115.60195 | CT17: =EXP($CT$6+($CT$7-$CT$6)*((LN($CT$1-A17))-$CT$9)/($CT$10-$CT$9)) -> 108.97626 | CU17: =EXP($CU$6+($CU$7-$CU$6)*((LN($CU$1-A17))-$CU$9)/($CU$10-$CU$9)) -> 103.54501 | CV17: =EXP($CV$6+($CV$7-$CV$6)*((LN($CV$1-A17))-$CV$9)/($CV$10-$CV$9)) -> 98.979717 | CW17: =EXP($CW$6+($CW$7-$CW$6)*((LN($CW$1-A17))-$CW$9)/($CW$10-$CW$9)) -> 95.066944 | CX17: =EXP($CX$6+($CX$7-$CX$6)*((LN($CX$1-A17))-$CX$9)/($CX$10-$CX$9)) -> 46.354383 | CY17: =EXP($CY$6+($CY$7-$CY$6)*((LN($CY$1-A17))-$CY$9)/($CY$10-$CY$9)) -> 30.449107 | CZ17: =EXP($CZ$6+($CZ$7-$CZ$6)*((LN($CZ$1-A17))-$CZ$9)/($CZ$10-$CZ$9)) -> 19.60074 | DA17: =EXP($DA$6+($DA$7-$DA$6)*((LN($DA$1-A17))-$DA$9)/($DA$10-$DA$9)) -> 13.927356 | DB17: =EXP($DB$6+($DB$7-$DB$6)*((LN($DB$1-A17))-$DB$9)/($DB$10-$DB$9)) -> 10.53455 | DC17: =EXP($DC$6+($DC$7-$DC$6)*((LN($DC$1-A17))-$DC$9)/($DC$10-$DC$9)) -> 8.3195422 | DD17: =EXP($DD$6+($DD$7-$DD$6)*((LN($DD$1-A17))-$DD$9)/($DD$10-$DD$9)) -> 6.7810398 | DE17: =EXP($DE$6+($DE$7-$DE$6)*((LN($DE$1-A17))-$DE$9)/($DE$10-$DE$9)) -> 5.661961 | DF17: =EXP($DF$6+($DF$7-$DF$6)*((LN($DF$1-A17))-$DF$9)/($DF$10-$DF$9)) -> 4.8183592
A18: 5 | CC18: 5 | CD18: =EXP($CD$6+($CD$7-$CD$6)*((LN($CD$1-A18))-$CD$9)/($CD$10-$CD$9)) -> 906.58592 | CE18: =EXP($CE$6+($CE$7-$CE$6)*((LN($CE$1-A18))-$CE$9)/($CE$10-$CE$9)) -> 877.63912 | CF18: =EXP($CF$6+($CF$7-$CF$6)*((LN($CF$1-A18))-$CF$9)/($CF$10-$CF$9)) -> 565.66665 | CG18: =EXP($CG$6+($CG$7-$CG$6)*((LN($CG$1-A18))-$CG$9)/($CG$10-$CG$9)) -> 434.85389 | CH18: =EXP($CH$6+($CH$7-$CH$6)*((LN($CH$1-A18))-$CH$9)/($CH$10-$CH$9)) -> 389.01087 | CI18: =EXP($CI$6+($CI$7-$CI$6)*((LN($CI$1-A18))-$CI$9)/($CI$10-$CI$9)) -> 358.16025 | CJ18: =EXP($CJ$6+($CJ$7-$CJ$6)*((LN($CJ$1-A18))-$CJ$9)/($CJ$10-$CJ$9)) -> 334.82568 | CK18: =EXP($CK$6+($CK$7-$CK$6)*((LN($CK$1-A18))-$CK$9)/($CK$10-$CK$9)) -> 316.31247 | CL18: =EXP($CL$6+($CL$7-$CL$6)*((LN($CL$1-A18))-$CL$9)/($CL$10-$CL$9)) -> 301.12056 | CM18: =EXP($CM$6+($CM$7-$CM$6)*((LN($CM$1-A18))-$CM$9)/($CM$10-$CM$9)) -> 288.3371 | CN18: =EXP($CN$6+($CN$7-$CN$6)*((LN($CN$1-A18))-$CN$9)/($CN$10-$CN$9)) -> 277.36919 | CO18: =EXP($CO$6+($CO$7-$CO$6)*((LN($CO$1-A18))-$CO$9)/($CO$10-$CO$9)) -> 188.86919 | CP18: =EXP($CP$6+($CP$7-$CP$6)*((LN($CP$1-A18))-$CP$9)/($CP$10-$CP$9)) -> 150.6762 | CQ18: =EXP($CQ$6+($CQ$7-$CQ$6)*((LN($CQ$1-A18))-$CQ$9)/($CQ$10-$CQ$9)) -> 135.03434 | CR18: =EXP($CR$6+($CR$7-$CR$6)*((LN($CR$1-A18))-$CR$9)/($CR$10-$CR$9)) -> 123.97086 | CS18: =EXP($CS$6+($CS$7-$CS$6)*((LN($CS$1-A18))-$CS$9)/($CS$10-$CS$9)) -> 115.60933 | CT18: =EXP($CT$6+($CT$7-$CT$6)*((LN($CT$1-A18))-$CT$9)/($CT$10-$CT$9)) -> 108.98222 | CU18: =EXP($CU$6+($CU$7-$CU$6)*((LN($CU$1-A18))-$CU$9)/($CU$10-$CU$9)) -> 103.54996 | CV18: =EXP($CV$6+($CV$7-$CV$6)*((LN($CV$1-A18))-$CV$9)/($CV$10-$CV$9)) -> 98.983928 | CW18: =EXP($CW$6+($CW$7-$CW$6)*((LN($CW$1-A18))-$CW$9)/($CW$10-$CW$9)) -> 95.070584 | CX18: =EXP($CX$6+($CX$7-$CX$6)*((LN($CX$1-A18))-$CX$9)/($CX$10-$CX$9)) -> 46.356785 | CY18: =EXP($CY$6+($CY$7-$CY$6)*((LN($CY$1-A18))-$CY$9)/($CY$10-$CY$9)) -> 30.450159 | CZ18: =EXP($CZ$6+($CZ$7-$CZ$6)*((LN($CZ$1-A18))-$CZ$9)/($CZ$10-$CZ$9)) -> 19.60149 | DA18: =EXP($DA$6+($DA$7-$DA$6)*((LN($DA$1-A18))-$DA$9)/($DA$10-$DA$9)) -> 13.927783 | DB18: =EXP($DB$6+($DB$7-$DB$6)*((LN($DB$1-A18))-$DB$9)/($DB$10-$DB$9)) -> 10.534818 | DC18: =EXP($DC$6+($DC$7-$DC$6)*((LN($DC$1-A18))-$DC$9)/($DC$10-$DC$9)) -> 8.3197242 | DD18: =EXP($DD$6+($DD$7-$DD$6)*((LN($DD$1-A18))-$DD$9)/($DD$10-$DD$9)) -> 6.7811696 | DE18: =EXP($DE$6+($DE$7-$DE$6)*((LN($DE$1-A18))-$DE$9)/($DE$10-$DE$9)) -> 5.6620574 | DF18: =EXP($DF$6+($DF$7-$DF$6)*((LN($DF$1-A18))-$DF$9)/($DF$10-$DF$9)) -> 4.818433
A19: 6 | CC19: 6 | CD19: =EXP($CD$6+($CD$7-$CD$6)*((LN($CD$1-A19))-$CD$9)/($CD$10-$CD$9)) -> 909.72152 | CE19: =EXP($CE$6+($CE$7-$CE$6)*((LN($CE$1-A19))-$CE$9)/($CE$10-$CE$9)) -> 880.35289 | CF19: =EXP($CF$6+($CF$7-$CF$6)*((LN($CF$1-A19))-$CF$9)/($CF$10-$CF$9)) -> 567.5173 | CG19: =EXP($CG$6+($CG$7-$CG$6)*((LN($CG$1-A19))-$CG$9)/($CG$10-$CG$9)) -> 435.79296 | CH19: =EXP($CH$6+($CH$7-$CH$6)*((LN($CH$1-A19))-$CH$9)/($CH$10-$CH$9)) -> 389.37208 | CI19: =EXP($CI$6+($CI$7-$CI$6)*((LN($CI$1-A19))-$CI$9)/($CI$10-$CI$9)) -> 358.42554 | CJ19: =EXP($CJ$6+($CJ$7-$CJ$6)*((LN($CJ$1-A19))-$CJ$9)/($CJ$10-$CJ$9)) -> 335.03196 | CK19: =EXP($CK$6+($CK$7-$CK$6)*((LN($CK$1-A19))-$CK$9)/($CK$10-$CK$9)) -> 316.47928 | CL19: =EXP($CL$6+($CL$7-$CL$6)*((LN($CL$1-A19))-$CL$9)/($CL$10-$CL$9)) -> 301.25936 | CM19: =EXP($CM$6+($CM$7-$CM$6)*((LN($CM$1-A19))-$CM$9)/($CM$10-$CM$9)) -> 288.45514 | CN19: =EXP($CN$6+($CN$7-$CN$6)*((LN($CN$1-A19))-$CN$9)/($CN$10-$CN$9)) -> 277.47133 | CO19: =EXP($CO$6+($CO$7-$CO$6)*((LN($CO$1-A19))-$CO$9)/($CO$10-$CO$9)) -> 188.92164 | CP19: =EXP($CP$6+($CP$7-$CP$6)*((LN($CP$1-A19))-$CP$9)/($CP$10-$CP$9)) -> 150.6762 | CQ19: =EXP($CQ$6+($CQ$7-$CQ$6)*((LN($CQ$1-A19))-$CQ$9)/($CQ$10-$CQ$9)) -> 135.04727 | CR19: =EXP($CR$6+($CR$7-$CR$6)*((LN($CR$1-A19))-$CR$9)/($CR$10-$CR$9)) -> 123.98036 | CS19: =EXP($CS$6+($CS$7-$CS$6)*((LN($CS$1-A19))-$CS$9)/($CS$10-$CS$9)) -> 115.61671 | CT19: =EXP($CT$6+($CT$7-$CT$6)*((LN($CT$1-A19))-$CT$9)/($CT$10-$CT$9)) -> 108.98818 | CU19: =EXP($CU$6+($CU$7-$CU$6)*((LN($CU$1-A19))-$CU$9)/($CU$10-$CU$9)) -> 103.55492 | CV19: =EXP($CV$6+($CV$7-$CV$6)*((LN($CV$1-A19))-$CV$9)/($CV$10-$CV$9)) -> 98.988139 | CW19: =EXP($CW$6+($CW$7-$CW$6)*((LN($CW$1-A19))-$CW$9)/($CW$10-$CW$9)) -> 95.074224 | CX19: =EXP($CX$6+($CX$7-$CX$6)*((LN($CX$1-A19))-$CX$9)/($CX$10-$CX$9)) -> 46.359188 | CY19: =EXP($CY$6+($CY$7-$CY$6)*((LN($CY$1-A19))-$CY$9)/($CY$10-$CY$9)) -> 30.451211 | CZ19: =EXP($CZ$6+($CZ$7-$CZ$6)*((LN($CZ$1-A19))-$CZ$9)/($CZ$10-$CZ$9)) -> 19.602241 | DA19: =EXP($DA$6+($DA$7-$DA$6)*((LN($DA$1-A19))-$DA$9)/($DA$10-$DA$9)) -> 13.928209 | DB19: =EXP($DB$6+($DB$7-$DB$6)*((LN($DB$1-A19))-$DB$9)/($DB$10-$DB$9)) -> 10.535087 | DC19: =EXP($DC$6+($DC$7-$DC$6)*((LN($DC$1-A19))-$DC$9)/($DC$10-$DC$9)) -> 8.3199062 | DD19: =EXP($DD$6+($DD$7-$DD$6)*((LN($DD$1-A19))-$DD$9)/($DD$10-$DD$9)) -> 6.7812994 | DE19: =EXP($DE$6+($DE$7-$DE$6)*((LN($DE$1-A19))-$DE$9)/($DE$10-$DE$9)) -> 5.6621537 | DF19: =EXP($DF$6+($DF$7-$DF$6)*((LN($DF$1-A19))-$DF$9)/($DF$10-$DF$9)) -> 4.8185067
A20: 7 | CC20: 7 | CD20: =EXP($CD$6+($CD$7-$CD$6)*((LN($CD$1-A20))-$CD$9)/($CD$10-$CD$9)) -> 912.90572 | CE20: =EXP($CE$6+($CE$7-$CE$6)*((LN($CE$1-A20))-$CE$9)/($CE$10-$CE$9)) -> 883.10421 | CF20: =EXP($CF$6+($CF$7-$CF$6)*((LN($CF$1-A20))-$CF$9)/($CF$10-$CF$9)) -> 569.38361 | CG20: =EXP($CG$6+($CG$7-$CG$6)*((LN($CG$1-A20))-$CG$9)/($CG$10-$CG$9)) -> 436.73727 | CH20: =EXP($CH$6+($CH$7-$CH$6)*((LN($CH$1-A20))-$CH$9)/($CH$10-$CH$9)) -> 389.73455 | CI20: =EXP($CI$6+($CI$7-$CI$6)*((LN($CI$1-A20))-$CI$9)/($CI$10-$CI$9)) -> 358.69156 | CJ20: =EXP($CJ$6+($CJ$7-$CJ$6)*((LN($CJ$1-A20))-$CJ$9)/($CJ$10-$CJ$9)) -> 335.23871 | CK20: =EXP($CK$6+($CK$7-$CK$6)*((LN($CK$1-A20))-$CK$9)/($CK$10-$CK$9)) -> 316.64641 | CL20: =EXP($CL$6+($CL$7-$CL$6)*((LN($CL$1-A20))-$CL$9)/($CL$10-$CL$9)) -> 301.3984 | CM20: =EXP($CM$6+($CM$7-$CM$6)*((LN($CM$1-A20))-$CM$9)/($CM$10-$CM$9)) -> 288.57337 | CN20: =EXP($CN$6+($CN$7-$CN$6)*((LN($CN$1-A20))-$CN$9)/($CN$10-$CN$9)) -> 277.5736 | CO20: =EXP($CO$6+($CO$7-$CO$6)*((LN($CO$1-A20))-$CO$9)/($CO$10-$CO$9)) -> 188.97412 | CP20: =EXP($CP$6+($CP$7-$CP$6)*((LN($CP$1-A20))-$CP$9)/($CP$10-$CP$9)) -> 150.6762 | CQ20: =EXP($CQ$6+($CQ$7-$CQ$6)*((LN($CQ$1-A20))-$CQ$9)/($CQ$10-$CQ$9)) -> 135.06022 | CR20: =EXP($CR$6+($CR$7-$CR$6)*((LN($CR$1-A20))-$CR$9)/($CR$10-$CR$9)) -> 123.98986 | CS20: =EXP($CS$6+($CS$7-$CS$6)*((LN($CS$1-A20))-$CS$9)/($CS$10-$CS$9)) -> 115.62409 | CT20: =EXP($CT$6+($CT$7-$CT$6)*((LN($CT$1-A20))-$CT$9)/($CT$10-$CT$9)) -> 108.99414 | CU20: =EXP($CU$6+($CU$7-$CU$6)*((LN($CU$1-A20))-$CU$9)/($CU$10-$CU$9)) -> 103.55988 | CV20: =EXP($CV$6+($CV$7-$CV$6)*((LN($CV$1-A20))-$CV$9)/($CV$10-$CV$9)) -> 98.992351 | CW20: =EXP($CW$6+($CW$7-$CW$6)*((LN($CW$1-A20))-$CW$9)/($CW$10-$CW$9)) -> 95.077864 | CX20: =EXP($CX$6+($CX$7-$CX$6)*((LN($CX$1-A20))-$CX$9)/($CX$10-$CX$9)) -> 46.361591 | CY20: =EXP($CY$6+($CY$7-$CY$6)*((LN($CY$1-A20))-$CY$9)/($CY$10-$CY$9)) -> 30.452264 | CZ20: =EXP($CZ$6+($CZ$7-$CZ$6)*((LN($CZ$1-A20))-$CZ$9)/($CZ$10-$CZ$9)) -> 19.602991 | DA20: =EXP($DA$6+($DA$7-$DA$6)*((LN($DA$1-A20))-$DA$9)/($DA$10-$DA$9)) -> 13.928636 | DB20: =EXP($DB$6+($DB$7-$DB$6)*((LN($DB$1-A20))-$DB$9)/($DB$10-$DB$9)) -> 10.535356 | DC20: =EXP($DC$6+($DC$7-$DC$6)*((LN($DC$1-A20))-$DC$9)/($DC$10-$DC$9)) -> 8.3200882 | DD20: =EXP($DD$6+($DD$7-$DD$6)*((LN($DD$1-A20))-$DD$9)/($DD$10-$DD$9)) -> 6.7814292 | DE20: =EXP($DE$6+($DE$7-$DE$6)*((LN($DE$1-A20))-$DE$9)/($DE$10-$DE$9)) -> 5.66225 | DF20: =EXP($DF$6+($DF$7-$DF$6)*((LN($DF$1-A20))-$DF$9)/($DF$10-$DF$9)) -> 4.8185805
A21: 8 | CC21: 8 | CD21: =EXP($CD$6+($CD$7-$CD$6)*((LN($CD$1-A21))-$CD$9)/($CD$10-$CD$9)) -> 916.13986 | CE21: =EXP($CE$6+($CE$7-$CE$6)*((LN($CE$1-A21))-$CE$9)/($CE$10-$CE$9)) -> 885.89401 | CF21: =EXP($CF$6+($CF$7-$CF$6)*((LN($CF$1-A21))-$CF$9)/($CF$10-$CF$9)) -> 571.2658 | CG21: =EXP($CG$6+($CG$7-$CG$6)*((LN($CG$1-A21))-$CG$9)/($CG$10-$CG$9)) -> 437.68687 | CH21: =EXP($CH$6+($CH$7-$CH$6)*((LN($CH$1-A21))-$CH$9)/($CH$10-$CH$9)) -> 390.09827 | CI21: =EXP($CI$6+($CI$7-$CI$6)*((LN($CI$1-A21))-$CI$9)/($CI$10-$CI$9)) -> 358.95832 | CJ21: =EXP($CJ$6+($CJ$7-$CJ$6)*((LN($CJ$1-A21))-$CJ$9)/($CJ$10-$CJ$9)) -> 335.44593 | CK21: =EXP($CK$6+($CK$7-$CK$6)*((LN($CK$1-A21))-$CK$9)/($CK$10-$CK$9)) -> 316.81387 | CL21: =EXP($CL$6+($CL$7-$CL$6)*((LN($CL$1-A21))-$CL$9)/($CL$10-$CL$9)) -> 301.53768 | CM21: =EXP($CM$6+($CM$7-$CM$6)*((LN($CM$1-A21))-$CM$9)/($CM$10-$CM$9)) -> 288.69178 | CN21: =EXP($CN$6+($CN$7-$CN$6)*((LN($CN$1-A21))-$CN$9)/($CN$10-$CN$9)) -> 277.67602 | CO21: =EXP($CO$6+($CO$7-$CO$6)*((LN($CO$1-A21))-$CO$9)/($CO$10-$CO$9)) -> 189.02665 | CP21: =EXP($CP$6+($CP$7-$CP$6)*((LN($CP$1-A21))-$CP$9)/($CP$10-$CP$9)) -> 150.6762 | CQ21: =EXP($CQ$6+($CQ$7-$CQ$6)*((LN($CQ$1-A21))-$CQ$9)/($CQ$10-$CQ$9)) -> 135.07316 | CR21: =EXP($CR$6+($CR$7-$CR$6)*((LN($CR$1-A21))-$CR$9)/($CR$10-$CR$9)) -> 123.99937 | CS21: =EXP($CS$6+($CS$7-$CS$6)*((LN($CS$1-A21))-$CS$9)/($CS$10-$CS$9)) -> 115.63148 | CT21: =EXP($CT$6+($CT$7-$CT$6)*((LN($CT$1-A21))-$CT$9)/($CT$10-$CT$9)) -> 109.00011 | CU21: =EXP($CU$6+($CU$7-$CU$6)*((LN($CU$1-A21))-$CU$9)/($CU$10-$CU$9)) -> 103.56483 | CV21: =EXP($CV$6+($CV$7-$CV$6)*((LN($CV$1-A21))-$CV$9)/($CV$10-$CV$9)) -> 98.996563 | CW21: =EXP($CW$6+($CW$7-$CW$6)*((LN($CW$1-A21))-$CW$9)/($CW$10-$CW$9)) -> 95.081505 | CX21: =EXP($CX$6+($CX$7-$CX$6)*((LN($CX$1-A21))-$CX$9)/($CX$10-$CX$9)) -> 46.363994 | CY21: =EXP($CY$6+($CY$7-$CY$6)*((LN($CY$1-A21))-$CY$9)/($CY$10-$CY$9)) -> 30.453316 | CZ21: =EXP($CZ$6+($CZ$7-$CZ$6)*((LN($CZ$1-A21))-$CZ$9)/($CZ$10-$CZ$9)) -> 19.603742 | DA21: =EXP($DA$6+($DA$7-$DA$6)*((LN($DA$1-A21))-$DA$9)/($DA$10-$DA$9)) -> 13.929063 | DB21: =EXP($DB$6+($DB$7-$DB$6)*((LN($DB$1-A21))-$DB$9)/($DB$10-$DB$9)) -> 10.535625 | DC21: =EXP($DC$6+($DC$7-$DC$6)*((LN($DC$1-A21))-$DC$9)/($DC$10-$DC$9)) -> 8.3202702 | DD21: =EXP($DD$6+($DD$7-$DD$6)*((LN($DD$1-A21))-$DD$9)/($DD$10-$DD$9)) -> 6.781559 | DE21: =EXP($DE$6+($DE$7-$DE$6)*((LN($DE$1-A21))-$DE$9)/($DE$10-$DE$9)) -> 5.6623464 | DF21: =EXP($DF$6+($DF$7-$DF$6)*((LN($DF$1-A21))-$DF$9)/($DF$10-$DF$9)) -> 4.8186543
A22: 9 | CC22: 9 | CD22: =EXP($CD$6+($CD$7-$CD$6)*((LN($CD$1-A22))-$CD$9)/($CD$10-$CD$9)) -> 919.42536 | CE22: =EXP($CE$6+($CE$7-$CE$6)*((LN($CE$1-A22))-$CE$9)/($CE$10-$CE$9)) -> 888.72327 | CF22: =EXP($CF$6+($CF$7-$CF$6)*((LN($CF$1-A22))-$CF$9)/($CF$10-$CF$9)) -> 573.1641 | CG22: =EXP($CG$6+($CG$7-$CG$6)*((LN($CG$1-A22))-$CG$9)/($CG$10-$CG$9)) -> 438.64179 | CH22: =EXP($CH$6+($CH$7-$CH$6)*((LN($CH$1-A22))-$CH$9)/($CH$10-$CH$9)) -> 390.46327 | CI22: =EXP($CI$6+($CI$7-$CI$6)*((LN($CI$1-A22))-$CI$9)/($CI$10-$CI$9)) -> 359.22582 | CJ22: =EXP($CJ$6+($CJ$7-$CJ$6)*((LN($CJ$1-A22))-$CJ$9)/($CJ$10-$CJ$9)) -> 335.65364 | CK22: =EXP($CK$6+($CK$7-$CK$6)*((LN($CK$1-A22))-$CK$9)/($CK$10-$CK$9)) -> 316.98166 | CL22: =EXP($CL$6+($CL$7-$CL$6)*((LN($CL$1-A22))-$CL$9)/($CL$10-$CL$9)) -> 301.6772 | CM22: =EXP($CM$6+($CM$7-$CM$6)*((LN($CM$1-A22))-$CM$9)/($CM$10-$CM$9)) -> 288.81037 | CN22: =EXP($CN$6+($CN$7-$CN$6)*((LN($CN$1-A22))-$CN$9)/($CN$10-$CN$9)) -> 277.77858 | CO22: =EXP($CO$6+($CO$7-$CO$6)*((LN($CO$1-A22))-$CO$9)/($CO$10-$CO$9)) -> 189.07922 | CP22: =EXP($CP$6+($CP$7-$CP$6)*((LN($CP$1-A22))-$CP$9)/($CP$10-$CP$9)) -> 150.6762 | CQ22: =EXP($CQ$6+($CQ$7-$CQ$6)*((LN($CQ$1-A22))-$CQ$9)/($CQ$10-$CQ$9)) -> 135.08611 | CR22: =EXP($CR$6+($CR$7-$CR$6)*((LN($CR$1-A22))-$CR$9)/($CR$10-$CR$9)) -> 124.00887 | CS22: =EXP($CS$6+($CS$7-$CS$6)*((LN($CS$1-A22))-$CS$9)/($CS$10-$CS$9)) -> 115.63886 | CT22: =EXP($CT$6+($CT$7-$CT$6)*((LN($CT$1-A22))-$CT$9)/($CT$10-$CT$9)) -> 109.00607 | CU22: =EXP($CU$6+($CU$7-$CU$6)*((LN($CU$1-A22))-$CU$9)/($CU$10-$CU$9)) -> 103.56979 | CV22: =EXP($CV$6+($CV$7-$CV$6)*((LN($CV$1-A22))-$CV$9)/($CV$10-$CV$9)) -> 99.000776 | CW22: =EXP($CW$6+($CW$7-$CW$6)*((LN($CW$1-A22))-$CW$9)/($CW$10-$CW$9)) -> 95.085147 | CX22: =EXP($CX$6+($CX$7-$CX$6)*((LN($CX$1-A22))-$CX$9)/($CX$10-$CX$9)) -> 46.366398 | CY22: =EXP($CY$6+($CY$7-$CY$6)*((LN($CY$1-A22))-$CY$9)/($CY$10-$CY$9)) -> 30.454368 | CZ22: =EXP($CZ$6+($CZ$7-$CZ$6)*((LN($CZ$1-A22))-$CZ$9)/($CZ$10-$CZ$9)) -> 19.604492 | DA22: =EXP($DA$6+($DA$7-$DA$6)*((LN($DA$1-A22))-$DA$9)/($DA$10-$DA$9)) -> 13.929489 | DB22: =EXP($DB$6+($DB$7-$DB$6)*((LN($DB$1-A22))-$DB$9)/($DB$10-$DB$9)) -> 10.535894 | DC22: =EXP($DC$6+($DC$7-$DC$6)*((LN($DC$1-A22))-$DC$9)/($DC$10-$DC$9)) -> 8.3204523 | DD22: =EXP($DD$6+($DD$7-$DD$6)*((LN($DD$1-A22))-$DD$9)/($DD$10-$DD$9)) -> 6.7816889 | DE22: =EXP($DE$6+($DE$7-$DE$6)*((LN($DE$1-A22))-$DE$9)/($DE$10-$DE$9)) -> 5.6624427 | DF22: =EXP($DF$6+($DF$7-$DF$6)*((LN($DF$1-A22))-$DF$9)/($DF$10-$DF$9)) -> 4.8187281
A23: 10 | CC23: 10 | CD23: =EXP($CD$6+($CD$7-$CD$6)*((LN($CD$1-A23))-$CD$9)/($CD$10-$CD$9)) -> 922.76368 | CE23: =EXP($CE$6+($CE$7-$CE$6)*((LN($CE$1-A23))-$CE$9)/($CE$10-$CE$9)) -> 891.59297 | CF23: =EXP($CF$6+($CF$7-$CF$6)*((LN($CF$1-A23))-$CF$9)/($CF$10-$CF$9)) -> 575.07871 | CG23: =EXP($CG$6+($CG$7-$CG$6)*((LN($CG$1-A23))-$CG$9)/($CG$10-$CG$9)) -> 439.6021 | CH23: =EXP($CH$6+($CH$7-$CH$6)*((LN($CH$1-A23))-$CH$9)/($CH$10-$CH$9)) -> 390.82955 | CI23: =EXP($CI$6+($CI$7-$CI$6)*((LN($CI$1-A23))-$CI$9)/($CI$10-$CI$9)) -> 359.49407 | CJ23: =EXP($CJ$6+($CJ$7-$CJ$6)*((LN($CJ$1-A23))-$CJ$9)/($CJ$10-$CJ$9)) -> 335.86182 | CK23: =EXP($CK$6+($CK$7-$CK$6)*((LN($CK$1-A23))-$CK$9)/($CK$10-$CK$9)) -> 317.14978 | CL23: =EXP($CL$6+($CL$7-$CL$6)*((LN($CL$1-A23))-$CL$9)/($CL$10-$CL$9)) -> 301.81696 | CM23: =EXP($CM$6+($CM$7-$CM$6)*((LN($CM$1-A23))-$CM$9)/($CM$10-$CM$9)) -> 288.92914 | CN23: =EXP($CN$6+($CN$7-$CN$6)*((LN($CN$1-A23))-$CN$9)/($CN$10-$CN$9)) -> 277.88128 | CO23: =EXP($CO$6+($CO$7-$CO$6)*((LN($CO$1-A23))-$CO$9)/($CO$10-$CO$9)) -> 189.13183 | CP23: =EXP($CP$6+($CP$7-$CP$6)*((LN($CP$1-A23))-$CP$9)/($CP$10-$CP$9)) -> 150.6762 | CQ23: =EXP($CQ$6+($CQ$7-$CQ$6)*((LN($CQ$1-A23))-$CQ$9)/($CQ$10-$CQ$9)) -> 135.09906 | CR23: =EXP($CR$6+($CR$7-$CR$6)*((LN($CR$1-A23))-$CR$9)/($CR$10-$CR$9)) -> 124.01838 | CS23: =EXP($CS$6+($CS$7-$CS$6)*((LN($CS$1-A23))-$CS$9)/($CS$10-$CS$9)) -> 115.64625 | CT23: =EXP($CT$6+($CT$7-$CT$6)*((LN($CT$1-A23))-$CT$9)/($CT$10-$CT$9)) -> 109.01204 | CU23: =EXP($CU$6+($CU$7-$CU$6)*((LN($CU$1-A23))-$CU$9)/($CU$10-$CU$9)) -> 103.57475 | CV23: =EXP($CV$6+($CV$7-$CV$6)*((LN($CV$1-A23))-$CV$9)/($CV$10-$CV$9)) -> 99.00499 | CW23: =EXP($CW$6+($CW$7-$CW$6)*((LN($CW$1-A23))-$CW$9)/($CW$10-$CW$9)) -> 95.088789 | CX23: =EXP($CX$6+($CX$7-$CX$6)*((LN($CX$1-A23))-$CX$9)/($CX$10-$CX$9)) -> 46.368801 | CY23: =EXP($CY$6+($CY$7-$CY$6)*((LN($CY$1-A23))-$CY$9)/($CY$10-$CY$9)) -> 30.45542 | CZ23: =EXP($CZ$6+($CZ$7-$CZ$6)*((LN($CZ$1-A23))-$CZ$9)/($CZ$10-$CZ$9)) -> 19.605243 | DA23: =EXP($DA$6+($DA$7-$DA$6)*((LN($DA$1-A23))-$DA$9)/($DA$10-$DA$9)) -> 13.929916 | DB23: =EXP($DB$6+($DB$7-$DB$6)*((LN($DB$1-A23))-$DB$9)/($DB$10-$DB$9)) -> 10.536163 | DC23: =EXP($DC$6+($DC$7-$DC$6)*((LN($DC$1-A23))-$DC$9)/($DC$10-$DC$9)) -> 8.3206343 | DD23: =EXP($DD$6+($DD$7-$DD$6)*((LN($DD$1-A23))-$DD$9)/($DD$10-$DD$9)) -> 6.7818187 | DE23: =EXP($DE$6+($DE$7-$DE$6)*((LN($DE$1-A23))-$DE$9)/($DE$10-$DE$9)) -> 5.6625391 | DF23: =EXP($DF$6+($DF$7-$DF$6)*((LN($DF$1-A23))-$DF$9)/($DF$10-$DF$9)) -> 4.8188019
A24: 11 | CC24: 11 | CD24: =EXP($CD$6+($CD$7-$CD$6)*((LN($CD$1-A24))-$CD$9)/($CD$10-$CD$9)) -> 926.15634 | CE24: =EXP($CE$6+($CE$7-$CE$6)*((LN($CE$1-A24))-$CE$9)/($CE$10-$CE$9)) -> 894.50415 | CF24: =EXP($CF$6+($CF$7-$CF$6)*((LN($CF$1-A24))-$CF$9)/($CF$10-$CF$9)) -> 577.00988 | CG24: =EXP($CG$6+($CG$7-$CG$6)*((LN($CG$1-A24))-$CG$9)/($CG$10-$CG$9)) -> 440.56785 | CH24: =EXP($CH$6+($CH$7-$CH$6)*((LN($CH$1-A24))-$CH$9)/($CH$10-$CH$9)) -> 391.1971 | CI24: =EXP($CI$6+($CI$7-$CI$6)*((LN($CI$1-A24))-$CI$9)/($CI$10-$CI$9)) -> 359.76306 | CJ24: =EXP($CJ$6+($CJ$7-$CJ$6)*((LN($CJ$1-A24))-$CJ$9)/($CJ$10-$CJ$9)) -> 336.07049 | CK24: =EXP($CK$6+($CK$7-$CK$6)*((LN($CK$1-A24))-$CK$9)/($CK$10-$CK$9)) -> 317.31824 | CL24: =EXP($CL$6+($CL$7-$CL$6)*((LN($CL$1-A24))-$CL$9)/($CL$10-$CL$9)) -> 301.95696 | CM24: =EXP($CM$6+($CM$7-$CM$6)*((LN($CM$1-A24))-$CM$9)/($CM$10-$CM$9)) -> 289.04809 | CN24: =EXP($CN$6+($CN$7-$CN$6)*((LN($CN$1-A24))-$CN$9)/($CN$10-$CN$9)) -> 277.98412 | CO24: =EXP($CO$6+($CO$7-$CO$6)*((LN($CO$1-A24))-$CO$9)/($CO$10-$CO$9)) -> 189.18448 | CP24: =EXP($CP$6+($CP$7-$CP$6)*((LN($CP$1-A24))-$CP$9)/($CP$10-$CP$9)) -> 150.6762 | CQ24: =EXP($CQ$6+($CQ$7-$CQ$6)*((LN($CQ$1-A24))-$CQ$9)/($CQ$10-$CQ$9)) -> 135.11202 | CR24: =EXP($CR$6+($CR$7-$CR$6)*((LN($CR$1-A24))-$CR$9)/($CR$10-$CR$9)) -> 124.02789 | CS24: =EXP($CS$6+($CS$7-$CS$6)*((LN($CS$1-A24))-$CS$9)/($CS$10-$CS$9)) -> 115.65364 | CT24: =EXP($CT$6+($CT$7-$CT$6)*((LN($CT$1-A24))-$CT$9)/($CT$10-$CT$9)) -> 109.01801 | CU24: =EXP($CU$6+($CU$7-$CU$6)*((LN($CU$1-A24))-$CU$9)/($CU$10-$CU$9)) -> 103.57971 | CV24: =EXP($CV$6+($CV$7-$CV$6)*((LN($CV$1-A24))-$CV$9)/($CV$10-$CV$9)) -> 99.009204 | CW24: =EXP($CW$6+($CW$7-$CW$6)*((LN($CW$1-A24))-$CW$9)/($CW$10-$CW$9)) -> 95.092431 | CX24: =EXP($CX$6+($CX$7-$CX$6)*((LN($CX$1-A24))-$CX$9)/($CX$10-$CX$9)) -> 46.371205 | CY24: =EXP($CY$6+($CY$7-$CY$6)*((LN($CY$1-A24))-$CY$9)/($CY$10-$CY$9)) -> 30.456473 | CZ24: =EXP($CZ$6+($CZ$7-$CZ$6)*((LN($CZ$1-A24))-$CZ$9)/($CZ$10-$CZ$9)) -> 19.605994 | DA24: =EXP($DA$6+($DA$7-$DA$6)*((LN($DA$1-A24))-$DA$9)/($DA$10-$DA$9)) -> 13.930343 | DB24: =EXP($DB$6+($DB$7-$DB$6)*((LN($DB$1-A24))-$DB$9)/($DB$10-$DB$9)) -> 10.536432 | DC24: =EXP($DC$6+($DC$7-$DC$6)*((LN($DC$1-A24))-$DC$9)/($DC$10-$DC$9)) -> 8.3208163 | DD24: =EXP($DD$6+($DD$7-$DD$6)*((LN($DD$1-A24))-$DD$9)/($DD$10-$DD$9)) -> 6.7819485 | DE24: =EXP($DE$6+($DE$7-$DE$6)*((LN($DE$1-A24))-$DE$9)/($DE$10-$DE$9)) -> 5.6626354 | DF24: =EXP($DF$6+($DF$7-$DF$6)*((LN($DF$1-A24))-$DF$9)/($DF$10-$DF$9)) -> 4.8188757
A25: 12 | CC25: 12 | CD25: =EXP($CD$6+($CD$7-$CD$6)*((LN($CD$1-A25))-$CD$9)/($CD$10-$CD$9)) -> 929.60493 | CE25: =EXP($CE$6+($CE$7-$CE$6)*((LN($CE$1-A25))-$CE$9)/($CE$10-$CE$9)) -> 897.45791 | CF25: =EXP($CF$6+($CF$7-$CF$6)*((LN($CF$1-A25))-$CF$9)/($CF$10-$CF$9)) -> 578.95783 | CG25: =EXP($CG$6+($CG$7-$CG$6)*((LN($CG$1-A25))-$CG$9)/($CG$10-$CG$9)) -> 441.53907 | CH25: =EXP($CH$6+($CH$7-$CH$6)*((LN($CH$1-A25))-$CH$9)/($CH$10-$CH$9)) -> 391.56596 | CI25: =EXP($CI$6+($CI$7-$CI$6)*((LN($CI$1-A25))-$CI$9)/($CI$10-$CI$9)) -> 360.03281 | CJ25: =EXP($CJ$6+($CJ$7-$CJ$6)*((LN($CJ$1-A25))-$CJ$9)/($CJ$10-$CJ$9)) -> 336.27964 | CK25: =EXP($CK$6+($CK$7-$CK$6)*((LN($CK$1-A25))-$CK$9)/($CK$10-$CK$9)) -> 317.48703 | CL25: =EXP($CL$6+($CL$7-$CL$6)*((LN($CL$1-A25))-$CL$9)/($CL$10-$CL$9)) -> 302.09721 | CM25: =EXP($CM$6+($CM$7-$CM$6)*((LN($CM$1-A25))-$CM$9)/($CM$10-$CM$9)) -> 289.16723 | CN25: =EXP($CN$6+($CN$7-$CN$6)*((LN($CN$1-A25))-$CN$9)/($CN$10-$CN$9)) -> 278.0871 | CO25: =EXP($CO$6+($CO$7-$CO$6)*((LN($CO$1-A25))-$CO$9)/($CO$10-$CO$9)) -> 189.23718 | CP25: =EXP($CP$6+($CP$7-$CP$6)*((LN($CP$1-A25))-$CP$9)/($CP$10-$CP$9)) -> 150.6762 | CQ25: =EXP($CQ$6+($CQ$7-$CQ$6)*((LN($CQ$1-A25))-$CQ$9)/($CQ$10-$CQ$9)) -> 135.12499 | CR25: =EXP($CR$6+($CR$7-$CR$6)*((LN($CR$1-A25))-$CR$9)/($CR$10-$CR$9)) -> 124.03741 | CS25: =EXP($CS$6+($CS$7-$CS$6)*((LN($CS$1-A25))-$CS$9)/($CS$10-$CS$9)) -> 115.66103 | CT25: =EXP($CT$6+($CT$7-$CT$6)*((LN($CT$1-A25))-$CT$9)/($CT$10-$CT$9)) -> 109.02398 | CU25: =EXP($CU$6+($CU$7-$CU$6)*((LN($CU$1-A25))-$CU$9)/($CU$10-$CU$9)) -> 103.58468 | CV25: =EXP($CV$6+($CV$7-$CV$6)*((LN($CV$1-A25))-$CV$9)/($CV$10-$CV$9)) -> 99.013419 | CW25: =EXP($CW$6+($CW$7-$CW$6)*((LN($CW$1-A25))-$CW$9)/($CW$10-$CW$9)) -> 95.096074 | CX25: =EXP($CX$6+($CX$7-$CX$6)*((LN($CX$1-A25))-$CX$9)/($CX$10-$CX$9)) -> 46.37361 | CY25: =EXP($CY$6+($CY$7-$CY$6)*((LN($CY$1-A25))-$CY$9)/($CY$10-$CY$9)) -> 30.457525 | CZ25: =EXP($CZ$6+($CZ$7-$CZ$6)*((LN($CZ$1-A25))-$CZ$9)/($CZ$10-$CZ$9)) -> 19.606744 | DA25: =EXP($DA$6+($DA$7-$DA$6)*((LN($DA$1-A25))-$DA$9)/($DA$10-$DA$9)) -> 13.930769 | DB25: =EXP($DB$6+($DB$7-$DB$6)*((LN($DB$1-A25))-$DB$9)/($DB$10-$DB$9)) -> 10.536701 | DC25: =EXP($DC$6+($DC$7-$DC$6)*((LN($DC$1-A25))-$DC$9)/($DC$10-$DC$9)) -> 8.3209984 | DD25: =EXP($DD$6+($DD$7-$DD$6)*((LN($DD$1-A25))-$DD$9)/($DD$10-$DD$9)) -> 6.7820783 | DE25: =EXP($DE$6+($DE$7-$DE$6)*((LN($DE$1-A25))-$DE$9)/($DE$10-$DE$9)) -> 5.6627318 | DF25: =EXP($DF$6+($DF$7-$DF$6)*((LN($DF$1-A25))-$DF$9)/($DF$10-$DF$9)) -> 4.8189495
... A102: 89 | CC102: 89 | CD102: =EXP($CD$6+($CD$7-$CD$6)*((LN($CD$1-A102))-$CD$9)/($CD$10-$CD$9)) -> 3313.76 | CE102: =EXP($CE$6+($CE$7-$CE$6)*((LN($CE$1-A102))-$CE$9)/($CE$10-$CE$9)) -> 1646.2376 | CF102: =EXP($CF$6+($CF$7-$CF$6)*((LN($CF$1-A102))-$CF$9)/($CF$10-$CF$9)) -> 809.13974 | CG102: =EXP($CG$6+($CG$7-$CG$6)*((LN($CG$1-A102))-$CG$9)/($CG$10-$CG$9)) -> 538.02598 | CH102: =EXP($CH$6+($CH$7-$CH$6)*((LN($CH$1-A102))-$CH$9)/($CH$10-$CH$9)) -> 424.60017 | CI102: =EXP($CI$6+($CI$7-$CI$6)*((LN($CI$1-A102))-$CI$9)/($CI$10-$CI$9)) -> 383.39621 | CJ102: =EXP($CJ$6+($CJ$7-$CJ$6)*((LN($CJ$1-A102))-$CJ$9)/($CJ$10-$CJ$9)) -> 354.01279 | CK102: =EXP($CK$6+($CK$7-$CK$6)*((LN($CK$1-A102))-$CK$9)/($CK$10-$CK$9)) -> 331.58839 | CL102: =EXP($CL$6+($CL$7-$CL$6)*((LN($CL$1-A102))-$CL$9)/($CL$10-$CL$9)) -> 313.68744 | CM102: =EXP($CM$6+($CM$7-$CM$6)*((LN($CM$1-A102))-$CM$9)/($CM$10-$CM$9)) -> 298.9317 | CN102: =EXP($CN$6+($CN$7-$CN$6)*((LN($CN$1-A102))-$CN$9)/($CN$10-$CN$9)) -> 286.47253 | CO102: =EXP($CO$6+($CO$7-$CO$6)*((LN($CO$1-A102))-$CO$9)/($CO$10-$CO$9)) -> 193.42242 | CP102: =EXP($CP$6+($CP$7-$CP$6)*((LN($CP$1-A102))-$CP$9)/($CP$10-$CP$9)) -> 150.6762 | CQ102: =EXP($CQ$6+($CQ$7-$CQ$6)*((LN($CQ$1-A102))-$CQ$9)/($CQ$10-$CQ$9)) -> 136.13686 | CR102: =EXP($CR$6+($CR$7-$CR$6)*((LN($CR$1-A102))-$CR$9)/($CR$10-$CR$9)) -> 124.77802 | CS102: =EXP($CS$6+($CS$7-$CS$6)*((LN($CS$1-A102))-$CS$9)/($CS$10-$CS$9)) -> 116.23526 | CT102: =EXP($CT$6+($CT$7-$CT$6)*((LN($CT$1-A102))-$CT$9)/($CT$10-$CT$9)) -> 109.4872 | CU102: =EXP($CU$6+($CU$7-$CU$6)*((LN($CU$1-A102))-$CU$9)/($CU$10-$CU$9)) -> 103.96932 | CV102: =EXP($CV$6+($CV$7-$CV$6)*((LN($CV$1-A102))-$CV$9)/($CV$10-$CV$9)) -> 99.33994 | CW102: =EXP($CW$6+($CW$7-$CW$6)*((LN($CW$1-A102))-$CW$9)/($CW$10-$CW$9)) -> 95.37811 | CX102: =EXP($CX$6+($CX$7-$CX$6)*((LN($CX$1-A102))-$CX$9)/($CX$10-$CX$9)) -> 46.559472 | CY102: =EXP($CY$6+($CY$7-$CY$6)*((LN($CY$1-A102))-$CY$9)/($CY$10-$CY$9)) -> 30.538784 | CZ102: =EXP($CZ$6+($CZ$7-$CZ$6)*((LN($CZ$1-A102))-$CZ$9)/($CZ$10-$CZ$9)) -> 19.664696 | DA102: =EXP($DA$6+($DA$7-$DA$6)*((LN($DA$1-A102))-$DA$9)/($DA$10-$DA$9)) -> 13.963691 | DB102: =EXP($DB$6+($DB$7-$DB$6)*((LN($DB$1-A102))-$DB$9)/($DB$10-$DB$9)) -> 10.557444 | DC102: =EXP($DC$6+($DC$7-$DC$6)*((LN($DC$1-A102))-$DC$9)/($DC$10-$DC$9)) -> 8.3350357 | DD102: =EXP($DD$6+($DD$7-$DD$6)*((LN($DD$1-A102))-$DD$9)/($DD$10-$DD$9)) -> 6.7920874 | DE102: =EXP($DE$6+($DE$7-$DE$6)*((LN($DE$1-A102))-$DE$9)/($DE$10-$DE$9)) -> 5.6701592 | DF102: =EXP($DF$6+($DF$7-$DF$6)*((LN($DF$1-A102))-$DF$9)/($DF$10-$DF$9)) -> 4.8246375
A103: 90 | CC103: 90 | CE103: =EXP($CE$6+($CE$7-$CE$6)*((LN($CE$1-A103))-$CE$9)/($CE$10-$CE$9)) -> 1692.6568 | CF103: =EXP($CF$6+($CF$7-$CF$6)*((LN($CF$1-A103))-$CF$9)/($CF$10-$CF$9)) -> 813.80511 | CG103: =EXP($CG$6+($CG$7-$CG$6)*((LN($CG$1-A103))-$CG$9)/($CG$10-$CG$9)) -> 539.6522 | CH103: =EXP($CH$6+($CH$7-$CH$6)*((LN($CH$1-A103))-$CH$9)/($CH$10-$CH$9)) -> 425.10114 | CI103: =EXP($CI$6+($CI$7-$CI$6)*((LN($CI$1-A103))-$CI$9)/($CI$10-$CI$9)) -> 383.73832 | CJ103: =EXP($CJ$6+($CJ$7-$CJ$6)*((LN($CJ$1-A103))-$CJ$9)/($CJ$10-$CJ$9)) -> 354.26678 | CK103: =EXP($CK$6+($CK$7-$CK$6)*((LN($CK$1-A103))-$CK$9)/($CK$10-$CK$9)) -> 331.78731 | CL103: =EXP($CL$6+($CL$7-$CL$6)*((LN($CL$1-A103))-$CL$9)/($CL$10-$CL$9)) -> 313.84913 | CM103: =EXP($CM$6+($CM$7-$CM$6)*((LN($CM$1-A103))-$CM$9)/($CM$10-$CM$9)) -> 299.06677 | CN103: =EXP($CN$6+($CN$7-$CN$6)*((LN($CN$1-A103))-$CN$9)/($CN$10-$CN$9)) -> 286.58775 | CO103: =EXP($CO$6+($CO$7-$CO$6)*((LN($CO$1-A103))-$CO$9)/($CO$10-$CO$9)) -> 193.47849 | CP103: =EXP($CP$6+($CP$7-$CP$6)*((LN($CP$1-A103))-$CP$9)/($CP$10-$CP$9)) -> 150.6762 | CQ103: =EXP($CQ$6+($CQ$7-$CQ$6)*((LN($CQ$1-A103))-$CQ$9)/($CQ$10-$CQ$9)) -> 136.15018 | CR103: =EXP($CR$6+($CR$7-$CR$6)*((LN($CR$1-A103))-$CR$9)/($CR$10-$CR$9)) -> 124.78774 | CS103: =EXP($CS$6+($CS$7-$CS$6)*((LN($CS$1-A103))-$CS$9)/($CS$10-$CS$9)) -> 116.24278 | CT103: =EXP($CT$6+($CT$7-$CT$6)*((LN($CT$1-A103))-$CT$9)/($CT$10-$CT$9)) -> 109.49326 | CU103: =EXP($CU$6+($CU$7-$CU$6)*((LN($CU$1-A103))-$CU$9)/($CU$10-$CU$9)) -> 103.97435 | CV103: =EXP($CV$6+($CV$7-$CV$6)*((LN($CV$1-A103))-$CV$9)/($CV$10-$CV$9)) -> 99.344206 | CW103: =EXP($CW$6+($CW$7-$CW$6)*((LN($CW$1-A103))-$CW$9)/($CW$10-$CW$9)) -> 95.381792 | CX103: =EXP($CX$6+($CX$7-$CX$6)*((LN($CX$1-A103))-$CX$9)/($CX$10-$CX$9)) -> 46.561895 | CY103: =EXP($CY$6+($CY$7-$CY$6)*((LN($CY$1-A103))-$CY$9)/($CY$10-$CY$9)) -> 30.539842 | CZ103: =EXP($CZ$6+($CZ$7-$CZ$6)*((LN($CZ$1-A103))-$CZ$9)/($CZ$10-$CZ$9)) -> 19.66545 | DA103: =EXP($DA$6+($DA$7-$DA$6)*((LN($DA$1-A103))-$DA$9)/($DA$10-$DA$9)) -> 13.96412 | DB103: =EXP($DB$6+($DB$7-$DB$6)*((LN($DB$1-A103))-$DB$9)/($DB$10-$DB$9)) -> 10.557714 | DC103: =EXP($DC$6+($DC$7-$DC$6)*((LN($DC$1-A103))-$DC$9)/($DC$10-$DC$9)) -> 8.3352183 | DD103: =EXP($DD$6+($DD$7-$DD$6)*((LN($DD$1-A103))-$DD$9)/($DD$10-$DD$9)) -> 6.7922176 | DE103: =EXP($DE$6+($DE$7-$DE$6)*((LN($DE$1-A103))-$DE$9)/($DE$10-$DE$9)) -> 5.6702558 | DF103: =EXP($DF$6+($DF$7-$DF$6)*((LN($DF$1-A103))-$DF$9)/($DF$10-$DF$9)) -> 4.8247114
A104: 91 | CC104: 91 | CE104: =EXP($CE$6+($CE$7-$CE$6)*((LN($CE$1-A104))-$CE$9)/($CE$10-$CE$9)) -> 1745.4956 | CF104: =EXP($CF$6+($CF$7-$CF$6)*((LN($CF$1-A104))-$CF$9)/($CF$10-$CF$9)) -> 818.54035 | CG104: =EXP($CG$6+($CG$7-$CG$6)*((LN($CG$1-A104))-$CG$9)/($CG$10-$CG$9)) -> 541.29114 | CH104: =EXP($CH$6+($CH$7-$CH$6)*((LN($CH$1-A104))-$CH$9)/($CH$10-$CH$9)) -> 425.60433 | CI104: =EXP($CI$6+($CI$7-$CI$6)*((LN($CI$1-A104))-$CI$9)/($CI$10-$CI$9)) -> 384.08158 | CJ104: =EXP($CJ$6+($CJ$7-$CJ$6)*((LN($CJ$1-A104))-$CJ$9)/($CJ$10-$CJ$9)) -> 354.52146 | CK104: =EXP($CK$6+($CK$7-$CK$6)*((LN($CK$1-A104))-$CK$9)/($CK$10-$CK$9)) -> 331.98668 | CL104: =EXP($CL$6+($CL$7-$CL$6)*((LN($CL$1-A104))-$CL$9)/($CL$10-$CL$9)) -> 314.01114 | CM104: =EXP($CM$6+($CM$7-$CM$6)*((LN($CM$1-A104))-$CM$9)/($CM$10-$CM$9)) -> 299.20207 | CN104: =EXP($CN$6+($CN$7-$CN$6)*((LN($CN$1-A104))-$CN$9)/($CN$10-$CN$9)) -> 286.70314 | CO104: =EXP($CO$6+($CO$7-$CO$6)*((LN($CO$1-A104))-$CO$9)/($CO$10-$CO$9)) -> 193.53461 | CP104: =EXP($CP$6+($CP$7-$CP$6)*((LN($CP$1-A104))-$CP$9)/($CP$10-$CP$9)) -> 150.6762 | CQ104: =EXP($CQ$6+($CQ$7-$CQ$6)*((LN($CQ$1-A104))-$CQ$9)/($CQ$10-$CQ$9)) -> 136.16351 | CR104: =EXP($CR$6+($CR$7-$CR$6)*((LN($CR$1-A104))-$CR$9)/($CR$10-$CR$9)) -> 124.79747 | CS104: =EXP($CS$6+($CS$7-$CS$6)*((LN($CS$1-A104))-$CS$9)/($CS$10-$CS$9)) -> 116.25031 | CT104: =EXP($CT$6+($CT$7-$CT$6)*((LN($CT$1-A104))-$CT$9)/($CT$10-$CT$9)) -> 109.49933 | CU104: =EXP($CU$6+($CU$7-$CU$6)*((LN($CU$1-A104))-$CU$9)/($CU$10-$CU$9)) -> 103.97938 | CV104: =EXP($CV$6+($CV$7-$CV$6)*((LN($CV$1-A104))-$CV$9)/($CV$10-$CV$9)) -> 99.348473 | CW104: =EXP($CW$6+($CW$7-$CW$6)*((LN($CW$1-A104))-$CW$9)/($CW$10-$CW$9)) -> 95.385476 | CX104: =EXP($CX$6+($CX$7-$CX$6)*((LN($CX$1-A104))-$CX$9)/($CX$10-$CX$9)) -> 46.564319 | CY104: =EXP($CY$6+($CY$7-$CY$6)*((LN($CY$1-A104))-$CY$9)/($CY$10-$CY$9)) -> 30.5409 | CZ104: =EXP($CZ$6+($CZ$7-$CZ$6)*((LN($CZ$1-A104))-$CZ$9)/($CZ$10-$CZ$9)) -> 19.666205 | DA104: =EXP($DA$6+($DA$7-$DA$6)*((LN($DA$1-A104))-$DA$9)/($DA$10-$DA$9)) -> 13.964548 | DB104: =EXP($DB$6+($DB$7-$DB$6)*((LN($DB$1-A104))-$DB$9)/($DB$10-$DB$9)) -> 10.557984 | DC104: =EXP($DC$6+($DC$7-$DC$6)*((LN($DC$1-A104))-$DC$9)/($DC$10-$DC$9)) -> 8.3354009 | DD104: =EXP($DD$6+($DD$7-$DD$6)*((LN($DD$1-A104))-$DD$9)/($DD$10-$DD$9)) -> 6.7923477 | DE104: =EXP($DE$6+($DE$7-$DE$6)*((LN($DE$1-A104))-$DE$9)/($DE$10-$DE$9)) -> 5.6703524 | DF104: =EXP($DF$6+($DF$7-$DF$6)*((LN($DF$1-A104))-$DF$9)/($DF$10-$DF$9)) -> 4.8247853
A105: 92 | CC105: 92 | CE105: =EXP($CE$6+($CE$7-$CE$6)*((LN($CE$1-A105))-$CE$9)/($CE$10-$CE$9)) -> 1806.5194 | CF105: =EXP($CF$6+($CF$7-$CF$6)*((LN($CF$1-A105))-$CF$9)/($CF$10-$CF$9)) -> 823.34717 | CG105: =EXP($CG$6+($CG$7-$CG$6)*((LN($CG$1-A105))-$CG$9)/($CG$10-$CG$9)) -> 542.94294 | CH105: =EXP($CH$6+($CH$7-$CH$6)*((LN($CH$1-A105))-$CH$9)/($CH$10-$CH$9)) -> 426.10975 | CI105: =EXP($CI$6+($CI$7-$CI$6)*((LN($CI$1-A105))-$CI$9)/($CI$10-$CI$9)) -> 384.42599 | CJ105: =EXP($CJ$6+($CJ$7-$CJ$6)*((LN($CJ$1-A105))-$CJ$9)/($CJ$10-$CJ$9)) -> 354.77682 | CK105: =EXP($CK$6+($CK$7-$CK$6)*((LN($CK$1-A105))-$CK$9)/($CK$10-$CK$9)) -> 332.1865 | CL105: =EXP($CL$6+($CL$7-$CL$6)*((LN($CL$1-A105))-$CL$9)/($CL$10-$CL$9)) -> 314.17345 | CM105: =EXP($CM$6+($CM$7-$CM$6)*((LN($CM$1-A105))-$CM$9)/($CM$10-$CM$9)) -> 299.33759 | CN105: =EXP($CN$6+($CN$7-$CN$6)*((LN($CN$1-A105))-$CN$9)/($CN$10-$CN$9)) -> 286.81871 | CO105: =EXP($CO$6+($CO$7-$CO$6)*((LN($CO$1-A105))-$CO$9)/($CO$10-$CO$9)) -> 193.59077 | CP105: =EXP($CP$6+($CP$7-$CP$6)*((LN($CP$1-A105))-$CP$9)/($CP$10-$CP$9)) -> 150.6762 | CQ105: =EXP($CQ$6+($CQ$7-$CQ$6)*((LN($CQ$1-A105))-$CQ$9)/($CQ$10-$CQ$9)) -> 136.17684 | CR105: =EXP($CR$6+($CR$7-$CR$6)*((LN($CR$1-A105))-$CR$9)/($CR$10-$CR$9)) -> 124.8072 | CS105: =EXP($CS$6+($CS$7-$CS$6)*((LN($CS$1-A105))-$CS$9)/($CS$10-$CS$9)) -> 116.25784 | CT105: =EXP($CT$6+($CT$7-$CT$6)*((LN($CT$1-A105))-$CT$9)/($CT$10-$CT$9)) -> 109.50539 | CU105: =EXP($CU$6+($CU$7-$CU$6)*((LN($CU$1-A105))-$CU$9)/($CU$10-$CU$9)) -> 103.98441 | CV105: =EXP($CV$6+($CV$7-$CV$6)*((LN($CV$1-A105))-$CV$9)/($CV$10-$CV$9)) -> 99.35274 | CW105: =EXP($CW$6+($CW$7-$CW$6)*((LN($CW$1-A105))-$CW$9)/($CW$10-$CW$9)) -> 95.389159 | CX105: =EXP($CX$6+($CX$7-$CX$6)*((LN($CX$1-A105))-$CX$9)/($CX$10-$CX$9)) -> 46.566743 | CY105: =EXP($CY$6+($CY$7-$CY$6)*((LN($CY$1-A105))-$CY$9)/($CY$10-$CY$9)) -> 30.541958 | CZ105: =EXP($CZ$6+($CZ$7-$CZ$6)*((LN($CZ$1-A105))-$CZ$9)/($CZ$10-$CZ$9)) -> 19.666959 | DA105: =EXP($DA$6+($DA$7-$DA$6)*((LN($DA$1-A105))-$DA$9)/($DA$10-$DA$9)) -> 13.964977 | DB105: =EXP($DB$6+($DB$7-$DB$6)*((LN($DB$1-A105))-$DB$9)/($DB$10-$DB$9)) -> 10.558254 | DC105: =EXP($DC$6+($DC$7-$DC$6)*((LN($DC$1-A105))-$DC$9)/($DC$10-$DC$9)) -> 8.3355834 | DD105: =EXP($DD$6+($DD$7-$DD$6)*((LN($DD$1-A105))-$DD$9)/($DD$10-$DD$9)) -> 6.7924779 | DE105: =EXP($DE$6+($DE$7-$DE$6)*((LN($DE$1-A105))-$DE$9)/($DE$10-$DE$9)) -> 5.6704489 | DF105: =EXP($DF$6+($DF$7-$DF$6)*((LN($DF$1-A105))-$DF$9)/($DF$10-$DF$9)) -> 4.8248593
