Workbook

Sheet Table 32
A1: Table 32
A2: year | B2: 1 | C2: 3 | D2: 10 | E2: 30 | F2: 100 | G2: 300 | H2: 1000 | I2: 3000 | J2: 10000 | K2: 30000 | L2: 100000 | M2: 300000 | N2: 1000000
A3: Core(MOX) | B3: 8873.97 | C3: 1714.2899 | D3: 2026.6259 | E3: 1228.4791 | F3: 864.6031 | G3: 430.23548 | H3: 276.86061 | I3: 150.6762 | J3: 95.052391 | K3: 30.4449 | L3: 4.8180641 | M3: 1.677063 | N3: 0.87476764
A4: Axial blanket(UOX) | B4: 5210.0437 | C4: 465.6375 | D4: 903.74812 | E4: 682.36006 | F4: 501.50625 | G4: 366.12562 | H4: 340.22501 | I4: 260.8725 | J4: 222.3584 | K4: 94.184062 | L4: 14.860603 | M4: 0.44833312 | N4: 0.4954718
A5: Radial blanket(UOX) | B5: 5091.65 | C5: 600.175 | D5: 1049.91 | E5: 811.4189 | F5: 611.795 | G5: 485.777 | H5: 483.54666 | I5: 395.01 | J5: 343.71145 | K5: 156.951 | L5: 24.435638 | M5: 0.62557 | N5: 1.0304364
A8: Currently, the above table is valid for LMFR reactor type, calculations for other fuel types of LMFR are in development

Sheet User input
A1: NFCSS Results for Reactor Type:
C2: CORE | D2: Axial blanket | E2: Radial blanket | F2: CORE | G2: Axial blanket | H2: Radial blanket
A3: # | B3: Time [Year] | C3: SFD (tHM) | D3: SFD (tHM) | E3: SFD (tHM) | F3: GWd/t | G3: GWd/t | H3: GWd/t
A4: 1 | B4: 2020 | C4: 0 | D4: 0 | E4: 0 | F4: 151.448 | G4: 11.828 | H4: 3.807
A5: 2 | B5: 2021 | C5: 4.35 | D5: 5.37 | E5: 4.07 | F5: 151.448 | G5: 11.828 | H5: 3.807
A6: 3 | B6: 2022 | C6: 4.35 | D6: 5.37 | E6: 4.07 | F6: 151.448 | G6: 11.828 | H6: 3.807
A7: 4 | B7: 2023 | C7: 4.35 | D7: 5.37 | E7: 4.07 | F7: 151.448 | G7: 11.828 | H7: 3.807
A8: 5 | B8: 2024 | C8: 4.35 | D8: 5.37 | E8: 4.07 | F8: 151.448 | G8: 11.828 | H8: 3.807
A9: 6 | B9: 2025 | C9: 4.35 | D9: 5.37 | E9: 4.07 | F9: 151.448 | G9: 11.828 | H9: 3.807
A10: 7 | B10: 2026 | C10: 4.35 | D10: 5.37 | E10: 4.07 | F10: 151.448 | G10: 11.828 | H10: 3.807
A11: 8 | B11: 2027 | C11: 4.35 | D11: 5.37 | E11: 4.07 | F11: 151.448 | G11: 11.828 | H11: 3.807
A12: 9 | B12: 2028 | C12: 4.35 | D12: 5.37 | E12: 4.07 | F12: 151.448 | G12: 11.828 | H12: 3.807
A13: 10 | B13: 2029 | C13: 4.35 | D13: 5.37 | E13: 4.07 | F13: 151.448 | G13: 11.828 | H13: 3.807
A14: 11 | B14: 2030 | C14: 4.35 | D14: 5.37 | E14: 4.07 | F14: 151.448 | G14: 11.828 | H14: 3.807
A15: 12 | B15: 2031 | C15: 4.35 | D15: 5.37 | E15: 4.07 | F15: 151.448 | G15: 11.828 | H15: 3.807
... A64: 61 | B64: 2080 | C64: 4.35 | D64: 5.37 | E64: 4.07 | F64: 151.448 | G64: 11.828 | H64: 3.807
A65: 62
A66: 63
A67: 64
A68: 65
A69: 66
A70: 67
A71: 68
A72: 69
A73: 70
A74: 71
A75: 72
A76: 73
... A203: 200

Sheet cal_CORE
A1: Time [Year] | B1: 1 | C1: 2 | D1: 3 | E1: 4 | F1: 5 | G1: 6 | H1: 7 | I1: 8 | J1: 9 | K1: 10 | L1: 11 | M1: 12 | N1: 13 | O1: 14 | P1: 15 | Q1: 16 | R1: 17 | S1: 18 | T1: 19 | U1: 20 | V1: 21 | W1: 22 | X1: 23 | Y1: 24 | Z1: 25 | AA1: 26 | AB1: 27 | AC1: 28 | AD1: 29 | AE1: 30 | AF1: 31 | AG1: 32 | AH1: 33 | AI1: 34 | AJ1: 35 | AK1: 36 | AL1: 37 | AM1: 38 | AN1: 39 | AO1: 40 | AP1: 41 | AQ1: 42 | AR1: 43 | AS1: 44 | AT1: 45 | AU1: 46 | AV1: 47 | AW1: 48 | AX1: 49 | AY1: 50 | AZ1: 51 | BA1: 52 | BB1: 53 | BC1: 54 | BD1: 55 | BE1: 56 | BF1: 57 | BG1: 58 | BH1: 59 | BI1: 60 | BJ1: 61 | BK1: 62 | BL1: 63 | BM1: 64 | BN1: 65 | BO1: 66 | BP1: 67 | BQ1: 68 | BR1: 69 | BS1: 70 | BT1: 71 | BU1: 72 | BV1: 73 | BW1: 74 | BX1: 75 | BY1: 76 | BZ1: 77 | CA1: 78 | CB1: 79 | CC1: 80 | CD1: 90 | CE1: 100 | CF1: 200 | CG1: 300 | CH1: 400 | CI1: 500 | CJ1: 600 | CK1: 700 | CL1: 800 | CM1: 900 | CN1: 1000 | CO1: 2000 | CP1: 3000 | CQ1: 4000 | CR1: 5000 | CS1: 6000 | CT1: 7000 | CU1: 8000 | CV1: 9000 | CW1: 10000 | CX1: 20000 | CY1: 30000 | CZ1: 40000 | DA1: 50000 | DB1: 60000 | DC1: 70000 | DD1: 80000 | DE1: 90000 | DF1: 100000 | DG1: 110000 | DH1: 120000 | DI1: 130000 | DJ1: 140000 | DK1: 150000 | DL1: 160000 | DM1: 170000 | DN1: 180000 | DO1: 190000 | DP1: 200000 | DQ1: 210000 | DR1: 220000 | DS1: 230000 | DT1: 240000 | DU1: 250000 | DV1: 260000 | DW1: 270000 | DX1: 280000 | DY1: 290000 | DZ1: 300000 | EA1: 310000 | EB1: 320000 | EC1: 330000 | ED1: 340000 | EE1: 350000 | EF1: 360000 | EG1: 370000 | EH1: 380000 | EI1: 390000 | EJ1: 400000 | EK1: 410000 | EL1: 420000 | EM1: 430000 | EN1: 440000 | EO1: 450000 | EP1: 460000 | EQ1: 470000 | ER1: 480000 | ES1: 490000 | ET1: 500000 | EU1: 510000 | EV1: 520000 | EW1: 530000 | EX1: 540000 | EY1: 550000 | EZ1: 560000 | FA1: 570000 | FB1: 580000 | FC1: 590000 | FD1: 600000 | FE1: 610000 | FF1: 620000 | FG1: 630000 | FH1: 640000 | FI1: 650000 | FJ1: 660000 | FK1: 670000 | FL1: 680000 | FM1: 690000 | FN1: 700000 | FO1: 710000 | FP1: 720000 | FQ1: 730000 | FR1: 740000 | FS1: 750000 | FT1: 760000 | FU1: 770000 | FV1: 780000 | FW1: 790000 | FX1: 800000 | FY1: 810000 | FZ1: 820000 | GA1: 830000 | GB1: 840000 | GC1: 850000 | GD1: 860000 | GE1: 870000 | GF1: 880000 | GG1: 890000 | GH1: 900000 | GI1: 910000 | GJ1: 920000 | GK1: 930000 | GL1: 940000 | GM1: 950000 | GN1: 960000 | GO1: 970000 | GP1: 980000 | GQ1: 990000 | GR1: 1000000
A2: UO2 | B2: ='Table 32'!B3 -> 8873.97 | C2: =C11 -> 3144.9436 | D2: ='Table 32'!C3 -> 1714.2899 | E2: =E11 -> 1784.2387 | F2: =F11 -> 1840.4547 | G2: =G11 -> 1887.6989 | H2: =H11 -> 1928.5882 | I2: =I11 -> 1964.7233 | J2: =J11 -> 1997.1583 | K2: ='Table 32'!D3 -> 2026.6259 | L2: =L11 -> 1940.495 | M2: =M11 -> 1865.064 | N2: =N11 -> 1798.2662 | O2: =O11 -> 1738.5559 | P2: =P11 -> 1684.7504 | Q2: =Q11 -> 1635.9272 | R2: =R11 -> 1591.3543 | S2: =S11 -> 1550.4427 | ... AD2: =AD11 -> 1247.6035 | AE2: ='Table 32'!E3 -> 1228.4791 | AF2: =AF11 -> 1216.7829 | AG2: =AG11 -> 1205.5642 | AH2: =AH11 -> 1194.7894 | AI2: =AI11 -> 1184.4284 | AJ2: =AJ11 -> 1174.4537 | AK2: =AK11 -> 1164.8405 | AL2: =AL11 -> 1155.5663 | AM2: =AM11 -> 1146.6103 | ... CD2: =CD11 -> 891.59297 | CE2: ='Table 32'!F3 -> 864.6031 | CF2: =CF11 -> 556.64115 | CG2: ='Table 32'!G3 -> 430.23548 | CH2: =CH11 -> 387.22338 | CI2: =CI11 -> 356.84472 | CJ2: =CJ11 -> 333.80137 | CK2: =CK11 -> 315.48335 | CL2: =CL11 -> 300.43012 | CM2: =CM11 -> 287.74956 | CN2: ='Table 32'!H3 -> 276.86061 | CO2: =CO11 -> 188.60757 | CP2: ='Table 32'!I3 -> 150.6762 | CQ2: =CQ11 -> 134.96972 | CR2: =CR11 -> 123.92341 | CS2: =CS11 -> 115.57246 | CT2: =CT11 -> 108.95242 | CU2: =CU11 -> 103.52519 | CV2: =CV11 -> 98.962881 | CW2: ='Table 32'!J3 -> 95.052391 | CX2: =CX11 -> 46.344775 | CY2: ='Table 32'!K3 -> 30.4449 | CZ2: =CZ11 -> 19.597738 | DA2: =DA11 -> 13.92565 | DB2: =DB11 -> 10.533474 | DC2: =DC11 -> 8.3188143 | DD2: =DD11 -> 6.7805207 | DE2: =DE11 -> 5.6615757 | DF2: ='Table 32'!L3 -> 4.8180641 | DG2: =DG11 -> 4.3965368 | DH2: =DH11 -> 4.0439984 | DI2: =DI11 -> 3.7447124 | DJ2: =DJ11 -> 3.4874005 | DK2: =DK11 -> 3.2637668 | DL2: =DL11 -> 3.0675715 | DM2: =DM11 -> 2.8940304 | DN2: =DN11 -> 2.7394131 | ... DY2: =DY11 -> 1.732577 | DZ2: ='Table 32'!M3 -> 1.677063 | EA2: =EA11 -> 1.6475982 | EB2: =EB11 -> 1.6195623 | EC2: =EC11 -> 1.5928446 | ED2: =ED11 -> 1.5673458 | EE2: =EE11 -> 1.5429769 | EF2: =EF11 -> 1.5196576 | EG2: =EG11 -> 1.4973154 | EH2: =EH11 -> 1.4758846 | ... GQ2: =GQ11 -> 0.87953318 | GR2: ='Table 32'!N3 -> 0.87476764
A4: UO2 calculation value
A5: y | C5: =C6+(C7-C6)*(C8-C9)/(C10-C9) -> 8.0535512 | D5: =D6+(D7-D6)*(D8-D9)/(D10-D9) -> 7.4467542 | E5: =E6+(E7-E6)*(E8-E9)/(E10-E9) -> 7.4867471 | F5: =F6+(F7-F6)*(F8-F9)/(F10-F9) -> 7.517768 | G5: =G6+(G7-G6)*(G8-G9)/(G10-G9) -> 7.5431139 | H5: =H6+(H7-H6)*(H8-H9)/(H10-H9) -> 7.5645435 | I5: =I6+(I7-I6)*(I8-I9)/(I10-I9) -> 7.5831067 | J5: =J6+(J7-J6)*(J8-J9)/(J10-J9) -> 7.5994806 | L5: =L6+(L7-L6)*(L8-L9)/(L10-L9) -> 7.5706984 | M5: =M6+(M7-M6)*(M8-M9)/(M10-M9) -> 7.5310507 | N5: =N6+(N7-N6)*(N8-N9)/(N10-N9) -> 7.4945783 | O5: =O6+(O7-O6)*(O8-O9)/(O10-O9) -> 7.4608101 | P5: =P6+(P7-P6)*(P8-P9)/(P10-P9) -> 7.4293727 | Q5: =Q6+(Q7-Q6)*(Q8-Q9)/(Q10-Q9) -> 7.399965 | R5: =R6+(R7-R6)*(R8-R9)/(R10-R9) -> 7.3723407 | S5: =S6+(S7-S6)*(S8-S9)/(S10-S9) -> 7.3462958 | ... GQ5: =GQ6+(GQ7-GQ6)*(GQ8-GQ9)/(GQ10-GQ9) -> -0.12836399
A6: yi | C6: =LN($B$2) -> 9.0908776 | D6: =LN($B$2) -> 9.0908776 | E6: =LN($D$2) -> 7.4467542 | F6: =LN($D$2) -> 7.4467542 | G6: =LN($D$2) -> 7.4467542 | H6: =LN($D$2) -> 7.4467542 | I6: =LN($D$2) -> 7.4467542 | J6: =LN($D$2) -> 7.4467542 | L6: =LN($K$2) -> 7.6141276 | M6: =LN($K$2) -> 7.6141276 | N6: =LN($K$2) -> 7.6141276 | O6: =LN($K$2) -> 7.6141276 | P6: =LN($K$2) -> 7.6141276 | Q6: =LN($K$2) -> 7.6141276 | R6: =LN($K$2) -> 7.6141276 | S6: =LN($K$2) -> 7.6141276 | ... AE6: =LN($K$2) -> 7.6141276 | AF6: =LN($AE$2) -> 7.1135322 | AG6: =LN($AE$2) -> 7.1135322 | AH6: =LN($AE$2) -> 7.1135322 | AI6: =LN($AE$2) -> 7.1135322 | AJ6: =LN($AE$2) -> 7.1135322 | AK6: =LN($AE$2) -> 7.1135322 | AL6: =LN($AE$2) -> 7.1135322 | AM6: =LN($AE$2) -> 7.1135322 | ... CE6: =LN($AE$2) -> 7.1135322 | CF6: =LN($CE$2) -> 6.7622706 | CG6: =LN($CE$2) -> 6.7622706 | CH6: =LN($CG$2) -> 6.0643327 | CI6: =LN($CG$2) -> 6.0643327 | CJ6: =LN($CG$2) -> 6.0643327 | CK6: =LN($CG$2) -> 6.0643327 | CL6: =LN($CG$2) -> 6.0643327 | CM6: =LN($CG$2) -> 6.0643327 | CN6: =LN($CG$2) -> 6.0643327 | CO6: =LN($CN$2) -> 5.6235142 | CP6: =LN($CP$2) -> 5.0151332 | CQ6: =LN($CP$2) -> 5.0151332 | CR6: =LN($CP$2) -> 5.0151332 | CS6: =LN($CP$2) -> 5.0151332 | CT6: =LN($CP$2) -> 5.0151332 | CU6: =LN($CP$2) -> 5.0151332 | CV6: =LN($CP$2) -> 5.0151332 | CW6: =LN($CP$2) -> 5.0151332 | CX6: =LN($CW$2) -> 4.5544282 | CY6: =LN($CW$2) -> 4.5544282 | CZ6: =LN($CY$2) -> 3.4159185 | DA6: =LN($CY$2) -> 3.4159185 | DB6: =LN($CY$2) -> 3.4159185 | DC6: =LN($CY$2) -> 3.4159185 | DD6: =LN($CY$2) -> 3.4159185 | DE6: =LN($CY$2) -> 3.4159185 | DF6: =LN($CY$2) -> 3.4159185 | DG6: =LN($DF$2) -> 1.5723722 | DH6: =LN($DF$2) -> 1.5723722 | DI6: =LN($DF$2) -> 1.5723722 | DJ6: =LN($DF$2) -> 1.5723722 | DK6: =LN($DF$2) -> 1.5723722 | DL6: =LN($DF$2) -> 1.5723722 | DM6: =LN($DF$2) -> 1.5723722 | DN6: =LN($DF$2) -> 1.5723722 | ... DZ6: =LN($DF$2) -> 1.5723722 | EA6: =LN($DZ$2) -> 0.51704405 | EB6: =LN($DZ$2) -> 0.51704405 | EC6: =LN($DZ$2) -> 0.51704405 | ED6: =LN($DZ$2) -> 0.51704405 | EE6: =LN($DZ$2) -> 0.51704405 | EF6: =LN($DZ$2) -> 0.51704405 | EG6: =LN($DZ$2) -> 0.51704405 | EH6: =LN($DZ$2) -> 0.51704405 | ... GQ6: =LN($DZ$2) -> 0.51704405
A7: yi+1 | C7: =LN($D$2) -> 7.4467542 | D7: =LN($D$2) -> 7.4467542 | E7: =LN($K$2) -> 7.6141276 | F7: =LN($K$2) -> 7.6141276 | G7: =LN($K$2) -> 7.6141276 | H7: =LN($K$2) -> 7.6141276 | I7: =LN($K$2) -> 7.6141276 | J7: =LN($K$2) -> 7.6141276 | L7: =LN($AE$2) -> 7.1135322 | M7: =LN($AE$2) -> 7.1135322 | N7: =LN($AE$2) -> 7.1135322 | O7: =LN($AE$2) -> 7.1135322 | P7: =LN($AE$2) -> 7.1135322 | Q7: =LN($AE$2) -> 7.1135322 | R7: =LN($AE$2) -> 7.1135322 | S7: =LN($AE$2) -> 7.1135322 | ... AE7: =LN($AE$2) -> 7.1135322 | AF7: =LN($CE$2) -> 6.7622706 | AG7: =LN($CE$2) -> 6.7622706 | AH7: =LN($CE$2) -> 6.7622706 | AI7: =LN($CE$2) -> 6.7622706 | AJ7: =LN($CE$2) -> 6.7622706 | AK7: =LN($CE$2) -> 6.7622706 | AL7: =LN($CE$2) -> 6.7622706 | AM7: =LN($CE$2) -> 6.7622706 | ... CE7: =LN($CE$2) -> 6.7622706 | CF7: =LN($CG$2) -> 6.0643327 | CG7: =LN($CG$2) -> 6.0643327 | CH7: =LN($CN$2) -> 5.6235142 | CI7: =LN($CN$2) -> 5.6235142 | CJ7: =LN($CN$2) -> 5.6235142 | CK7: =LN($CN$2) -> 5.6235142 | CL7: =LN($CN$2) -> 5.6235142 | CM7: =LN($CN$2) -> 5.6235142 | CN7: =LN($CN$2) -> 5.6235142 | CO7: =LN($CP$2) -> 5.0151332 | CP7: =LN($CP$2) -> 5.0151332 | CQ7: =LN($CW$2) -> 4.5544282 | CR7: =LN($CW$2) -> 4.5544282 | CS7: =LN($CW$2) -> 4.5544282 | CT7: =LN($CW$2) -> 4.5544282 | CU7: =LN($CW$2) -> 4.5544282 | CV7: =LN($CW$2) -> 4.5544282 | CW7: =LN($CW$2) -> 4.5544282 | CX7: =LN($CY$2) -> 3.4159185 | CY7: =LN($CY$2) -> 3.4159185 | CZ7: =LN($DF$2) -> 1.5723722 | DA7: =LN($DF$2) -> 1.5723722 | DB7: =LN($DF$2) -> 1.5723722 | DC7: =LN($DF$2) -> 1.5723722 | DD7: =LN($DF$2) -> 1.5723722 | DE7: =LN($DF$2) -> 1.5723722 | DF7: =LN($DF$2) -> 1.5723722 | DG7: =LN($DZ$2) -> 0.51704405 | DH7: =LN($DZ$2) -> 0.51704405 | DI7: =LN($DZ$2) -> 0.51704405 | DJ7: =LN($DZ$2) -> 0.51704405 | DK7: =LN($DZ$2) -> 0.51704405 | DL7: =LN($DZ$2) -> 0.51704405 | DM7: =LN($DZ$2) -> 0.51704405 | DN7: =LN($DZ$2) -> 0.51704405 | ... DZ7: =LN($DZ$2) -> 0.51704405 | EA7: =LN($GR$2) -> -0.13379698 | EB7: =LN($GR$2) -> -0.13379698 | EC7: =LN($GR$2) -> -0.13379698 | ED7: =LN($GR$2) -> -0.13379698 | EE7: =LN($GR$2) -> -0.13379698 | EF7: =LN($GR$2) -> -0.13379698 | EG7: =LN($GR$2) -> -0.13379698 | EH7: =LN($GR$2) -> -0.13379698 | ... GQ7: =LN($GR$2) -> -0.13379698
A8: x | C8: =LN(C1) -> 0.69314718 | D8: =LN(D1) -> 1.0986123 | E8: =LN(E1) -> 1.3862944 | F8: =LN(F1) -> 1.6094379 | G8: =LN(G1) -> 1.7917595 | H8: =LN(H1) -> 1.9459101 | I8: =LN(I1) -> 2.0794415 | J8: =LN(J1) -> 2.1972246 | L8: =LN(L1) -> 2.3978953 | M8: =LN(M1) -> 2.4849066 | N8: =LN(N1) -> 2.5649494 | O8: =LN(O1) -> 2.6390573 | P8: =LN(P1) -> 2.7080502 | Q8: =LN(Q1) -> 2.7725887 | R8: =LN(R1) -> 2.8332133 | S8: =LN(S1) -> 2.8903718 | ... GQ8: =LN(GQ1) -> 13.80546
A9: xi | C9: =LN($B$1) -> 0 | D9: =LN($B$1) -> 0 | E9: =LN($D$1) -> 1.0986123 | F9: =LN($D$1) -> 1.0986123 | G9: =LN($D$1) -> 1.0986123 | H9: =LN($D$1) -> 1.0986123 | I9: =LN($D$1) -> 1.0986123 | J9: =LN($D$1) -> 1.0986123 | L9: =LN($K$1) -> 2.3025851 | M9: =LN($K$1) -> 2.3025851 | N9: =LN($K$1) -> 2.3025851 | O9: =LN($K$1) -> 2.3025851 | P9: =LN($K$1) -> 2.3025851 | Q9: =LN($K$1) -> 2.3025851 | R9: =LN($K$1) -> 2.3025851 | S9: =LN($K$1) -> 2.3025851 | ... AE9: =LN($K$1) -> 2.3025851 | AF9: =LN($AE$1) -> 3.4011974 | AG9: =LN($AE$1) -> 3.4011974 | AH9: =LN($AE$1) -> 3.4011974 | AI9: =LN($AE$1) -> 3.4011974 | AJ9: =LN($AE$1) -> 3.4011974 | AK9: =LN($AE$1) -> 3.4011974 | AL9: =LN($AE$1) -> 3.4011974 | AM9: =LN($AE$1) -> 3.4011974 | ... CE9: =LN($AE$1) -> 3.4011974 | CF9: =LN($CE$1) -> 4.6051702 | CG9: =LN($CE$1) -> 4.6051702 | CH9: =LN($CG$1) -> 5.7037825 | CI9: =LN($CG$1) -> 5.7037825 | CJ9: =LN($CG$1) -> 5.7037825 | CK9: =LN($CG$1) -> 5.7037825 | CL9: =LN($CG$1) -> 5.7037825 | CM9: =LN($CG$1) -> 5.7037825 | CN9: =LN($CG$1) -> 5.7037825 | CO9: =LN($CN$1) -> 6.9077553 | CP9: =LN($CP$1) -> 8.0063676 | CQ9: =LN($CP$1) -> 8.0063676 | CR9: =LN($CP$1) -> 8.0063676 | CS9: =LN($CP$1) -> 8.0063676 | CT9: =LN($CP$1) -> 8.0063676 | CU9: =LN($CP$1) -> 8.0063676 | CV9: =LN($CP$1) -> 8.0063676 | CW9: =LN($CP$1) -> 8.0063676 | CX9: =LN($CW$1) -> 9.2103404 | CY9: =LN($CW$1) -> 9.2103404 | CZ9: =LN($CY$1) -> 10.308953 | DA9: =LN($CY$1) -> 10.308953 | DB9: =LN($CY$1) -> 10.308953 | DC9: =LN($CY$1) -> 10.308953 | DD9: =LN($CY$1) -> 10.308953 | DE9: =LN($CY$1) -> 10.308953 | DF9: =LN($CY$1) -> 10.308953 | DG9: =LN($DF$1) -> 11.512925 | DH9: =LN($DF$1) -> 11.512925 | DI9: =LN($DF$1) -> 11.512925 | DJ9: =LN($DF$1) -> 11.512925 | DK9: =LN($DF$1) -> 11.512925 | DL9: =LN($DF$1) -> 11.512925 | DM9: =LN($DF$1) -> 11.512925 | DN9: =LN($DF$1) -> 11.512925 | ... DZ9: =LN($DF$1) -> 11.512925 | EA9: =LN($DZ$1) -> 12.611538 | EB9: =LN($DZ$1) -> 12.611538 | EC9: =LN($DZ$1) -> 12.611538 | ED9: =LN($DZ$1) -> 12.611538 | EE9: =LN($DZ$1) -> 12.611538 | EF9: =LN($DZ$1) -> 12.611538 | EG9: =LN($DZ$1) -> 12.611538 | EH9: =LN($DZ$1) -> 12.611538 | ... GQ9: =LN($DZ$1) -> 12.611538
A10: xi+1 | C10: =LN($D$1) -> 1.0986123 | D10: =LN($D$1) -> 1.0986123 | E10: =LN($K$1) -> 2.3025851 | F10: =LN($K$1) -> 2.3025851 | G10: =LN($K$1) -> 2.3025851 | H10: =LN($K$1) -> 2.3025851 | I10: =LN($K$1) -> 2.3025851 | J10: =LN($K$1) -> 2.3025851 | L10: =LN($AE$1) -> 3.4011974 | M10: =LN($AE$1) -> 3.4011974 | N10: =LN($AE$1) -> 3.4011974 | O10: =LN($AE$1) -> 3.4011974 | P10: =LN($AE$1) -> 3.4011974 | Q10: =LN($AE$1) -> 3.4011974 | R10: =LN($AE$1) -> 3.4011974 | S10: =LN($AE$1) -> 3.4011974 | ... AE10: =LN($AE$1) -> 3.4011974 | AF10: =LN($CE$1) -> 4.6051702 | AG10: =LN($CE$1) -> 4.6051702 | AH10: =LN($CE$1) -> 4.6051702 | AI10: =LN($CE$1) -> 4.6051702 | AJ10: =LN($CE$1) -> 4.6051702 | AK10: =LN($CE$1) -> 4.6051702 | AL10: =LN($CE$1) -> 4.6051702 | AM10: =LN($CE$1) -> 4.6051702 | ... CE10: =LN($CE$1) -> 4.6051702 | CF10: =LN($CG$1) -> 5.7037825 | CG10: =LN($CG$1) -> 5.7037825 | CH10: =LN($CN$1) -> 6.9077553 | CI10: =LN($CN$1) -> 6.9077553 | CJ10: =LN($CN$1) -> 6.9077553 | CK10: =LN($CN$1) -> 6.9077553 | CL10: =LN($CN$1) -> 6.9077553 | CM10: =LN($CN$1) -> 6.9077553 | CN10: =LN($CN$1) -> 6.9077553 | CO10: =LN($CP$1) -> 8.0063676 | CP10: =LN($CW$1) -> 9.2103404 | CQ10: =LN($CW$1) -> 9.2103404 | CR10: =LN($CW$1) -> 9.2103404 | CS10: =LN($CW$1) -> 9.2103404 | CT10: =LN($CW$1) -> 9.2103404 | CU10: =LN($CW$1) -> 9.2103404 | CV10: =LN($CW$1) -> 9.2103404 | CW10: =LN($CW$1) -> 9.2103404 | CX10: =LN($CY$1) -> 10.308953 | CY10: =LN($CY$1) -> 10.308953 | CZ10: =LN($DF$1) -> 11.512925 | DA10: =LN($DF$1) -> 11.512925 | DB10: =LN($DF$1) -> 11.512925 | DC10: =LN($DF$1) -> 11.512925 | DD10: =LN($DF$1) -> 11.512925 | DE10: =LN($DF$1) -> 11.512925 | DF10: =LN($DF$1) -> 11.512925 | DG10: =LN($DZ$1) -> 12.611538 | DH10: =LN($DZ$1) -> 12.611538 | DI10: =LN($DZ$1) -> 12.611538 | DJ10: =LN($DZ$1) -> 12.611538 | DK10: =LN($DZ$1) -> 12.611538 | DL10: =LN($DZ$1) -> 12.611538 | DM10: =LN($DZ$1) -> 12.611538 | DN10: =LN($DZ$1) -> 12.611538 | ... DZ10: =LN($DZ$1) -> 12.611538 | EA10: =LN($GR$1) -> 13.815511 | EB10: =LN($GR$1) -> 13.815511 | EC10: =LN($GR$1) -> 13.815511 | ED10: =LN($GR$1) -> 13.815511 | EE10: =LN($GR$1) -> 13.815511 | EF10: =LN($GR$1) -> 13.815511 | EG10: =LN($GR$1) -> 13.815511 | EH10: =LN($GR$1) -> 13.815511 | ... GQ10: =LN($GR$1) -> 13.815511
A11: DH | C11: =EXP(C5) -> 3144.9436 | D11: =EXP(D5) -> 1714.2899 | E11: =EXP(E5) -> 1784.2387 | F11: =EXP(F5) -> 1840.4547 | G11: =EXP(G5) -> 1887.6989 | H11: =EXP(H5) -> 1928.5882 | I11: =EXP(I5) -> 1964.7233 | J11: =EXP(J5) -> 1997.1583 | L11: =EXP(L5) -> 1940.495 | M11: =EXP(M5) -> 1865.064 | N11: =EXP(N5) -> 1798.2662 | O11: =EXP(O5) -> 1738.5559 | P11: =EXP(P5) -> 1684.7504 | Q11: =EXP(Q5) -> 1635.9272 | R11: =EXP(R5) -> 1591.3543 | S11: =EXP(S5) -> 1550.4427 | ... GQ11: =EXP(GQ5) -> 0.87953318
A14: 1 | CC14: 1 | CD14: =EXP($CD$6+($CD$7-$CD$6)*((LN($CD$1-A14))-$CD$9)/($CD$10-$CD$9)) -> 894.50415 | CE14: =EXP($CE$6+($CE$7-$CE$6)*((LN($CE$1-A14))-$CE$9)/($CE$10-$CE$9)) -> 867.14202 | CF14: =EXP($CF$6+($CF$7-$CF$6)*((LN($CF$1-A14))-$CF$9)/($CF$10-$CF$9)) -> 558.41656 | CG14: =EXP($CG$6+($CG$7-$CG$6)*((LN($CG$1-A14))-$CG$9)/($CG$10-$CG$9)) -> 431.14905 | CH14: =EXP($CH$6+($CH$7-$CH$6)*((LN($CH$1-A14))-$CH$9)/($CH$10-$CH$9)) -> 387.57843 | CI14: =EXP($CI$6+($CI$7-$CI$6)*((LN($CI$1-A14))-$CI$9)/($CI$10-$CI$9)) -> 357.10638 | CJ14: =EXP($CJ$6+($CJ$7-$CJ$6)*((LN($CJ$1-A14))-$CJ$9)/($CJ$10-$CJ$9)) -> 334.0053 | CK14: =EXP($CK$6+($CK$7-$CK$6)*((LN($CK$1-A14))-$CK$9)/($CK$10-$CK$9)) -> 315.64853 | CL14: =EXP($CL$6+($CL$7-$CL$6)*((LN($CL$1-A14))-$CL$9)/($CL$10-$CL$9)) -> 300.56774 | CM14: =EXP($CM$6+($CM$7-$CM$6)*((LN($CM$1-A14))-$CM$9)/($CM$10-$CM$9)) -> 287.86671 | CN14: =EXP($CN$6+($CN$7-$CN$6)*((LN($CN$1-A14))-$CN$9)/($CN$10-$CN$9)) -> 276.96205 | CO14: =EXP($CO$6+($CO$7-$CO$6)*((LN($CO$1-A14))-$CO$9)/($CO$10-$CO$9)) -> 188.65981 | CP14: =EXP($CP$6+($CP$7-$CP$6)*((LN($CP$1-A14))-$CP$9)/($CP$10-$CP$9)) -> 150.6762 | CQ14: =EXP($CQ$6+($CQ$7-$CQ$6)*((LN($CQ$1-A14))-$CQ$9)/($CQ$10-$CQ$9)) -> 134.98264 | CR14: =EXP($CR$6+($CR$7-$CR$6)*((LN($CR$1-A14))-$CR$9)/($CR$10-$CR$9)) -> 123.9329 | CS14: =EXP($CS$6+($CS$7-$CS$6)*((LN($CS$1-A14))-$CS$9)/($CS$10-$CS$9)) -> 115.57983 | CT14: =EXP($CT$6+($CT$7-$CT$6)*((LN($CT$1-A14))-$CT$9)/($CT$10-$CT$9)) -> 108.95838 | CU14: =EXP($CU$6+($CU$7-$CU$6)*((LN($CU$1-A14))-$CU$9)/($CU$10-$CU$9)) -> 103.53014 | CV14: =EXP($CV$6+($CV$7-$CV$6)*((LN($CV$1-A14))-$CV$9)/($CV$10-$CV$9)) -> 98.967089 | CW14: =EXP($CW$6+($CW$7-$CW$6)*((LN($CW$1-A14))-$CW$9)/($CW$10-$CW$9)) -> 95.056029 | CX14: =EXP($CX$6+($CX$7-$CX$6)*((LN($CX$1-A14))-$CX$9)/($CX$10-$CX$9)) -> 46.347177 | CY14: =EXP($CY$6+($CY$7-$CY$6)*((LN($CY$1-A14))-$CY$9)/($CY$10-$CY$9)) -> 30.445952 | CZ14: =EXP($CZ$6+($CZ$7-$CZ$6)*((LN($CZ$1-A14))-$CZ$9)/($CZ$10-$CZ$9)) -> 19.598489 | DA14: =EXP($DA$6+($DA$7-$DA$6)*((LN($DA$1-A14))-$DA$9)/($DA$10-$DA$9)) -> 13.926077 | DB14: =EXP($DB$6+($DB$7-$DB$6)*((LN($DB$1-A14))-$DB$9)/($DB$10-$DB$9)) -> 10.533743 | DC14: =EXP($DC$6+($DC$7-$DC$6)*((LN($DC$1-A14))-$DC$9)/($DC$10-$DC$9)) -> 8.3189962 | DD14: =EXP($DD$6+($DD$7-$DD$6)*((LN($DD$1-A14))-$DD$9)/($DD$10-$DD$9)) -> 6.7806505 | DE14: =EXP($DE$6+($DE$7-$DE$6)*((LN($DE$1-A14))-$DE$9)/($DE$10-$DE$9)) -> 5.661672 | DF14: =EXP($DF$6+($DF$7-$DF$6)*((LN($DF$1-A14))-$DF$9)/($DF$10-$DF$9)) -> 4.8181378
A15: 2 | CC15: 2 | CD15: =EXP($CD$6+($CD$7-$CD$6)*((LN($CD$1-A15))-$CD$9)/($CD$10-$CD$9)) -> 897.45791 | CE15: =EXP($CE$6+($CE$7-$CE$6)*((LN($CE$1-A15))-$CE$9)/($CE$10-$CE$9)) -> 869.71428 | CF15: =EXP($CF$6+($CF$7-$CF$6)*((LN($CF$1-A15))-$CF$9)/($CF$10-$CF$9)) -> 560.20661 | CG15: =EXP($CG$6+($CG$7-$CG$6)*((LN($CG$1-A15))-$CG$9)/($CG$10-$CG$9)) -> 432.06763 | CH15: =EXP($CH$6+($CH$7-$CH$6)*((LN($CH$1-A15))-$CH$9)/($CH$10-$CH$9)) -> 387.9347 | CI15: =EXP($CI$6+($CI$7-$CI$6)*((LN($CI$1-A15))-$CI$9)/($CI$10-$CI$9)) -> 357.36877 | CJ15: =EXP($CJ$6+($CJ$7-$CJ$6)*((LN($CJ$1-A15))-$CJ$9)/($CJ$10-$CJ$9)) -> 334.20969 | CK15: =EXP($CK$6+($CK$7-$CK$6)*((LN($CK$1-A15))-$CK$9)/($CK$10-$CK$9)) -> 315.81403 | CL15: =EXP($CL$6+($CL$7-$CL$6)*((LN($CL$1-A15))-$CL$9)/($CL$10-$CL$9)) -> 300.70559 | CM15: =EXP($CM$6+($CM$7-$CM$6)*((LN($CM$1-A15))-$CM$9)/($CM$10-$CM$9)) -> 287.98404 | CN15: =EXP($CN$6+($CN$7-$CN$6)*((LN($CN$1-A15))-$CN$9)/($CN$10-$CN$9)) -> 277.06363 | CO15: =EXP($CO$6+($CO$7-$CO$6)*((LN($CO$1-A15))-$CO$9)/($CO$10-$CO$9)) -> 188.71209 | CP15: =EXP($CP$6+($CP$7-$CP$6)*((LN($CP$1-A15))-$CP$9)/($CP$10-$CP$9)) -> 150.6762 | CQ15: =EXP($CQ$6+($CQ$7-$CQ$6)*((LN($CQ$1-A15))-$CQ$9)/($CQ$10-$CQ$9)) -> 134.99556 | CR15: =EXP($CR$6+($CR$7-$CR$6)*((LN($CR$1-A15))-$CR$9)/($CR$10-$CR$9)) -> 123.94238 | CS15: =EXP($CS$6+($CS$7-$CS$6)*((LN($CS$1-A15))-$CS$9)/($CS$10-$CS$9)) -> 115.5872 | CT15: =EXP($CT$6+($CT$7-$CT$6)*((LN($CT$1-A15))-$CT$9)/($CT$10-$CT$9)) -> 108.96434 | CU15: =EXP($CU$6+($CU$7-$CU$6)*((LN($CU$1-A15))-$CU$9)/($CU$10-$CU$9)) -> 103.5351 | CV15: =EXP($CV$6+($CV$7-$CV$6)*((LN($CV$1-A15))-$CV$9)/($CV$10-$CV$9)) -> 98.971298 | CW15: =EXP($CW$6+($CW$7-$CW$6)*((LN($CW$1-A15))-$CW$9)/($CW$10-$CW$9)) -> 95.059667 | CX15: =EXP($CX$6+($CX$7-$CX$6)*((LN($CX$1-A15))-$CX$9)/($CX$10-$CX$9)) -> 46.349578 | CY15: =EXP($CY$6+($CY$7-$CY$6)*((LN($CY$1-A15))-$CY$9)/($CY$10-$CY$9)) -> 30.447004 | CZ15: =EXP($CZ$6+($CZ$7-$CZ$6)*((LN($CZ$1-A15))-$CZ$9)/($CZ$10-$CZ$9)) -> 19.599239 | DA15: =EXP($DA$6+($DA$7-$DA$6)*((LN($DA$1-A15))-$DA$9)/($DA$10-$DA$9)) -> 13.926503 | DB15: =EXP($DB$6+($DB$7-$DB$6)*((LN($DB$1-A15))-$DB$9)/($DB$10-$DB$9)) -> 10.534012 | DC15: =EXP($DC$6+($DC$7-$DC$6)*((LN($DC$1-A15))-$DC$9)/($DC$10-$DC$9)) -> 8.3191782 | DD15: =EXP($DD$6+($DD$7-$DD$6)*((LN($DD$1-A15))-$DD$9)/($DD$10-$DD$9)) -> 6.7807802 | DE15: =EXP($DE$6+($DE$7-$DE$6)*((LN($DE$1-A15))-$DE$9)/($DE$10-$DE$9)) -> 5.6617684 | DF15: =EXP($DF$6+($DF$7-$DF$6)*((LN($DF$1-A15))-$DF$9)/($DF$10-$DF$9)) -> 4.8182116
A16: 3 | CC16: 3 | CD16: =EXP($CD$6+($CD$7-$CD$6)*((LN($CD$1-A16))-$CD$9)/($CD$10-$CD$9)) -> 900.45534 | CE16: =EXP($CE$6+($CE$7-$CE$6)*((LN($CE$1-A16))-$CE$9)/($CE$10-$CE$9)) -> 872.32067 | CF16: =EXP($CF$6+($CF$7-$CF$6)*((LN($CF$1-A16))-$CF$9)/($CF$10-$CF$9)) -> 562.01151 | CG16: =EXP($CG$6+($CG$7-$CG$6)*((LN($CG$1-A16))-$CG$9)/($CG$10-$CG$9)) -> 432.99127 | CH16: =EXP($CH$6+($CH$7-$CH$6)*((LN($CH$1-A16))-$CH$9)/($CH$10-$CH$9)) -> 388.29219 | CI16: =EXP($CI$6+($CI$7-$CI$6)*((LN($CI$1-A16))-$CI$9)/($CI$10-$CI$9)) -> 357.63187 | CJ16: =EXP($CJ$6+($CJ$7-$CJ$6)*((LN($CJ$1-A16))-$CJ$9)/($CJ$10-$CJ$9)) -> 334.41455 | CK16: =EXP($CK$6+($CK$7-$CK$6)*((LN($CK$1-A16))-$CK$9)/($CK$10-$CK$9)) -> 315.97985 | CL16: =EXP($CL$6+($CL$7-$CL$6)*((LN($CL$1-A16))-$CL$9)/($CL$10-$CL$9)) -> 300.84368 | CM16: =EXP($CM$6+($CM$7-$CM$6)*((LN($CM$1-A16))-$CM$9)/($CM$10-$CM$9)) -> 288.10155 | CN16: =EXP($CN$6+($CN$7-$CN$6)*((LN($CN$1-A16))-$CN$9)/($CN$10-$CN$9)) -> 277.16534 | CO16: =EXP($CO$6+($CO$7-$CO$6)*((LN($CO$1-A16))-$CO$9)/($CO$10-$CO$9)) -> 188.76442 | CP16: =EXP($CP$6+($CP$7-$CP$6)*((LN($CP$1-A16))-$CP$9)/($CP$10-$CP$9)) -> 150.6762 | CQ16: =EXP($CQ$6+($CQ$7-$CQ$6)*((LN($CQ$1-A16))-$CQ$9)/($CQ$10-$CQ$9)) -> 135.00848 | CR16: =EXP($CR$6+($CR$7-$CR$6)*((LN($CR$1-A16))-$CR$9)/($CR$10-$CR$9)) -> 123.95188 | CS16: =EXP($CS$6+($CS$7-$CS$6)*((LN($CS$1-A16))-$CS$9)/($CS$10-$CS$9)) -> 115.59458 | CT16: =EXP($CT$6+($CT$7-$CT$6)*((LN($CT$1-A16))-$CT$9)/($CT$10-$CT$9)) -> 108.9703 | CU16: =EXP($CU$6+($CU$7-$CU$6)*((LN($CU$1-A16))-$CU$9)/($CU$10-$CU$9)) -> 103.54005 | CV16: =EXP($CV$6+($CV$7-$CV$6)*((LN($CV$1-A16))-$CV$9)/($CV$10-$CV$9)) -> 98.975507 | CW16: =EXP($CW$6+($CW$7-$CW$6)*((LN($CW$1-A16))-$CW$9)/($CW$10-$CW$9)) -> 95.063305 | CX16: =EXP($CX$6+($CX$7-$CX$6)*((LN($CX$1-A16))-$CX$9)/($CX$10-$CX$9)) -> 46.351981 | CY16: =EXP($CY$6+($CY$7-$CY$6)*((LN($CY$1-A16))-$CY$9)/($CY$10-$CY$9)) -> 30.448055 | CZ16: =EXP($CZ$6+($CZ$7-$CZ$6)*((LN($CZ$1-A16))-$CZ$9)/($CZ$10-$CZ$9)) -> 19.599989 | DA16: =EXP($DA$6+($DA$7-$DA$6)*((LN($DA$1-A16))-$DA$9)/($DA$10-$DA$9)) -> 13.92693 | DB16: =EXP($DB$6+($DB$7-$DB$6)*((LN($DB$1-A16))-$DB$9)/($DB$10-$DB$9)) -> 10.534281 | DC16: =EXP($DC$6+($DC$7-$DC$6)*((LN($DC$1-A16))-$DC$9)/($DC$10-$DC$9)) -> 8.3193602 | DD16: =EXP($DD$6+($DD$7-$DD$6)*((LN($DD$1-A16))-$DD$9)/($DD$10-$DD$9)) -> 6.78091 | DE16: =EXP($DE$6+($DE$7-$DE$6)*((LN($DE$1-A16))-$DE$9)/($DE$10-$DE$9)) -> 5.6618647 | DF16: =EXP($DF$6+($DF$7-$DF$6)*((LN($DF$1-A16))-$DF$9)/($DF$10-$DF$9)) -> 4.8182854
A17: 4 | CC17: 4 | CD17: =EXP($CD$6+($CD$7-$CD$6)*((LN($CD$1-A17))-$CD$9)/($CD$10-$CD$9)) -> 903.4976 | CE17: =EXP($CE$6+($CE$7-$CE$6)*((LN($CE$1-A17))-$CE$9)/($CE$10-$CE$9)) -> 874.962 | CF17: =EXP($CF$6+($CF$7-$CF$6)*((LN($CF$1-A17))-$CF$9)/($CF$10-$CF$9)) -> 563.83146 | CG17: =EXP($CG$6+($CG$7-$CG$6)*((LN($CG$1-A17))-$CG$9)/($CG$10-$CG$9)) -> 433.92 | CH17: =EXP($CH$6+($CH$7-$CH$6)*((LN($CH$1-A17))-$CH$9)/($CH$10-$CH$9)) -> 388.65091 | CI17: =EXP($CI$6+($CI$7-$CI$6)*((LN($CI$1-A17))-$CI$9)/($CI$10-$CI$9)) -> 357.8957 | CJ17: =EXP($CJ$6+($CJ$7-$CJ$6)*((LN($CJ$1-A17))-$CJ$9)/($CJ$10-$CJ$9)) -> 334.61988 | CK17: =EXP($CK$6+($CK$7-$CK$6)*((LN($CK$1-A17))-$CK$9)/($CK$10-$CK$9)) -> 316.146 | CL17: =EXP($CL$6+($CL$7-$CL$6)*((LN($CL$1-A17))-$CL$9)/($CL$10-$CL$9)) -> 300.982 | CM17: =EXP($CM$6+($CM$7-$CM$6)*((LN($CM$1-A17))-$CM$9)/($CM$10-$CM$9)) -> 288.21923 | CN17: =EXP($CN$6+($CN$7-$CN$6)*((LN($CN$1-A17))-$CN$9)/($CN$10-$CN$9)) -> 277.2672 | CO17: =EXP($CO$6+($CO$7-$CO$6)*((LN($CO$1-A17))-$CO$9)/($CO$10-$CO$9)) -> 188.81678 | CP17: =EXP($CP$6+($CP$7-$CP$6)*((LN($CP$1-A17))-$CP$9)/($CP$10-$CP$9)) -> 150.6762 | CQ17: =EXP($CQ$6+($CQ$7-$CQ$6)*((LN($CQ$1-A17))-$CQ$9)/($CQ$10-$CQ$9)) -> 135.02141 | CR17: =EXP($CR$6+($CR$7-$CR$6)*((LN($CR$1-A17))-$CR$9)/($CR$10-$CR$9)) -> 123.96137 | CS17: =EXP($CS$6+($CS$7-$CS$6)*((LN($CS$1-A17))-$CS$9)/($CS$10-$CS$9)) -> 115.60195 | CT17: =EXP($CT$6+($CT$7-$CT$6)*((LN($CT$1-A17))-$CT$9)/($CT$10-$CT$9)) -> 108.97626 | CU17: =EXP($CU$6+($CU$7-$CU$6)*((LN($CU$1-A17))-$CU$9)/($CU$10-$CU$9)) -> 103.54501 | CV17: =EXP($CV$6+($CV$7-$CV$6)*((LN($CV$1-A17))-$CV$9)/($CV$10-$CV$9)) -> 98.979717 | CW17: =EXP($CW$6+($CW$7-$CW$6)*((LN($CW$1-A17))-$CW$9)/($CW$10-$CW$9)) -> 95.066944 | CX17: =EXP($CX$6+($CX$7-$CX$6)*((LN($CX$1-A17))-$CX$9)/($CX$10-$CX$9)) -> 46.354383 | CY17: =EXP($CY$6+($CY$7-$CY$6)*((LN($CY$1-A17))-$CY$9)/($CY$10-$CY$9)) -> 30.449107 | CZ17: =EXP($CZ$6+($CZ$7-$CZ$6)*((LN($CZ$1-A17))-$CZ$9)/($CZ$10-$CZ$9)) -> 19.60074 | DA17: =EXP($DA$6+($DA$7-$DA$6)*((LN($DA$1-A17))-$DA$9)/($DA$10-$DA$9)) -> 13.927356 | DB17: =EXP($DB$6+($DB$7-$DB$6)*((LN($DB$1-A17))-$DB$9)/($DB$10-$DB$9)) -> 10.53455 | DC17: =EXP($DC$6+($DC$7-$DC$6)*((LN($DC$1-A17))-$DC$9)/($DC$10-$DC$9)) -> 8.3195422 | DD17: =EXP($DD$6+($DD$7-$DD$6)*((LN($DD$1-A17))-$DD$9)/($DD$10-$DD$9)) -> 6.7810398 | DE17: =EXP($DE$6+($DE$7-$DE$6)*((LN($DE$1-A17))-$DE$9)/($DE$10-$DE$9)) -> 5.661961 | DF17: =EXP($DF$6+($DF$7-$DF$6)*((LN($DF$1-A17))-$DF$9)/($DF$10-$DF$9)) -> 4.8183592
A18: 5 | CC18: 5 | CD18: =EXP($CD$6+($CD$7-$CD$6)*((LN($CD$1-A18))-$CD$9)/($CD$10-$CD$9)) -> 906.58592 | CE18: =EXP($CE$6+($CE$7-$CE$6)*((LN($CE$1-A18))-$CE$9)/($CE$10-$CE$9)) -> 877.63912 | CF18: =EXP($CF$6+($CF$7-$CF$6)*((LN($CF$1-A18))-$CF$9)/($CF$10-$CF$9)) -> 565.66665 | CG18: =EXP($CG$6+($CG$7-$CG$6)*((LN($CG$1-A18))-$CG$9)/($CG$10-$CG$9)) -> 434.85389 | CH18: =EXP($CH$6+($CH$7-$CH$6)*((LN($CH$1-A18))-$CH$9)/($CH$10-$CH$9)) -> 389.01087 | CI18: =EXP($CI$6+($CI$7-$CI$6)*((LN($CI$1-A18))-$CI$9)/($CI$10-$CI$9)) -> 358.16025 | CJ18: =EXP($CJ$6+($CJ$7-$CJ$6)*((LN($CJ$1-A18))-$CJ$9)/($CJ$10-$CJ$9)) -> 334.82568 | CK18: =EXP($CK$6+($CK$7-$CK$6)*((LN($CK$1-A18))-$CK$9)/($CK$10-$CK$9)) -> 316.31247 | CL18: =EXP($CL$6+($CL$7-$CL$6)*((LN($CL$1-A18))-$CL$9)/($CL$10-$CL$9)) -> 301.12056 | CM18: =EXP($CM$6+($CM$7-$CM$6)*((LN($CM$1-A18))-$CM$9)/($CM$10-$CM$9)) -> 288.3371 | CN18: =EXP($CN$6+($CN$7-$CN$6)*((LN($CN$1-A18))-$CN$9)/($CN$10-$CN$9)) -> 277.36919 | CO18: =EXP($CO$6+($CO$7-$CO$6)*((LN($CO$1-A18))-$CO$9)/($CO$10-$CO$9)) -> 188.86919 | CP18: =EXP($CP$6+($CP$7-$CP$6)*((LN($CP$1-A18))-$CP$9)/($CP$10-$CP$9)) -> 150.6762 | CQ18: =EXP($CQ$6+($CQ$7-$CQ$6)*((LN($CQ$1-A18))-$CQ$9)/($CQ$10-$CQ$9)) -> 135.03434 | CR18: =EXP($CR$6+($CR$7-$CR$6)*((LN($CR$1-A18))-$CR$9)/($CR$10-$CR$9)) -> 123.97086 | CS18: =EXP($CS$6+($CS$7-$CS$6)*((LN($CS$1-A18))-$CS$9)/($CS$10-$CS$9)) -> 115.60933 | CT18: =EXP($CT$6+($CT$7-$CT$6)*((LN($CT$1-A18))-$CT$9)/($CT$10-$CT$9)) -> 108.98222 | CU18: =EXP($CU$6+($CU$7-$CU$6)*((LN($CU$1-A18))-$CU$9)/($CU$10-$CU$9)) -> 103.54996 | CV18: =EXP($CV$6+($CV$7-$CV$6)*((LN($CV$1-A18))-$CV$9)/($CV$10-$CV$9)) -> 98.983928 | CW18: =EXP($CW$6+($CW$7-$CW$6)*((LN($CW$1-A18))-$CW$9)/($CW$10-$CW$9)) -> 95.070584 | CX18: =EXP($CX$6+($CX$7-$CX$6)*((LN($CX$1-A18))-$CX$9)/($CX$10-$CX$9)) -> 46.356785 | CY18: =EXP($CY$6+($CY$7-$CY$6)*((LN($CY$1-A18))-$CY$9)/($CY$10-$CY$9)) -> 30.450159 | CZ18: =EXP($CZ$6+($CZ$7-$CZ$6)*((LN($CZ$1-A18))-$CZ$9)/($CZ$10-$CZ$9)) -> 19.60149 | DA18: =EXP($DA$6+($DA$7-$DA$6)*((LN($DA$1-A18))-$DA$9)/($DA$10-$DA$9)) -> 13.927783 | DB18: =EXP($DB$6+($DB$7-$DB$6)*((LN($DB$1-A18))-$DB$9)/($DB$10-$DB$9)) -> 10.534818 | DC18: =EXP($DC$6+($DC$7-$DC$6)*((LN($DC$1-A18))-$DC$9)/($DC$10-$DC$9)) -> 8.3197242 | DD18: =EXP($DD$6+($DD$7-$DD$6)*((LN($DD$1-A18))-$DD$9)/($DD$10-$DD$9)) -> 6.7811696 | DE18: =EXP($DE$6+($DE$7-$DE$6)*((LN($DE$1-A18))-$DE$9)/($DE$10-$DE$9)) -> 5.6620574 | DF18: =EXP($DF$6+($DF$7-$DF$6)*((LN($DF$1-A18))-$DF$9)/($DF$10-$DF$9)) -> 4.818433
A19: 6 | CC19: 6 | CD19: =EXP($CD$6+($CD$7-$CD$6)*((LN($CD$1-A19))-$CD$9)/($CD$10-$CD$9)) -> 909.72152 | CE19: =EXP($CE$6+($CE$7-$CE$6)*((LN($CE$1-A19))-$CE$9)/($CE$10-$CE$9)) -> 880.35289 | CF19: =EXP($CF$6+($CF$7-$CF$6)*((LN($CF$1-A19))-$CF$9)/($CF$10-$CF$9)) -> 567.5173 | CG19: =EXP($CG$6+($CG$7-$CG$6)*((LN($CG$1-A19))-$CG$9)/($CG$10-$CG$9)) -> 435.79296 | CH19: =EXP($CH$6+($CH$7-$CH$6)*((LN($CH$1-A19))-$CH$9)/($CH$10-$CH$9)) -> 389.37208 | CI19: =EXP($CI$6+($CI$7-$CI$6)*((LN($CI$1-A19))-$CI$9)/($CI$10-$CI$9)) -> 358.42554 | CJ19: =EXP($CJ$6+($CJ$7-$CJ$6)*((LN($CJ$1-A19))-$CJ$9)/($CJ$10-$CJ$9)) -> 335.03196 | CK19: =EXP($CK$6+($CK$7-$CK$6)*((LN($CK$1-A19))-$CK$9)/($CK$10-$CK$9)) -> 316.47928 | CL19: =EXP($CL$6+($CL$7-$CL$6)*((LN($CL$1-A19))-$CL$9)/($CL$10-$CL$9)) -> 301.25936 | CM19: =EXP($CM$6+($CM$7-$CM$6)*((LN($CM$1-A19))-$CM$9)/($CM$10-$CM$9)) -> 288.45514 | CN19: =EXP($CN$6+($CN$7-$CN$6)*((LN($CN$1-A19))-$CN$9)/($CN$10-$CN$9)) -> 277.47133 | CO19: =EXP($CO$6+($CO$7-$CO$6)*((LN($CO$1-A19))-$CO$9)/($CO$10-$CO$9)) -> 188.92164 | CP19: =EXP($CP$6+($CP$7-$CP$6)*((LN($CP$1-A19))-$CP$9)/($CP$10-$CP$9)) -> 150.6762 | CQ19: =EXP($CQ$6+($CQ$7-$CQ$6)*((LN($CQ$1-A19))-$CQ$9)/($CQ$10-$CQ$9)) -> 135.04727 | CR19: =EXP($CR$6+($CR$7-$CR$6)*((LN($CR$1-A19))-$CR$9)/($CR$10-$CR$9)) -> 123.98036 | CS19: =EXP($CS$6+($CS$7-$CS$6)*((LN($CS$1-A19))-$CS$9)/($CS$10-$CS$9)) -> 115.61671 | CT19: =EXP($CT$6+($CT$7-$CT$6)*((LN($CT$1-A19))-$CT$9)/($CT$10-$CT$9)) -> 108.98818 | CU19: =EXP($CU$6+($CU$7-$CU$6)*((LN($CU$1-A19))-$CU$9)/($CU$10-$CU$9)) -> 103.55492 | CV19: =EXP($CV$6+($CV$7-$CV$6)*((LN($CV$1-A19))-$CV$9)/($CV$10-$CV$9)) -> 98.988139 | CW19: =EXP($CW$6+($CW$7-$CW$6)*((LN($CW$1-A19))-$CW$9)/($CW$10-$CW$9)) -> 95.074224 | CX19: =EXP($CX$6+($CX$7-$CX$6)*((LN($CX$1-A19))-$CX$9)/($CX$10-$CX$9)) -> 46.359188 | CY19: =EXP($CY$6+($CY$7-$CY$6)*((LN($CY$1-A19))-$CY$9)/($CY$10-$CY$9)) -> 30.451211 | CZ19: =EXP($CZ$6+($CZ$7-$CZ$6)*((LN($CZ$1-A19))-$CZ$9)/($CZ$10-$CZ$9)) -> 19.602241 | DA19: =EXP($DA$6+($DA$7-$DA$6)*((LN($DA$1-A19))-$DA$9)/($DA$10-$DA$9)) -> 13.928209 | DB19: =EXP($DB$6+($DB$7-$DB$6)*((LN($DB$1-A19))-$DB$9)/($DB$10-$DB$9)) -> 10.535087 | DC19: =EXP($DC$6+($DC$7-$DC$6)*((LN($DC$1-A19))-$DC$9)/($DC$10-$DC$9)) -> 8.3199062 | DD19: =EXP($DD$6+($DD$7-$DD$6)*((LN($DD$1-A19))-$DD$9)/($DD$10-$DD$9)) -> 6.7812994 | DE19: =EXP($DE$6+($DE$7-$DE$6)*((LN($DE$1-A19))-$DE$9)/($DE$10-$DE$9)) -> 5.6621537 | DF19: =EXP($DF$6+($DF$7-$DF$6)*((LN($DF$1-A19))-$DF$9)/($DF$10-$DF$9)) -> 4.8185067
A20: 7 | CC20: 7 | CD20: =EXP($CD$6+($CD$7-$CD$6)*((LN($CD$1-A20))-$CD$9)/($CD$10-$CD$9)) -> 912.90572 | CE20: =EXP($CE$6+($CE$7-$CE$6)*((LN($CE$1-A20))-$CE$9)/($CE$10-$CE$9)) -> 883.10421 | CF20: =EXP($CF$6+($CF$7-$CF$6)*((LN($CF$1-A20))-$CF$9)/($CF$10-$CF$9)) -> 569.38361 | CG20: =EXP($CG$6+($CG$7-$CG$6)*((LN($CG$1-A20))-$CG$9)/($CG$10-$CG$9)) -> 436.73727 | CH20: =EXP($CH$6+($CH$7-$CH$6)*((LN($CH$1-A20))-$CH$9)/($CH$10-$CH$9)) -> 389.73455 | CI20: =EXP($CI$6+($CI$7-$CI$6)*((LN($CI$1-A20))-$CI$9)/($CI$10-$CI$9)) -> 358.69156 | CJ20: =EXP($CJ$6+($CJ$7-$CJ$6)*((LN($CJ$1-A20))-$CJ$9)/($CJ$10-$CJ$9)) -> 335.23871 | CK20: =EXP($CK$6+($CK$7-$CK$6)*((LN($CK$1-A20))-$CK$9)/($CK$10-$CK$9)) -> 316.64641 | CL20: =EXP($CL$6+($CL$7-$CL$6)*((LN($CL$1-A20))-$CL$9)/($CL$10-$CL$9)) -> 301.3984 | CM20: =EXP($CM$6+($CM$7-$CM$6)*((LN($CM$1-A20))-$CM$9)/($CM$10-$CM$9)) -> 288.57337 | CN20: =EXP($CN$6+($CN$7-$CN$6)*((LN($CN$1-A20))-$CN$9)/($CN$10-$CN$9)) -> 277.5736 | CO20: =EXP($CO$6+($CO$7-$CO$6)*((LN($CO$1-A20))-$CO$9)/($CO$10-$CO$9)) -> 188.97412 | CP20: =EXP($CP$6+($CP$7-$CP$6)*((LN($CP$1-A20))-$CP$9)/($CP$10-$CP$9)) -> 150.6762 | CQ20: =EXP($CQ$6+($CQ$7-$CQ$6)*((LN($CQ$1-A20))-$CQ$9)/($CQ$10-$CQ$9)) -> 135.06022 | CR20: =EXP($CR$6+($CR$7-$CR$6)*((LN($CR$1-A20))-$CR$9)/($CR$10-$CR$9)) -> 123.98986 | CS20: =EXP($CS$6+($CS$7-$CS$6)*((LN($CS$1-A20))-$CS$9)/($CS$10-$CS$9)) -> 115.62409 | CT20: =EXP($CT$6+($CT$7-$CT$6)*((LN($CT$1-A20))-$CT$9)/($CT$10-$CT$9)) -> 108.99414 | CU20: =EXP($CU$6+($CU$7-$CU$6)*((LN($CU$1-A20))-$CU$9)/($CU$10-$CU$9)) -> 103.55988 | CV20: =EXP($CV$6+($CV$7-$CV$6)*((LN($CV$1-A20))-$CV$9)/($CV$10-$CV$9)) -> 98.992351 | CW20: =EXP($CW$6+($CW$7-$CW$6)*((LN($CW$1-A20))-$CW$9)/($CW$10-$CW$9)) -> 95.077864 | CX20: =EXP($CX$6+($CX$7-$CX$6)*((LN($CX$1-A20))-$CX$9)/($CX$10-$CX$9)) -> 46.361591 | CY20: =EXP($CY$6+($CY$7-$CY$6)*((LN($CY$1-A20))-$CY$9)/($CY$10-$CY$9)) -> 30.452264 | CZ20: =EXP($CZ$6+($CZ$7-$CZ$6)*((LN($CZ$1-A20))-$CZ$9)/($CZ$10-$CZ$9)) -> 19.602991 | DA20: =EXP($DA$6+($DA$7-$DA$6)*((LN($DA$1-A20))-$DA$9)/($DA$10-$DA$9)) -> 13.928636 | DB20: =EXP($DB$6+($DB$7-$DB$6)*((LN($DB$1-A20))-$DB$9)/($DB$10-$DB$9)) -> 10.535356 | DC20: =EXP($DC$6+($DC$7-$DC$6)*((LN($DC$1-A20))-$DC$9)/($DC$10-$DC$9)) -> 8.3200882 | DD20: =EXP($DD$6+($DD$7-$DD$6)*((LN($DD$1-A20))-$DD$9)/($DD$10-$DD$9)) -> 6.7814292 | DE20: =EXP($DE$6+($DE$7-$DE$6)*((LN($DE$1-A20))-$DE$9)/($DE$10-$DE$9)) -> 5.66225 | DF20: =EXP($DF$6+($DF$7-$DF$6)*((LN($DF$1-A20))-$DF$9)/($DF$10-$DF$9)) -> 4.8185805
A21: 8 | CC21: 8 | CD21: =EXP($CD$6+($CD$7-$CD$6)*((LN($CD$1-A21))-$CD$9)/($CD$10-$CD$9)) -> 916.13986 | CE21: =EXP($CE$6+($CE$7-$CE$6)*((LN($CE$1-A21))-$CE$9)/($CE$10-$CE$9)) -> 885.89401 | CF21: =EXP($CF$6+($CF$7-$CF$6)*((LN($CF$1-A21))-$CF$9)/($CF$10-$CF$9)) -> 571.2658 | CG21: =EXP($CG$6+($CG$7-$CG$6)*((LN($CG$1-A21))-$CG$9)/($CG$10-$CG$9)) -> 437.68687 | CH21: =EXP($CH$6+($CH$7-$CH$6)*((LN($CH$1-A21))-$CH$9)/($CH$10-$CH$9)) -> 390.09827 | CI21: =EXP($CI$6+($CI$7-$CI$6)*((LN($CI$1-A21))-$CI$9)/($CI$10-$CI$9)) -> 358.95832 | CJ21: =EXP($CJ$6+($CJ$7-$CJ$6)*((LN($CJ$1-A21))-$CJ$9)/($CJ$10-$CJ$9)) -> 335.44593 | CK21: =EXP($CK$6+($CK$7-$CK$6)*((LN($CK$1-A21))-$CK$9)/($CK$10-$CK$9)) -> 316.81387 | CL21: =EXP($CL$6+($CL$7-$CL$6)*((LN($CL$1-A21))-$CL$9)/($CL$10-$CL$9)) -> 301.53768 | CM21: =EXP($CM$6+($CM$7-$CM$6)*((LN($CM$1-A21))-$CM$9)/($CM$10-$CM$9)) -> 288.69178 | CN21: =EXP($CN$6+($CN$7-$CN$6)*((LN($CN$1-A21))-$CN$9)/($CN$10-$CN$9)) -> 277.67602 | CO21: =EXP($CO$6+($CO$7-$CO$6)*((LN($CO$1-A21))-$CO$9)/($CO$10-$CO$9)) -> 189.02665 | CP21: =EXP($CP$6+($CP$7-$CP$6)*((LN($CP$1-A21))-$CP$9)/($CP$10-$CP$9)) -> 150.6762 | CQ21: =EXP($CQ$6+($CQ$7-$CQ$6)*((LN($CQ$1-A21))-$CQ$9)/($CQ$10-$CQ$9)) -> 135.07316 | CR21: =EXP($CR$6+($CR$7-$CR$6)*((LN($CR$1-A21))-$CR$9)/($CR$10-$CR$9)) -> 123.99937 | CS21: =EXP($CS$6+($CS$7-$CS$6)*((LN($CS$1-A21))-$CS$9)/($CS$10-$CS$9)) -> 115.63148 | CT21: =EXP($CT$6+($CT$7-$CT$6)*((LN($CT$1-A21))-$CT$9)/($CT$10-$CT$9)) -> 109.00011 | CU21: =EXP($CU$6+($CU$7-$CU$6)*((LN($CU$1-A21))-$CU$9)/($CU$10-$CU$9)) -> 103.56483 | CV21: =EXP($CV$6+($CV$7-$CV$6)*((LN($CV$1-A21))-$CV$9)/($CV$10-$CV$9)) -> 98.996563 | CW21: =EXP($CW$6+($CW$7-$CW$6)*((LN($CW$1-A21))-$CW$9)/($CW$10-$CW$9)) -> 95.081505 | CX21: =EXP($CX$6+($CX$7-$CX$6)*((LN($CX$1-A21))-$CX$9)/($CX$10-$CX$9)) -> 46.363994 | CY21: =EXP($CY$6+($CY$7-$CY$6)*((LN($CY$1-A21))-$CY$9)/($CY$10-$CY$9)) -> 30.453316 | CZ21: =EXP($CZ$6+($CZ$7-$CZ$6)*((LN($CZ$1-A21))-$CZ$9)/($CZ$10-$CZ$9)) -> 19.603742 | DA21: =EXP($DA$6+($DA$7-$DA$6)*((LN($DA$1-A21))-$DA$9)/($DA$10-$DA$9)) -> 13.929063 | DB21: =EXP($DB$6+($DB$7-$DB$6)*((LN($DB$1-A21))-$DB$9)/($DB$10-$DB$9)) -> 10.535625 | DC21: =EXP($DC$6+($DC$7-$DC$6)*((LN($DC$1-A21))-$DC$9)/($DC$10-$DC$9)) -> 8.3202702 | DD21: =EXP($DD$6+($DD$7-$DD$6)*((LN($DD$1-A21))-$DD$9)/($DD$10-$DD$9)) -> 6.781559 | DE21: =EXP($DE$6+($DE$7-$DE$6)*((LN($DE$1-A21))-$DE$9)/($DE$10-$DE$9)) -> 5.6623464 | DF21: =EXP($DF$6+($DF$7-$DF$6)*((LN($DF$1-A21))-$DF$9)/($DF$10-$DF$9)) -> 4.8186543
A22: 9 | CC22: 9 | CD22: =EXP($CD$6+($CD$7-$CD$6)*((LN($CD$1-A22))-$CD$9)/($CD$10-$CD$9)) -> 919.42536 | CE22: =EXP($CE$6+($CE$7-$CE$6)*((LN($CE$1-A22))-$CE$9)/($CE$10-$CE$9)) -> 888.72327 | CF22: =EXP($CF$6+($CF$7-$CF$6)*((LN($CF$1-A22))-$CF$9)/($CF$10-$CF$9)) -> 573.1641 | CG22: =EXP($CG$6+($CG$7-$CG$6)*((LN($CG$1-A22))-$CG$9)/($CG$10-$CG$9)) -> 438.64179 | CH22: =EXP($CH$6+($CH$7-$CH$6)*((LN($CH$1-A22))-$CH$9)/($CH$10-$CH$9)) -> 390.46327 | CI22: =EXP($CI$6+($CI$7-$CI$6)*((LN($CI$1-A22))-$CI$9)/($CI$10-$CI$9)) -> 359.22582 | CJ22: =EXP($CJ$6+($CJ$7-$CJ$6)*((LN($CJ$1-A22))-$CJ$9)/($CJ$10-$CJ$9)) -> 335.65364 | CK22: =EXP($CK$6+($CK$7-$CK$6)*((LN($CK$1-A22))-$CK$9)/($CK$10-$CK$9)) -> 316.98166 | CL22: =EXP($CL$6+($CL$7-$CL$6)*((LN($CL$1-A22))-$CL$9)/($CL$10-$CL$9)) -> 301.6772 | CM22: =EXP($CM$6+($CM$7-$CM$6)*((LN($CM$1-A22))-$CM$9)/($CM$10-$CM$9)) -> 288.81037 | CN22: =EXP($CN$6+($CN$7-$CN$6)*((LN($CN$1-A22))-$CN$9)/($CN$10-$CN$9)) -> 277.77858 | CO22: =EXP($CO$6+($CO$7-$CO$6)*((LN($CO$1-A22))-$CO$9)/($CO$10-$CO$9)) -> 189.07922 | CP22: =EXP($CP$6+($CP$7-$CP$6)*((LN($CP$1-A22))-$CP$9)/($CP$10-$CP$9)) -> 150.6762 | CQ22: =EXP($CQ$6+($CQ$7-$CQ$6)*((LN($CQ$1-A22))-$CQ$9)/($CQ$10-$CQ$9)) -> 135.08611 | CR22: =EXP($CR$6+($CR$7-$CR$6)*((LN($CR$1-A22))-$CR$9)/($CR$10-$CR$9)) -> 124.00887 | CS22: =EXP($CS$6+($CS$7-$CS$6)*((LN($CS$1-A22))-$CS$9)/($CS$10-$CS$9)) -> 115.63886 | CT22: =EXP($CT$6+($CT$7-$CT$6)*((LN($CT$1-A22))-$CT$9)/($CT$10-$CT$9)) -> 109.00607 | CU22: =EXP($CU$6+($CU$7-$CU$6)*((LN($CU$1-A22))-$CU$9)/($CU$10-$CU$9)) -> 103.56979 | CV22: =EXP($CV$6+($CV$7-$CV$6)*((LN($CV$1-A22))-$CV$9)/($CV$10-$CV$9)) -> 99.000776 | CW22: =EXP($CW$6+($CW$7-$CW$6)*((LN($CW$1-A22))-$CW$9)/($CW$10-$CW$9)) -> 95.085147 | CX22: =EXP($CX$6+($CX$7-$CX$6)*((LN($CX$1-A22))-$CX$9)/($CX$10-$CX$9)) -> 46.366398 | CY22: =EXP($CY$6+($CY$7-$CY$6)*((LN($CY$1-A22))-$CY$9)/($CY$10-$CY$9)) -> 30.454368 | CZ22: =EXP($CZ$6+($CZ$7-$CZ$6)*((LN($CZ$1-A22))-$CZ$9)/($CZ$10-$CZ$9)) -> 19.604492 | DA22: =EXP($DA$6+($DA$7-$DA$6)*((LN($DA$1-A22))-$DA$9)/($DA$10-$DA$9)) -> 13.929489 | DB22: =EXP($DB$6+($DB$7-$DB$6)*((LN($DB$1-A22))-$DB$9)/($DB$10-$DB$9)) -> 10.535894 | DC22: =EXP($DC$6+($DC$7-$DC$6)*((LN($DC$1-A22))-$DC$9)/($DC$10-$DC$9)) -> 8.3204523 | DD22: =EXP($DD$6+($DD$7-$DD$6)*((LN($DD$1-A22))-$DD$9)/($DD$10-$DD$9)) -> 6.7816889 | DE22: =EXP($DE$6+($DE$7-$DE$6)*((LN($DE$1-A22))-$DE$9)/($DE$10-$DE$9)) -> 5.6624427 | DF22: =EXP($DF$6+($DF$7-$DF$6)*((LN($DF$1-A22))-$DF$9)/($DF$10-$DF$9)) -> 4.8187281
A23: 10 | CC23: 10 | CD23: =EXP($CD$6+($CD$7-$CD$6)*((LN($CD$1-A23))-$CD$9)/($CD$10-$CD$9)) -> 922.76368 | CE23: =EXP($CE$6+($CE$7-$CE$6)*((LN($CE$1-A23))-$CE$9)/($CE$10-$CE$9)) -> 891.59297 | CF23: =EXP($CF$6+($CF$7-$CF$6)*((LN($CF$1-A23))-$CF$9)/($CF$10-$CF$9)) -> 575.07871 | CG23: =EXP($CG$6+($CG$7-$CG$6)*((LN($CG$1-A23))-$CG$9)/($CG$10-$CG$9)) -> 439.6021 | CH23: =EXP($CH$6+($CH$7-$CH$6)*((LN($CH$1-A23))-$CH$9)/($CH$10-$CH$9)) -> 390.82955 | CI23: =EXP($CI$6+($CI$7-$CI$6)*((LN($CI$1-A23))-$CI$9)/($CI$10-$CI$9)) -> 359.49407 | CJ23: =EXP($CJ$6+($CJ$7-$CJ$6)*((LN($CJ$1-A23))-$CJ$9)/($CJ$10-$CJ$9)) -> 335.86182 | CK23: =EXP($CK$6+($CK$7-$CK$6)*((LN($CK$1-A23))-$CK$9)/($CK$10-$CK$9)) -> 317.14978 | CL23: =EXP($CL$6+($CL$7-$CL$6)*((LN($CL$1-A23))-$CL$9)/($CL$10-$CL$9)) -> 301.81696 | CM23: =EXP($CM$6+($CM$7-$CM$6)*((LN($CM$1-A23))-$CM$9)/($CM$10-$CM$9)) -> 288.92914 | CN23: =EXP($CN$6+($CN$7-$CN$6)*((LN($CN$1-A23))-$CN$9)/($CN$10-$CN$9)) -> 277.88128 | CO23: =EXP($CO$6+($CO$7-$CO$6)*((LN($CO$1-A23))-$CO$9)/($CO$10-$CO$9)) -> 189.13183 | CP23: =EXP($CP$6+($CP$7-$CP$6)*((LN($CP$1-A23))-$CP$9)/($CP$10-$CP$9)) -> 150.6762 | CQ23: =EXP($CQ$6+($CQ$7-$CQ$6)*((LN($CQ$1-A23))-$CQ$9)/($CQ$10-$CQ$9)) -> 135.09906 | CR23: =EXP($CR$6+($CR$7-$CR$6)*((LN($CR$1-A23))-$CR$9)/($CR$10-$CR$9)) -> 124.01838 | CS23: =EXP($CS$6+($CS$7-$CS$6)*((LN($CS$1-A23))-$CS$9)/($CS$10-$CS$9)) -> 115.64625 | CT23: =EXP($CT$6+($CT$7-$CT$6)*((LN($CT$1-A23))-$CT$9)/($CT$10-$CT$9)) -> 109.01204 | CU23: =EXP($CU$6+($CU$7-$CU$6)*((LN($CU$1-A23))-$CU$9)/($CU$10-$CU$9)) -> 103.57475 | CV23: =EXP($CV$6+($CV$7-$CV$6)*((LN($CV$1-A23))-$CV$9)/($CV$10-$CV$9)) -> 99.00499 | CW23: =EXP($CW$6+($CW$7-$CW$6)*((LN($CW$1-A23))-$CW$9)/($CW$10-$CW$9)) -> 95.088789 | CX23: =EXP($CX$6+($CX$7-$CX$6)*((LN($CX$1-A23))-$CX$9)/($CX$10-$CX$9)) -> 46.368801 | CY23: =EXP($CY$6+($CY$7-$CY$6)*((LN($CY$1-A23))-$CY$9)/($CY$10-$CY$9)) -> 30.45542 | CZ23: =EXP($CZ$6+($CZ$7-$CZ$6)*((LN($CZ$1-A23))-$CZ$9)/($CZ$10-$CZ$9)) -> 19.605243 | DA23: =EXP($DA$6+($DA$7-$DA$6)*((LN($DA$1-A23))-$DA$9)/($DA$10-$DA$9)) -> 13.929916 | DB23: =EXP($DB$6+($DB$7-$DB$6)*((LN($DB$1-A23))-$DB$9)/($DB$10-$DB$9)) -> 10.536163 | DC23: =EXP($DC$6+($DC$7-$DC$6)*((LN($DC$1-A23))-$DC$9)/($DC$10-$DC$9)) -> 8.3206343 | DD23: =EXP($DD$6+($DD$7-$DD$6)*((LN($DD$1-A23))-$DD$9)/($DD$10-$DD$9)) -> 6.7818187 | DE23: =EXP($DE$6+($DE$7-$DE$6)*((LN($DE$1-A23))-$DE$9)/($DE$10-$DE$9)) -> 5.6625391 | DF23: =EXP($DF$6+($DF$7-$DF$6)*((LN($DF$1-A23))-$DF$9)/($DF$10-$DF$9)) -> 4.8188019
A24: 11 | CC24: 11 | CD24: =EXP($CD$6+($CD$7-$CD$6)*((LN($CD$1-A24))-$CD$9)/($CD$10-$CD$9)) -> 926.15634 | CE24: =EXP($CE$6+($CE$7-$CE$6)*((LN($CE$1-A24))-$CE$9)/($CE$10-$CE$9)) -> 894.50415 | CF24: =EXP($CF$6+($CF$7-$CF$6)*((LN($CF$1-A24))-$CF$9)/($CF$10-$CF$9)) -> 577.00988 | CG24: =EXP($CG$6+($CG$7-$CG$6)*((LN($CG$1-A24))-$CG$9)/($CG$10-$CG$9)) -> 440.56785 | CH24: =EXP($CH$6+($CH$7-$CH$6)*((LN($CH$1-A24))-$CH$9)/($CH$10-$CH$9)) -> 391.1971 | CI24: =EXP($CI$6+($CI$7-$CI$6)*((LN($CI$1-A24))-$CI$9)/($CI$10-$CI$9)) -> 359.76306 | CJ24: =EXP($CJ$6+($CJ$7-$CJ$6)*((LN($CJ$1-A24))-$CJ$9)/($CJ$10-$CJ$9)) -> 336.07049 | CK24: =EXP($CK$6+($CK$7-$CK$6)*((LN($CK$1-A24))-$CK$9)/($CK$10-$CK$9)) -> 317.31824 | CL24: =EXP($CL$6+($CL$7-$CL$6)*((LN($CL$1-A24))-$CL$9)/($CL$10-$CL$9)) -> 301.95696 | CM24: =EXP($CM$6+($CM$7-$CM$6)*((LN($CM$1-A24))-$CM$9)/($CM$10-$CM$9)) -> 289.04809 | CN24: =EXP($CN$6+($CN$7-$CN$6)*((LN($CN$1-A24))-$CN$9)/($CN$10-$CN$9)) -> 277.98412 | CO24: =EXP($CO$6+($CO$7-$CO$6)*((LN($CO$1-A24))-$CO$9)/($CO$10-$CO$9)) -> 189.18448 | CP24: =EXP($CP$6+($CP$7-$CP$6)*((LN($CP$1-A24))-$CP$9)/($CP$10-$CP$9)) -> 150.6762 | CQ24: =EXP($CQ$6+($CQ$7-$CQ$6)*((LN($CQ$1-A24))-$CQ$9)/($CQ$10-$CQ$9)) -> 135.11202 | CR24: =EXP($CR$6+($CR$7-$CR$6)*((LN($CR$1-A24))-$CR$9)/($CR$10-$CR$9)) -> 124.02789 | CS24: =EXP($CS$6+($CS$7-$CS$6)*((LN($CS$1-A24))-$CS$9)/($CS$10-$CS$9)) -> 115.65364 | CT24: =EXP($CT$6+($CT$7-$CT$6)*((LN($CT$1-A24))-$CT$9)/($CT$10-$CT$9)) -> 109.01801 | CU24: =EXP($CU$6+($CU$7-$CU$6)*((LN($CU$1-A24))-$CU$9)/($CU$10-$CU$9)) -> 103.57971 | CV24: =EXP($CV$6+($CV$7-$CV$6)*((LN($CV$1-A24))-$CV$9)/($CV$10-$CV$9)) -> 99.009204 | CW24: =EXP($CW$6+($CW$7-$CW$6)*((LN($CW$1-A24))-$CW$9)/($CW$10-$CW$9)) -> 95.092431 | CX24: =EXP($CX$6+($CX$7-$CX$6)*((LN($CX$1-A24))-$CX$9)/($CX$10-$CX$9)) -> 46.371205 | CY24: =EXP($CY$6+($CY$7-$CY$6)*((LN($CY$1-A24))-$CY$9)/($CY$10-$CY$9)) -> 30.456473 | CZ24: =EXP($CZ$6+($CZ$7-$CZ$6)*((LN($CZ$1-A24))-$CZ$9)/($CZ$10-$CZ$9)) -> 19.605994 | DA24: =EXP($DA$6+($DA$7-$DA$6)*((LN($DA$1-A24))-$DA$9)/($DA$10-$DA$9)) -> 13.930343 | DB24: =EXP($DB$6+($DB$7-$DB$6)*((LN($DB$1-A24))-$DB$9)/($DB$10-$DB$9)) -> 10.536432 | DC24: =EXP($DC$6+($DC$7-$DC$6)*((LN($DC$1-A24))-$DC$9)/($DC$10-$DC$9)) -> 8.3208163 | DD24: =EXP($DD$6+($DD$7-$DD$6)*((LN($DD$1-A24))-$DD$9)/($DD$10-$DD$9)) -> 6.7819485 | DE24: =EXP($DE$6+($DE$7-$DE$6)*((LN($DE$1-A24))-$DE$9)/($DE$10-$DE$9)) -> 5.6626354 | DF24: =EXP($DF$6+($DF$7-$DF$6)*((LN($DF$1-A24))-$DF$9)/($DF$10-$DF$9)) -> 4.8188757
A25: 12 | CC25: 12 | CD25: =EXP($CD$6+($CD$7-$CD$6)*((LN($CD$1-A25))-$CD$9)/($CD$10-$CD$9)) -> 929.60493 | CE25: =EXP($CE$6+($CE$7-$CE$6)*((LN($CE$1-A25))-$CE$9)/($CE$10-$CE$9)) -> 897.45791 | CF25: =EXP($CF$6+($CF$7-$CF$6)*((LN($CF$1-A25))-$CF$9)/($CF$10-$CF$9)) -> 578.95783 | CG25: =EXP($CG$6+($CG$7-$CG$6)*((LN($CG$1-A25))-$CG$9)/($CG$10-$CG$9)) -> 441.53907 | CH25: =EXP($CH$6+($CH$7-$CH$6)*((LN($CH$1-A25))-$CH$9)/($CH$10-$CH$9)) -> 391.56596 | CI25: =EXP($CI$6+($CI$7-$CI$6)*((LN($CI$1-A25))-$CI$9)/($CI$10-$CI$9)) -> 360.03281 | CJ25: =EXP($CJ$6+($CJ$7-$CJ$6)*((LN($CJ$1-A25))-$CJ$9)/($CJ$10-$CJ$9)) -> 336.27964 | CK25: =EXP($CK$6+($CK$7-$CK$6)*((LN($CK$1-A25))-$CK$9)/($CK$10-$CK$9)) -> 317.48703 | CL25: =EXP($CL$6+($CL$7-$CL$6)*((LN($CL$1-A25))-$CL$9)/($CL$10-$CL$9)) -> 302.09721 | CM25: =EXP($CM$6+($CM$7-$CM$6)*((LN($CM$1-A25))-$CM$9)/($CM$10-$CM$9)) -> 289.16723 | CN25: =EXP($CN$6+($CN$7-$CN$6)*((LN($CN$1-A25))-$CN$9)/($CN$10-$CN$9)) -> 278.0871 | CO25: =EXP($CO$6+($CO$7-$CO$6)*((LN($CO$1-A25))-$CO$9)/($CO$10-$CO$9)) -> 189.23718 | CP25: =EXP($CP$6+($CP$7-$CP$6)*((LN($CP$1-A25))-$CP$9)/($CP$10-$CP$9)) -> 150.6762 | CQ25: =EXP($CQ$6+($CQ$7-$CQ$6)*((LN($CQ$1-A25))-$CQ$9)/($CQ$10-$CQ$9)) -> 135.12499 | CR25: =EXP($CR$6+($CR$7-$CR$6)*((LN($CR$1-A25))-$CR$9)/($CR$10-$CR$9)) -> 124.03741 | CS25: =EXP($CS$6+($CS$7-$CS$6)*((LN($CS$1-A25))-$CS$9)/($CS$10-$CS$9)) -> 115.66103 | CT25: =EXP($CT$6+($CT$7-$CT$6)*((LN($CT$1-A25))-$CT$9)/($CT$10-$CT$9)) -> 109.02398 | CU25: =EXP($CU$6+($CU$7-$CU$6)*((LN($CU$1-A25))-$CU$9)/($CU$10-$CU$9)) -> 103.58468 | CV25: =EXP($CV$6+($CV$7-$CV$6)*((LN($CV$1-A25))-$CV$9)/($CV$10-$CV$9)) -> 99.013419 | CW25: =EXP($CW$6+($CW$7-$CW$6)*((LN($CW$1-A25))-$CW$9)/($CW$10-$CW$9)) -> 95.096074 | CX25: =EXP($CX$6+($CX$7-$CX$6)*((LN($CX$1-A25))-$CX$9)/($CX$10-$CX$9)) -> 46.37361 | CY25: =EXP($CY$6+($CY$7-$CY$6)*((LN($CY$1-A25))-$CY$9)/($CY$10-$CY$9)) -> 30.457525 | CZ25: =EXP($CZ$6+($CZ$7-$CZ$6)*((LN($CZ$1-A25))-$CZ$9)/($CZ$10-$CZ$9)) -> 19.606744 | DA25: =EXP($DA$6+($DA$7-$DA$6)*((LN($DA$1-A25))-$DA$9)/($DA$10-$DA$9)) -> 13.930769 | DB25: =EXP($DB$6+($DB$7-$DB$6)*((LN($DB$1-A25))-$DB$9)/($DB$10-$DB$9)) -> 10.536701 | DC25: =EXP($DC$6+($DC$7-$DC$6)*((LN($DC$1-A25))-$DC$9)/($DC$10-$DC$9)) -> 8.3209984 | DD25: =EXP($DD$6+($DD$7-$DD$6)*((LN($DD$1-A25))-$DD$9)/($DD$10-$DD$9)) -> 6.7820783 | DE25: =EXP($DE$6+($DE$7-$DE$6)*((LN($DE$1-A25))-$DE$9)/($DE$10-$DE$9)) -> 5.6627318 | DF25: =EXP($DF$6+($DF$7-$DF$6)*((LN($DF$1-A25))-$DF$9)/($DF$10-$DF$9)) -> 4.8189495
... A102: 89 | CC102: 89 | CD102: =EXP($CD$6+($CD$7-$CD$6)*((LN($CD$1-A102))-$CD$9)/($CD$10-$CD$9)) -> 3313.76 | CE102: =EXP($CE$6+($CE$7-$CE$6)*((LN($CE$1-A102))-$CE$9)/($CE$10-$CE$9)) -> 1646.2376 | CF102: =EXP($CF$6+($CF$7-$CF$6)*((LN($CF$1-A102))-$CF$9)/($CF$10-$CF$9)) -> 809.13974 | CG102: =EXP($CG$6+($CG$7-$CG$6)*((LN($CG$1-A102))-$CG$9)/($CG$10-$CG$9)) -> 538.02598 | CH102: =EXP($CH$6+($CH$7-$CH$6)*((LN($CH$1-A102))-$CH$9)/($CH$10-$CH$9)) -> 424.60017 | CI102: =EXP($CI$6+($CI$7-$CI$6)*((LN($CI$1-A102))-$CI$9)/($CI$10-$CI$9)) -> 383.39621 | CJ102: =EXP($CJ$6+($CJ$7-$CJ$6)*((LN($CJ$1-A102))-$CJ$9)/($CJ$10-$CJ$9)) -> 354.01279 | CK102: =EXP($CK$6+($CK$7-$CK$6)*((LN($CK$1-A102))-$CK$9)/($CK$10-$CK$9)) -> 331.58839 | CL102: =EXP($CL$6+($CL$7-$CL$6)*((LN($CL$1-A102))-$CL$9)/($CL$10-$CL$9)) -> 313.68744 | CM102: =EXP($CM$6+($CM$7-$CM$6)*((LN($CM$1-A102))-$CM$9)/($CM$10-$CM$9)) -> 298.9317 | CN102: =EXP($CN$6+($CN$7-$CN$6)*((LN($CN$1-A102))-$CN$9)/($CN$10-$CN$9)) -> 286.47253 | CO102: =EXP($CO$6+($CO$7-$CO$6)*((LN($CO$1-A102))-$CO$9)/($CO$10-$CO$9)) -> 193.42242 | CP102: =EXP($CP$6+($CP$7-$CP$6)*((LN($CP$1-A102))-$CP$9)/($CP$10-$CP$9)) -> 150.6762 | CQ102: =EXP($CQ$6+($CQ$7-$CQ$6)*((LN($CQ$1-A102))-$CQ$9)/($CQ$10-$CQ$9)) -> 136.13686 | CR102: =EXP($CR$6+($CR$7-$CR$6)*((LN($CR$1-A102))-$CR$9)/($CR$10-$CR$9)) -> 124.77802 | CS102: =EXP($CS$6+($CS$7-$CS$6)*((LN($CS$1-A102))-$CS$9)/($CS$10-$CS$9)) -> 116.23526 | CT102: =EXP($CT$6+($CT$7-$CT$6)*((LN($CT$1-A102))-$CT$9)/($CT$10-$CT$9)) -> 109.4872 | CU102: =EXP($CU$6+($CU$7-$CU$6)*((LN($CU$1-A102))-$CU$9)/($CU$10-$CU$9)) -> 103.96932 | CV102: =EXP($CV$6+($CV$7-$CV$6)*((LN($CV$1-A102))-$CV$9)/($CV$10-$CV$9)) -> 99.33994 | CW102: =EXP($CW$6+($CW$7-$CW$6)*((LN($CW$1-A102))-$CW$9)/($CW$10-$CW$9)) -> 95.37811 | CX102: =EXP($CX$6+($CX$7-$CX$6)*((LN($CX$1-A102))-$CX$9)/($CX$10-$CX$9)) -> 46.559472 | CY102: =EXP($CY$6+($CY$7-$CY$6)*((LN($CY$1-A102))-$CY$9)/($CY$10-$CY$9)) -> 30.538784 | CZ102: =EXP($CZ$6+($CZ$7-$CZ$6)*((LN($CZ$1-A102))-$CZ$9)/($CZ$10-$CZ$9)) -> 19.664696 | DA102: =EXP($DA$6+($DA$7-$DA$6)*((LN($DA$1-A102))-$DA$9)/($DA$10-$DA$9)) -> 13.963691 | DB102: =EXP($DB$6+($DB$7-$DB$6)*((LN($DB$1-A102))-$DB$9)/($DB$10-$DB$9)) -> 10.557444 | DC102: =EXP($DC$6+($DC$7-$DC$6)*((LN($DC$1-A102))-$DC$9)/($DC$10-$DC$9)) -> 8.3350357 | DD102: =EXP($DD$6+($DD$7-$DD$6)*((LN($DD$1-A102))-$DD$9)/($DD$10-$DD$9)) -> 6.7920874 | DE102: =EXP($DE$6+($DE$7-$DE$6)*((LN($DE$1-A102))-$DE$9)/($DE$10-$DE$9)) -> 5.6701592 | DF102: =EXP($DF$6+($DF$7-$DF$6)*((LN($DF$1-A102))-$DF$9)/($DF$10-$DF$9)) -> 4.8246375
A103: 90 | CC103: 90 | CE103: =EXP($CE$6+($CE$7-$CE$6)*((LN($CE$1-A103))-$CE$9)/($CE$10-$CE$9)) -> 1692.6568 | CF103: =EXP($CF$6+($CF$7-$CF$6)*((LN($CF$1-A103))-$CF$9)/($CF$10-$CF$9)) -> 813.80511 | CG103: =EXP($CG$6+($CG$7-$CG$6)*((LN($CG$1-A103))-$CG$9)/($CG$10-$CG$9)) -> 539.6522 | CH103: =EXP($CH$6+($CH$7-$CH$6)*((LN($CH$1-A103))-$CH$9)/($CH$10-$CH$9)) -> 425.10114 | CI103: =EXP($CI$6+($CI$7-$CI$6)*((LN($CI$1-A103))-$CI$9)/($CI$10-$CI$9)) -> 383.73832 | CJ103: =EXP($CJ$6+($CJ$7-$CJ$6)*((LN($CJ$1-A103))-$CJ$9)/($CJ$10-$CJ$9)) -> 354.26678 | CK103: =EXP($CK$6+($CK$7-$CK$6)*((LN($CK$1-A103))-$CK$9)/($CK$10-$CK$9)) -> 331.78731 | CL103: =EXP($CL$6+($CL$7-$CL$6)*((LN($CL$1-A103))-$CL$9)/($CL$10-$CL$9)) -> 313.84913 | CM103: =EXP($CM$6+($CM$7-$CM$6)*((LN($CM$1-A103))-$CM$9)/($CM$10-$CM$9)) -> 299.06677 | CN103: =EXP($CN$6+($CN$7-$CN$6)*((LN($CN$1-A103))-$CN$9)/($CN$10-$CN$9)) -> 286.58775 | CO103: =EXP($CO$6+($CO$7-$CO$6)*((LN($CO$1-A103))-$CO$9)/($CO$10-$CO$9)) -> 193.47849 | CP103: =EXP($CP$6+($CP$7-$CP$6)*((LN($CP$1-A103))-$CP$9)/($CP$10-$CP$9)) -> 150.6762 | CQ103: =EXP($CQ$6+($CQ$7-$CQ$6)*((LN($CQ$1-A103))-$CQ$9)/($CQ$10-$CQ$9)) -> 136.15018 | CR103: =EXP($CR$6+($CR$7-$CR$6)*((LN($CR$1-A103))-$CR$9)/($CR$10-$CR$9)) -> 124.78774 | CS103: =EXP($CS$6+($CS$7-$CS$6)*((LN($CS$1-A103))-$CS$9)/($CS$10-$CS$9)) -> 116.24278 | CT103: =EXP($CT$6+($CT$7-$CT$6)*((LN($CT$1-A103))-$CT$9)/($CT$10-$CT$9)) -> 109.49326 | CU103: =EXP($CU$6+($CU$7-$CU$6)*((LN($CU$1-A103))-$CU$9)/($CU$10-$CU$9)) -> 103.97435 | CV103: =EXP($CV$6+($CV$7-$CV$6)*((LN($CV$1-A103))-$CV$9)/($CV$10-$CV$9)) -> 99.344206 | CW103: =EXP($CW$6+($CW$7-$CW$6)*((LN($CW$1-A103))-$CW$9)/($CW$10-$CW$9)) -> 95.381792 | CX103: =EXP($CX$6+($CX$7-$CX$6)*((LN($CX$1-A103))-$CX$9)/($CX$10-$CX$9)) -> 46.561895 | CY103: =EXP($CY$6+($CY$7-$CY$6)*((LN($CY$1-A103))-$CY$9)/($CY$10-$CY$9)) -> 30.539842 | CZ103: =EXP($CZ$6+($CZ$7-$CZ$6)*((LN($CZ$1-A103))-$CZ$9)/($CZ$10-$CZ$9)) -> 19.66545 | DA103: =EXP($DA$6+($DA$7-$DA$6)*((LN($DA$1-A103))-$DA$9)/($DA$10-$DA$9)) -> 13.96412 | DB103: =EXP($DB$6+($DB$7-$DB$6)*((LN($DB$1-A103))-$DB$9)/($DB$10-$DB$9)) -> 10.557714 | DC103: =EXP($DC$6+($DC$7-$DC$6)*((LN($DC$1-A103))-$DC$9)/($DC$10-$DC$9)) -> 8.3352183 | DD103: =EXP($DD$6+($DD$7-$DD$6)*((LN($DD$1-A103))-$DD$9)/($DD$10-$DD$9)) -> 6.7922176 | DE103: =EXP($DE$6+($DE$7-$DE$6)*((LN($DE$1-A103))-$DE$9)/($DE$10-$DE$9)) -> 5.6702558 | DF103: =EXP($DF$6+($DF$7-$DF$6)*((LN($DF$1-A103))-$DF$9)/($DF$10-$DF$9)) -> 4.8247114
A104: 91 | CC104: 91 | CE104: =EXP($CE$6+($CE$7-$CE$6)*((LN($CE$1-A104))-$CE$9)/($CE$10-$CE$9)) -> 1745.4956 | CF104: =EXP($CF$6+($CF$7-$CF$6)*((LN($CF$1-A104))-$CF$9)/($CF$10-$CF$9)) -> 818.54035 | CG104: =EXP($CG$6+($CG$7-$CG$6)*((LN($CG$1-A104))-$CG$9)/($CG$10-$CG$9)) -> 541.29114 | CH104: =EXP($CH$6+($CH$7-$CH$6)*((LN($CH$1-A104))-$CH$9)/($CH$10-$CH$9)) -> 425.60433 | CI104: =EXP($CI$6+($CI$7-$CI$6)*((LN($CI$1-A104))-$CI$9)/($CI$10-$CI$9)) -> 384.08158 | CJ104: =EXP($CJ$6+($CJ$7-$CJ$6)*((LN($CJ$1-A104))-$CJ$9)/($CJ$10-$CJ$9)) -> 354.52146 | CK104: =EXP($CK$6+($CK$7-$CK$6)*((LN($CK$1-A104))-$CK$9)/($CK$10-$CK$9)) -> 331.98668 | CL104: =EXP($CL$6+($CL$7-$CL$6)*((LN($CL$1-A104))-$CL$9)/($CL$10-$CL$9)) -> 314.01114 | CM104: =EXP($CM$6+($CM$7-$CM$6)*((LN($CM$1-A104))-$CM$9)/($CM$10-$CM$9)) -> 299.20207 | CN104: =EXP($CN$6+($CN$7-$CN$6)*((LN($CN$1-A104))-$CN$9)/($CN$10-$CN$9)) -> 286.70314 | CO104: =EXP($CO$6+($CO$7-$CO$6)*((LN($CO$1-A104))-$CO$9)/($CO$10-$CO$9)) -> 193.53461 | CP104: =EXP($CP$6+($CP$7-$CP$6)*((LN($CP$1-A104))-$CP$9)/($CP$10-$CP$9)) -> 150.6762 | CQ104: =EXP($CQ$6+($CQ$7-$CQ$6)*((LN($CQ$1-A104))-$CQ$9)/($CQ$10-$CQ$9)) -> 136.16351 | CR104: =EXP($CR$6+($CR$7-$CR$6)*((LN($CR$1-A104))-$CR$9)/($CR$10-$CR$9)) -> 124.79747 | CS104: =EXP($CS$6+($CS$7-$CS$6)*((LN($CS$1-A104))-$CS$9)/($CS$10-$CS$9)) -> 116.25031 | CT104: =EXP($CT$6+($CT$7-$CT$6)*((LN($CT$1-A104))-$CT$9)/($CT$10-$CT$9)) -> 109.49933 | CU104: =EXP($CU$6+($CU$7-$CU$6)*((LN($CU$1-A104))-$CU$9)/($CU$10-$CU$9)) -> 103.97938 | CV104: =EXP($CV$6+($CV$7-$CV$6)*((LN($CV$1-A104))-$CV$9)/($CV$10-$CV$9)) -> 99.348473 | CW104: =EXP($CW$6+($CW$7-$CW$6)*((LN($CW$1-A104))-$CW$9)/($CW$10-$CW$9)) -> 95.385476 | CX104: =EXP($CX$6+($CX$7-$CX$6)*((LN($CX$1-A104))-$CX$9)/($CX$10-$CX$9)) -> 46.564319 | CY104: =EXP($CY$6+($CY$7-$CY$6)*((LN($CY$1-A104))-$CY$9)/($CY$10-$CY$9)) -> 30.5409 | CZ104: =EXP($CZ$6+($CZ$7-$CZ$6)*((LN($CZ$1-A104))-$CZ$9)/($CZ$10-$CZ$9)) -> 19.666205 | DA104: =EXP($DA$6+($DA$7-$DA$6)*((LN($DA$1-A104))-$DA$9)/($DA$10-$DA$9)) -> 13.964548 | DB104: =EXP($DB$6+($DB$7-$DB$6)*((LN($DB$1-A104))-$DB$9)/($DB$10-$DB$9)) -> 10.557984 | DC104: =EXP($DC$6+($DC$7-$DC$6)*((LN($DC$1-A104))-$DC$9)/($DC$10-$DC$9)) -> 8.3354009 | DD104: =EXP($DD$6+($DD$7-$DD$6)*((LN($DD$1-A104))-$DD$9)/($DD$10-$DD$9)) -> 6.7923477 | DE104: =EXP($DE$6+($DE$7-$DE$6)*((LN($DE$1-A104))-$DE$9)/($DE$10-$DE$9)) -> 5.6703524 | DF104: =EXP($DF$6+($DF$7-$DF$6)*((LN($DF$1-A104))-$DF$9)/($DF$10-$DF$9)) -> 4.8247853
A105: 92 | CC105: 92 | CE105: =EXP($CE$6+($CE$7-$CE$6)*((LN($CE$1-A105))-$CE$9)/($CE$10-$CE$9)) -> 1806.5194 | CF105: =EXP($CF$6+($CF$7-$CF$6)*((LN($CF$1-A105))-$CF$9)/($CF$10-$CF$9)) -> 823.34717 | CG105: =EXP($CG$6+($CG$7-$CG$6)*((LN($CG$1-A105))-$CG$9)/($CG$10-$CG$9)) -> 542.94294 | CH105: =EXP($CH$6+($CH$7-$CH$6)*((LN($CH$1-A105))-$CH$9)/($CH$10-$CH$9)) -> 426.10975 | CI105: =EXP($CI$6+($CI$7-$CI$6)*((LN($CI$1-A105))-$CI$9)/($CI$10-$CI$9)) -> 384.42599 | CJ105: =EXP($CJ$6+($CJ$7-$CJ$6)*((LN($CJ$1-A105))-$CJ$9)/($CJ$10-$CJ$9)) -> 354.77682 | CK105: =EXP($CK$6+($CK$7-$CK$6)*((LN($CK$1-A105))-$CK$9)/($CK$10-$CK$9)) -> 332.1865 | CL105: =EXP($CL$6+($CL$7-$CL$6)*((LN($CL$1-A105))-$CL$9)/($CL$10-$CL$9)) -> 314.17345 | CM105: =EXP($CM$6+($CM$7-$CM$6)*((LN($CM$1-A105))-$CM$9)/($CM$10-$CM$9)) -> 299.33759 | CN105: =EXP($CN$6+($CN$7-$CN$6)*((LN($CN$1-A105))-$CN$9)/($CN$10-$CN$9)) -> 286.81871 | CO105: =EXP($CO$6+($CO$7-$CO$6)*((LN($CO$1-A105))-$CO$9)/($CO$10-$CO$9)) -> 193.59077 | CP105: =EXP($CP$6+($CP$7-$CP$6)*((LN($CP$1-A105))-$CP$9)/($CP$10-$CP$9)) -> 150.6762 | CQ105: =EXP($CQ$6+($CQ$7-$CQ$6)*((LN($CQ$1-A105))-$CQ$9)/($CQ$10-$CQ$9)) -> 136.17684 | CR105: =EXP($CR$6+($CR$7-$CR$6)*((LN($CR$1-A105))-$CR$9)/($CR$10-$CR$9)) -> 124.8072 | CS105: =EXP($CS$6+($CS$7-$CS$6)*((LN($CS$1-A105))-$CS$9)/($CS$10-$CS$9)) -> 116.25784 | CT105: =EXP($CT$6+($CT$7-$CT$6)*((LN($CT$1-A105))-$CT$9)/($CT$10-$CT$9)) -> 109.50539 | CU105: =EXP($CU$6+($CU$7-$CU$6)*((LN($CU$1-A105))-$CU$9)/($CU$10-$CU$9)) -> 103.98441 | CV105: =EXP($CV$6+($CV$7-$CV$6)*((LN($CV$1-A105))-$CV$9)/($CV$10-$CV$9)) -> 99.35274 | CW105: =EXP($CW$6+($CW$7-$CW$6)*((LN($CW$1-A105))-$CW$9)/($CW$10-$CW$9)) -> 95.389159 | CX105: =EXP($CX$6+($CX$7-$CX$6)*((LN($CX$1-A105))-$CX$9)/($CX$10-$CX$9)) -> 46.566743 | CY105: =EXP($CY$6+($CY$7-$CY$6)*((LN($CY$1-A105))-$CY$9)/($CY$10-$CY$9)) -> 30.541958 | CZ105: =EXP($CZ$6+($CZ$7-$CZ$6)*((LN($CZ$1-A105))-$CZ$9)/($CZ$10-$CZ$9)) -> 19.666959 | DA105: =EXP($DA$6+($DA$7-$DA$6)*((LN($DA$1-A105))-$DA$9)/($DA$10-$DA$9)) -> 13.964977 | DB105: =EXP($DB$6+($DB$7-$DB$6)*((LN($DB$1-A105))-$DB$9)/($DB$10-$DB$9)) -> 10.558254 | DC105: =EXP($DC$6+($DC$7-$DC$6)*((LN($DC$1-A105))-$DC$9)/($DC$10-$DC$9)) -> 8.3355834 | DD105: =EXP($DD$6+($DD$7-$DD$6)*((LN($DD$1-A105))-$DD$9)/($DD$10-$DD$9)) -> 6.7924779 | DE105: =EXP($DE$6+($DE$7-$DE$6)*((LN($DE$1-A105))-$DE$9)/($DE$10-$DE$9)) -> 5.6704489 | DF105: =EXP($DF$6+($DF$7-$DF$6)*((LN($DF$1-A105))-$DF$9)/($DF$10-$DF$9)) -> 4.8248593
A106: 93 | CC106: 93 | CE106: =EXP($CE$6+($CE$7-$CE$6)*((LN($CE$1-A106))-$CE$9)/($CE$10-$CE$9)) -> 1878.2868 | CF106: =EXP($CF$6+($CF$7-$CF$6)*((LN($CF$1-A106))-$CF$9)/($CF$10-$CF$9)) -> 828.22733 | CG106: =EXP($CG$6+($CG$7-$CG$6)*((LN($CG$1-A106))-$CG$9)/($CG$10-$CG$9)) -> 544.60779 | CH106: =EXP($CH$6+($CH$7-$CH$6)*((LN($CH$1-A106))-$CH$9)/($CH$10-$CH$9)) -> 426.61742 | CI106: =EXP($CI$6+($CI$7-$CI$6)*((LN($CI$1-A106))-$CI$9)/($CI$10-$CI$9)) -> 384.77155 | CJ106: =EXP($CJ$6+($CJ$7-$CJ$6)*((LN($CJ$1-A106))-$CJ$9)/($CJ$10-$CJ$9)) -> 355.03286 | CK106: =EXP($CK$6+($CK$7-$CK$6)*((LN($CK$1-A106))-$CK$9)/($CK$10-$CK$9)) -> 332.38677 | CL106: =EXP($CL$6+($CL$7-$CL$6)*((LN($CL$1-A106))-$CL$9)/($CL$10-$CL$9)) -> 314.33608 | CM106: =EXP($CM$6+($CM$7-$CM$6)*((LN($CM$1-A106))-$CM$9)/($CM$10-$CM$9)) -> 299.47335 | CN106: =EXP($CN$6+($CN$7-$CN$6)*((LN($CN$1-A106))-$CN$9)/($CN$10-$CN$9)) -> 286.93445 | CO106: =EXP($CO$6+($CO$7-$CO$6)*((LN($CO$1-A106))-$CO$9)/($CO$10-$CO$9)) -> 193.64698 | CP106: =EXP($CP$6+($CP$7-$CP$6)*((LN($CP$1-A106))-$CP$9)/($CP$10-$CP$9)) -> 150.6762 | CQ106: =EXP($CQ$6+($CQ$7-$CQ$6)*((LN($CQ$1-A106))-$CQ$9)/($CQ$10-$CQ$9)) -> 136.19017 | CR106: =EXP($CR$6+($CR$7-$CR$6)*((LN($CR$1-A106))-$CR$9)/($CR$10-$CR$9)) -> 124.81693 | CS106: =EXP($CS$6+($CS$7-$CS$6)*((LN($CS$1-A106))-$CS$9)/($CS$10-$CS$9)) -> 116.26537 | CT106: =EXP($CT$6+($CT$7-$CT$6)*((LN($CT$1-A106))-$CT$9)/($CT$10-$CT$9)) -> 109.51146 | CU106: =EXP($CU$6+($CU$7-$CU$6)*((LN($CU$1-A106))-$CU$9)/($CU$10-$CU$9)) -> 103.98944 | CV106: =EXP($CV$6+($CV$7-$CV$6)*((LN($CV$1-A106))-$CV$9)/($CV$10-$CV$9)) -> 99.357008 | CW106: =EXP($CW$6+($CW$7-$CW$6)*((LN($CW$1-A106))-$CW$9)/($CW$10-$CW$9)) -> 95.392844 | CX106: =EXP($CX$6+($CX$7-$CX$6)*((LN($CX$1-A106))-$CX$9)/($CX$10-$CX$9)) -> 46.569167 | CY106: =EXP($CY$6+($CY$7-$CY$6)*((LN($CY$1-A106))-$CY$9)/($CY$10-$CY$9)) -> 30.543016 | CZ106: =EXP($CZ$6+($CZ$7-$CZ$6)*((LN($CZ$1-A106))-$CZ$9)/($CZ$10-$CZ$9)) -> 19.667714 | DA106: =EXP($DA$6+($DA$7-$DA$6)*((LN($DA$1-A106))-$DA$9)/($DA$10-$DA$9)) -> 13.965405 | DB106: =EXP($DB$6+($DB$7-$DB$6)*((LN($DB$1-A106))-$DB$9)/($DB$10-$DB$9)) -> 10.558523 | DC106: =EXP($DC$6+($DC$7-$DC$6)*((LN($DC$1-A106))-$DC$9)/($DC$10-$DC$9)) -> 8.335766 | DD106: =EXP($DD$6+($DD$7-$DD$6)*((LN($DD$1-A106))-$DD$9)/($DD$10-$DD$9)) -> 6.7926081 | DE106: =EXP($DE$6+($DE$7-$DE$6)*((LN($DE$1-A106))-$DE$9)/($DE$10-$DE$9)) -> 5.6705455 | DF106: =EXP($DF$6+($DF$7-$DF$6)*((LN($DF$1-A106))-$DF$9)/($DF$10-$DF$9)) -> 4.8249332
A107: 94 | CC107: 94 | CE107: =EXP($CE$6+($CE$7-$CE$6)*((LN($CE$1-A107))-$CE$9)/($CE$10-$CE$9)) -> 1964.6888 | CF107: =EXP($CF$6+($CF$7-$CF$6)*((LN($CF$1-A107))-$CF$9)/($CF$10-$CF$9)) -> 833.18264 | CG107: =EXP($CG$6+($CG$7-$CG$6)*((LN($CG$1-A107))-$CG$9)/($CG$10-$CG$9)) -> 546.28584 | CH107: =EXP($CH$6+($CH$7-$CH$6)*((LN($CH$1-A107))-$CH$9)/($CH$10-$CH$9)) -> 427.12735 | CI107: =EXP($CI$6+($CI$7-$CI$6)*((LN($CI$1-A107))-$CI$9)/($CI$10-$CI$9)) -> 385.11827 | CJ107: =EXP($CJ$6+($CJ$7-$CJ$6)*((LN($CJ$1-A107))-$CJ$9)/($CJ$10-$CJ$9)) -> 355.2896 | CK107: =EXP($CK$6+($CK$7-$CK$6)*((LN($CK$1-A107))-$CK$9)/($CK$10-$CK$9)) -> 332.58749 | CL107: =EXP($CL$6+($CL$7-$CL$6)*((LN($CL$1-A107))-$CL$9)/($CL$10-$CL$9)) -> 314.49903 | CM107: =EXP($CM$6+($CM$7-$CM$6)*((LN($CM$1-A107))-$CM$9)/($CM$10-$CM$9)) -> 299.60934 | CN107: =EXP($CN$6+($CN$7-$CN$6)*((LN($CN$1-A107))-$CN$9)/($CN$10-$CN$9)) -> 287.05037 | CO107: =EXP($CO$6+($CO$7-$CO$6)*((LN($CO$1-A107))-$CO$9)/($CO$10-$CO$9)) -> 193.70324 | CP107: =EXP($CP$6+($CP$7-$CP$6)*((LN($CP$1-A107))-$CP$9)/($CP$10-$CP$9)) -> 150.6762 | CQ107: =EXP($CQ$6+($CQ$7-$CQ$6)*((LN($CQ$1-A107))-$CQ$9)/($CQ$10-$CQ$9)) -> 136.20351 | CR107: =EXP($CR$6+($CR$7-$CR$6)*((LN($CR$1-A107))-$CR$9)/($CR$10-$CR$9)) -> 124.82667 | CS107: =EXP($CS$6+($CS$7-$CS$6)*((LN($CS$1-A107))-$CS$9)/($CS$10-$CS$9)) -> 116.2729 | CT107: =EXP($CT$6+($CT$7-$CT$6)*((LN($CT$1-A107))-$CT$9)/($CT$10-$CT$9)) -> 109.51753 | CU107: =EXP($CU$6+($CU$7-$CU$6)*((LN($CU$1-A107))-$CU$9)/($CU$10-$CU$9)) -> 103.99448 | CV107: =EXP($CV$6+($CV$7-$CV$6)*((LN($CV$1-A107))-$CV$9)/($CV$10-$CV$9)) -> 99.361277 | CW107: =EXP($CW$6+($CW$7-$CW$6)*((LN($CW$1-A107))-$CW$9)/($CW$10-$CW$9)) -> 95.396528 | CX107: =EXP($CX$6+($CX$7-$CX$6)*((LN($CX$1-A107))-$CX$9)/($CX$10-$CX$9)) -> 46.571591 | CY107: =EXP($CY$6+($CY$7-$CY$6)*((LN($CY$1-A107))-$CY$9)/($CY$10-$CY$9)) -> 30.544075 | CZ107: =EXP($CZ$6+($CZ$7-$CZ$6)*((LN($CZ$1-A107))-$CZ$9)/($CZ$10-$CZ$9)) -> 19.668469 | DA107: =EXP($DA$6+($DA$7-$DA$6)*((LN($DA$1-A107))-$DA$9)/($DA$10-$DA$9)) -> 13.965834 | DB107: =EXP($DB$6+($DB$7-$DB$6)*((LN($DB$1-A107))-$DB$9)/($DB$10-$DB$9)) -> 10.558793 | DC107: =EXP($DC$6+($DC$7-$DC$6)*((LN($DC$1-A107))-$DC$9)/($DC$10-$DC$9)) -> 8.3359486 | DD107: =EXP($DD$6+($DD$7-$DD$6)*((LN($DD$1-A107))-$DD$9)/($DD$10-$DD$9)) -> 6.7927382 | DE107: =EXP($DE$6+($DE$7-$DE$6)*((LN($DE$1-A107))-$DE$9)/($DE$10-$DE$9)) -> 5.6706421 | DF107: =EXP($DF$6+($DF$7-$DF$6)*((LN($DF$1-A107))-$DF$9)/($DF$10-$DF$9)) -> 4.8250072
A108: 95 | CC108: 95 | CE108: =EXP($CE$6+($CE$7-$CE$6)*((LN($CE$1-A108))-$CE$9)/($CE$10-$CE$9)) -> 2072.0254 | CF108: =EXP($CF$6+($CF$7-$CF$6)*((LN($CF$1-A108))-$CF$9)/($CF$10-$CF$9)) -> 838.215 | CG108: =EXP($CG$6+($CG$7-$CG$6)*((LN($CG$1-A108))-$CG$9)/($CG$10-$CG$9)) -> 547.97727 | CH108: =EXP($CH$6+($CH$7-$CH$6)*((LN($CH$1-A108))-$CH$9)/($CH$10-$CH$9)) -> 427.63956 | CI108: =EXP($CI$6+($CI$7-$CI$6)*((LN($CI$1-A108))-$CI$9)/($CI$10-$CI$9)) -> 385.46616 | CJ108: =EXP($CJ$6+($CJ$7-$CJ$6)*((LN($CJ$1-A108))-$CJ$9)/($CJ$10-$CJ$9)) -> 355.54703 | CK108: =EXP($CK$6+($CK$7-$CK$6)*((LN($CK$1-A108))-$CK$9)/($CK$10-$CK$9)) -> 332.78866 | CL108: =EXP($CL$6+($CL$7-$CL$6)*((LN($CL$1-A108))-$CL$9)/($CL$10-$CL$9)) -> 314.66229 | CM108: =EXP($CM$6+($CM$7-$CM$6)*((LN($CM$1-A108))-$CM$9)/($CM$10-$CM$9)) -> 299.74555 | CN108: =EXP($CN$6+($CN$7-$CN$6)*((LN($CN$1-A108))-$CN$9)/($CN$10-$CN$9)) -> 287.16646 | CO108: =EXP($CO$6+($CO$7-$CO$6)*((LN($CO$1-A108))-$CO$9)/($CO$10-$CO$9)) -> 193.75954 | CP108: =EXP($CP$6+($CP$7-$CP$6)*((LN($CP$1-A108))-$CP$9)/($CP$10-$CP$9)) -> 150.6762 | CQ108: =EXP($CQ$6+($CQ$7-$CQ$6)*((LN($CQ$1-A108))-$CQ$9)/($CQ$10-$CQ$9)) -> 136.21686 | CR108: =EXP($CR$6+($CR$7-$CR$6)*((LN($CR$1-A108))-$CR$9)/($CR$10-$CR$9)) -> 124.8364 | CS108: =EXP($CS$6+($CS$7-$CS$6)*((LN($CS$1-A108))-$CS$9)/($CS$10-$CS$9)) -> 116.28044 | CT108: =EXP($CT$6+($CT$7-$CT$6)*((LN($CT$1-A108))-$CT$9)/($CT$10-$CT$9)) -> 109.5236 | CU108: =EXP($CU$6+($CU$7-$CU$6)*((LN($CU$1-A108))-$CU$9)/($CU$10-$CU$9)) -> 103.99951 | CV108: =EXP($CV$6+($CV$7-$CV$6)*((LN($CV$1-A108))-$CV$9)/($CV$10-$CV$9)) -> 99.365546 | CW108: =EXP($CW$6+($CW$7-$CW$6)*((LN($CW$1-A108))-$CW$9)/($CW$10-$CW$9)) -> 95.400214 | CX108: =EXP($CX$6+($CX$7-$CX$6)*((LN($CX$1-A108))-$CX$9)/($CX$10-$CX$9)) -> 46.574016 | CY108: =EXP($CY$6+($CY$7-$CY$6)*((LN($CY$1-A108))-$CY$9)/($CY$10-$CY$9)) -> 30.545133 | CZ108: =EXP($CZ$6+($CZ$7-$CZ$6)*((LN($CZ$1-A108))-$CZ$9)/($CZ$10-$CZ$9)) -> 19.669223 | DA108: =EXP($DA$6+($DA$7-$DA$6)*((LN($DA$1-A108))-$DA$9)/($DA$10-$DA$9)) -> 13.966262 | DB108: =EXP($DB$6+($DB$7-$DB$6)*((LN($DB$1-A108))-$DB$9)/($DB$10-$DB$9)) -> 10.559063 | DC108: =EXP($DC$6+($DC$7-$DC$6)*((LN($DC$1-A108))-$DC$9)/($DC$10-$DC$9)) -> 8.3361312 | DD108: =EXP($DD$6+($DD$7-$DD$6)*((LN($DD$1-A108))-$DD$9)/($DD$10-$DD$9)) -> 6.7928684 | DE108: =EXP($DE$6+($DE$7-$DE$6)*((LN($DE$1-A108))-$DE$9)/($DE$10-$DE$9)) -> 5.6707387 | DF108: =EXP($DF$6+($DF$7-$DF$6)*((LN($DF$1-A108))-$DF$9)/($DF$10-$DF$9)) -> 4.8250811
A109: 96 | CC109: 96 | CE109: =EXP($CE$6+($CE$7-$CE$6)*((LN($CE$1-A109))-$CE$9)/($CE$10-$CE$9)) -> 2211.4075 | CF109: =EXP($CF$6+($CF$7-$CF$6)*((LN($CF$1-A109))-$CF$9)/($CF$10-$CF$9)) -> 843.32635 | CG109: =EXP($CG$6+($CG$7-$CG$6)*((LN($CG$1-A109))-$CG$9)/($CG$10-$CG$9)) -> 549.68224 | CH109: =EXP($CH$6+($CH$7-$CH$6)*((LN($CH$1-A109))-$CH$9)/($CH$10-$CH$9)) -> 428.15407 | CI109: =EXP($CI$6+($CI$7-$CI$6)*((LN($CI$1-A109))-$CI$9)/($CI$10-$CI$9)) -> 385.81522 | CJ109: =EXP($CJ$6+($CJ$7-$CJ$6)*((LN($CJ$1-A109))-$CJ$9)/($CJ$10-$CJ$9)) -> 355.80516 | CK109: =EXP($CK$6+($CK$7-$CK$6)*((LN($CK$1-A109))-$CK$9)/($CK$10-$CK$9)) -> 332.99029 | CL109: =EXP($CL$6+($CL$7-$CL$6)*((LN($CL$1-A109))-$CL$9)/($CL$10-$CL$9)) -> 314.82586 | CM109: =EXP($CM$6+($CM$7-$CM$6)*((LN($CM$1-A109))-$CM$9)/($CM$10-$CM$9)) -> 299.882 | CN109: =EXP($CN$6+($CN$7-$CN$6)*((LN($CN$1-A109))-$CN$9)/($CN$10-$CN$9)) -> 287.28273 | CO109: =EXP($CO$6+($CO$7-$CO$6)*((LN($CO$1-A109))-$CO$9)/($CO$10-$CO$9)) -> 193.81589 | CP109: =EXP($CP$6+($CP$7-$CP$6)*((LN($CP$1-A109))-$CP$9)/($CP$10-$CP$9)) -> 150.6762 | CQ109: =EXP($CQ$6+($CQ$7-$CQ$6)*((LN($CQ$1-A109))-$CQ$9)/($CQ$10-$CQ$9)) -> 136.23021 | CR109: =EXP($CR$6+($CR$7-$CR$6)*((LN($CR$1-A109))-$CR$9)/($CR$10-$CR$9)) -> 124.84614 | CS109: =EXP($CS$6+($CS$7-$CS$6)*((LN($CS$1-A109))-$CS$9)/($CS$10-$CS$9)) -> 116.28797 | CT109: =EXP($CT$6+($CT$7-$CT$6)*((LN($CT$1-A109))-$CT$9)/($CT$10-$CT$9)) -> 109.52967 | CU109: =EXP($CU$6+($CU$7-$CU$6)*((LN($CU$1-A109))-$CU$9)/($CU$10-$CU$9)) -> 104.00455 | CV109: =EXP($CV$6+($CV$7-$CV$6)*((LN($CV$1-A109))-$CV$9)/($CV$10-$CV$9)) -> 99.369817 | CW109: =EXP($CW$6+($CW$7-$CW$6)*((LN($CW$1-A109))-$CW$9)/($CW$10-$CW$9)) -> 95.403899 | CX109: =EXP($CX$6+($CX$7-$CX$6)*((LN($CX$1-A109))-$CX$9)/($CX$10-$CX$9)) -> 46.576441 | CY109: =EXP($CY$6+($CY$7-$CY$6)*((LN($CY$1-A109))-$CY$9)/($CY$10-$CY$9)) -> 30.546192 | CZ109: =EXP($CZ$6+($CZ$7-$CZ$6)*((LN($CZ$1-A109))-$CZ$9)/($CZ$10-$CZ$9)) -> 19.669978 | DA109: =EXP($DA$6+($DA$7-$DA$6)*((LN($DA$1-A109))-$DA$9)/($DA$10-$DA$9)) -> 13.966691 | DB109: =EXP($DB$6+($DB$7-$DB$6)*((LN($DB$1-A109))-$DB$9)/($DB$10-$DB$9)) -> 10.559333 | DC109: =EXP($DC$6+($DC$7-$DC$6)*((LN($DC$1-A109))-$DC$9)/($DC$10-$DC$9)) -> 8.3363138 | DD109: =EXP($DD$6+($DD$7-$DD$6)*((LN($DD$1-A109))-$DD$9)/($DD$10-$DD$9)) -> 6.7929986 | DE109: =EXP($DE$6+($DE$7-$DE$6)*((LN($DE$1-A109))-$DE$9)/($DE$10-$DE$9)) -> 5.6708353 | DF109: =EXP($DF$6+($DF$7-$DF$6)*((LN($DF$1-A109))-$DF$9)/($DF$10-$DF$9)) -> 4.8251551
A110: 97 | CC110: 97 | CE110: =EXP($CE$6+($CE$7-$CE$6)*((LN($CE$1-A110))-$CE$9)/($CE$10-$CE$9)) -> 2405.0268 | CF110: =EXP($CF$6+($CF$7-$CF$6)*((LN($CF$1-A110))-$CF$9)/($CF$10-$CF$9)) -> 848.51871 | CG110: =EXP($CG$6+($CG$7-$CG$6)*((LN($CG$1-A110))-$CG$9)/($CG$10-$CG$9)) -> 551.40093 | CH110: =EXP($CH$6+($CH$7-$CH$6)*((LN($CH$1-A110))-$CH$9)/($CH$10-$CH$9)) -> 428.6709 | CI110: =EXP($CI$6+($CI$7-$CI$6)*((LN($CI$1-A110))-$CI$9)/($CI$10-$CI$9)) -> 386.16547 | CJ110: =EXP($CJ$6+($CJ$7-$CJ$6)*((LN($CJ$1-A110))-$CJ$9)/($CJ$10-$CJ$9)) -> 356.06399 | CK110: =EXP($CK$6+($CK$7-$CK$6)*((LN($CK$1-A110))-$CK$9)/($CK$10-$CK$9)) -> 333.19237 | CL110: =EXP($CL$6+($CL$7-$CL$6)*((LN($CL$1-A110))-$CL$9)/($CL$10-$CL$9)) -> 314.98976 | CM110: =EXP($CM$6+($CM$7-$CM$6)*((LN($CM$1-A110))-$CM$9)/($CM$10-$CM$9)) -> 300.01868 | CN110: =EXP($CN$6+($CN$7-$CN$6)*((LN($CN$1-A110))-$CN$9)/($CN$10-$CN$9)) -> 287.39917 | CO110: =EXP($CO$6+($CO$7-$CO$6)*((LN($CO$1-A110))-$CO$9)/($CO$10-$CO$9)) -> 193.87228 | CP110: =EXP($CP$6+($CP$7-$CP$6)*((LN($CP$1-A110))-$CP$9)/($CP$10-$CP$9)) -> 150.6762 | CQ110: =EXP($CQ$6+($CQ$7-$CQ$6)*((LN($CQ$1-A110))-$CQ$9)/($CQ$10-$CQ$9)) -> 136.24357 | CR110: =EXP($CR$6+($CR$7-$CR$6)*((LN($CR$1-A110))-$CR$9)/($CR$10-$CR$9)) -> 124.85589 | CS110: =EXP($CS$6+($CS$7-$CS$6)*((LN($CS$1-A110))-$CS$9)/($CS$10-$CS$9)) -> 116.29551 | CT110: =EXP($CT$6+($CT$7-$CT$6)*((LN($CT$1-A110))-$CT$9)/($CT$10-$CT$9)) -> 109.53574 | CU110: =EXP($CU$6+($CU$7-$CU$6)*((LN($CU$1-A110))-$CU$9)/($CU$10-$CU$9)) -> 104.00958 | CV110: =EXP($CV$6+($CV$7-$CV$6)*((LN($CV$1-A110))-$CV$9)/($CV$10-$CV$9)) -> 99.374087 | CW110: =EXP($CW$6+($CW$7-$CW$6)*((LN($CW$1-A110))-$CW$9)/($CW$10-$CW$9)) -> 95.407586 | CX110: =EXP($CX$6+($CX$7-$CX$6)*((LN($CX$1-A110))-$CX$9)/($CX$10-$CX$9)) -> 46.578866 | CY110: =EXP($CY$6+($CY$7-$CY$6)*((LN($CY$1-A110))-$CY$9)/($CY$10-$CY$9)) -> 30.54725 | CZ110: =EXP($CZ$6+($CZ$7-$CZ$6)*((LN($CZ$1-A110))-$CZ$9)/($CZ$10-$CZ$9)) -> 19.670733 | DA110: =EXP($DA$6+($DA$7-$DA$6)*((LN($DA$1-A110))-$DA$9)/($DA$10-$DA$9)) -> 13.967119 | DB110: =EXP($DB$6+($DB$7-$DB$6)*((LN($DB$1-A110))-$DB$9)/($DB$10-$DB$9)) -> 10.559603 | DC110: =EXP($DC$6+($DC$7-$DC$6)*((LN($DC$1-A110))-$DC$9)/($DC$10-$DC$9)) -> 8.3364964 | DD110: =EXP($DD$6+($DD$7-$DD$6)*((LN($DD$1-A110))-$DD$9)/($DD$10-$DD$9)) -> 6.7931288 | DE110: =EXP($DE$6+($DE$7-$DE$6)*((LN($DE$1-A110))-$DE$9)/($DE$10-$DE$9)) -> 5.6709318 | DF110: =EXP($DF$6+($DF$7-$DF$6)*((LN($DF$1-A110))-$DF$9)/($DF$10-$DF$9)) -> 4.825229
A111: 98 | CC111: 98 | CE111: =EXP($CE$6+($CE$7-$CE$6)*((LN($CE$1-A111))-$CE$9)/($CE$10-$CE$9)) -> 2707.0415 | CF111: =EXP($CF$6+($CF$7-$CF$6)*((LN($CF$1-A111))-$CF$9)/($CF$10-$CF$9)) -> 853.79416 | CG111: =EXP($CG$6+($CG$7-$CG$6)*((LN($CG$1-A111))-$CG$9)/($CG$10-$CG$9)) -> 553.13353 | CH111: =EXP($CH$6+($CH$7-$CH$6)*((LN($CH$1-A111))-$CH$9)/($CH$10-$CH$9)) -> 429.19007 | CI111: =EXP($CI$6+($CI$7-$CI$6)*((LN($CI$1-A111))-$CI$9)/($CI$10-$CI$9)) -> 386.51691 | CJ111: =EXP($CJ$6+($CJ$7-$CJ$6)*((LN($CJ$1-A111))-$CJ$9)/($CJ$10-$CJ$9)) -> 356.32353 | CK111: =EXP($CK$6+($CK$7-$CK$6)*((LN($CK$1-A111))-$CK$9)/($CK$10-$CK$9)) -> 333.39491 | CL111: =EXP($CL$6+($CL$7-$CL$6)*((LN($CL$1-A111))-$CL$9)/($CL$10-$CL$9)) -> 315.15397 | CM111: =EXP($CM$6+($CM$7-$CM$6)*((LN($CM$1-A111))-$CM$9)/($CM$10-$CM$9)) -> 300.1556 | CN111: =EXP($CN$6+($CN$7-$CN$6)*((LN($CN$1-A111))-$CN$9)/($CN$10-$CN$9)) -> 287.51579 | CO111: =EXP($CO$6+($CO$7-$CO$6)*((LN($CO$1-A111))-$CO$9)/($CO$10-$CO$9)) -> 193.92872 | CP111: =EXP($CP$6+($CP$7-$CP$6)*((LN($CP$1-A111))-$CP$9)/($CP$10-$CP$9)) -> 150.6762 | CQ111: =EXP($CQ$6+($CQ$7-$CQ$6)*((LN($CQ$1-A111))-$CQ$9)/($CQ$10-$CQ$9)) -> 136.25693 | CR111: =EXP($CR$6+($CR$7-$CR$6)*((LN($CR$1-A111))-$CR$9)/($CR$10-$CR$9)) -> 124.86563 | CS111: =EXP($CS$6+($CS$7-$CS$6)*((LN($CS$1-A111))-$CS$9)/($CS$10-$CS$9)) -> 116.30305 | CT111: =EXP($CT$6+($CT$7-$CT$6)*((LN($CT$1-A111))-$CT$9)/($CT$10-$CT$9)) -> 109.54181 | CU111: =EXP($CU$6+($CU$7-$CU$6)*((LN($CU$1-A111))-$CU$9)/($CU$10-$CU$9)) -> 104.01462 | CV111: =EXP($CV$6+($CV$7-$CV$6)*((LN($CV$1-A111))-$CV$9)/($CV$10-$CV$9)) -> 99.378359 | CW111: =EXP($CW$6+($CW$7-$CW$6)*((LN($CW$1-A111))-$CW$9)/($CW$10-$CW$9)) -> 95.411273 | CX111: =EXP($CX$6+($CX$7-$CX$6)*((LN($CX$1-A111))-$CX$9)/($CX$10-$CX$9)) -> 46.581292 | CY111: =EXP($CY$6+($CY$7-$CY$6)*((LN($CY$1-A111))-$CY$9)/($CY$10-$CY$9)) -> 30.548309 | CZ111: =EXP($CZ$6+($CZ$7-$CZ$6)*((LN($CZ$1-A111))-$CZ$9)/($CZ$10-$CZ$9)) -> 19.671488 | DA111: =EXP($DA$6+($DA$7-$DA$6)*((LN($DA$1-A111))-$DA$9)/($DA$10-$DA$9)) -> 13.967548 | DB111: =EXP($DB$6+($DB$7-$DB$6)*((LN($DB$1-A111))-$DB$9)/($DB$10-$DB$9)) -> 10.559873 | DC111: =EXP($DC$6+($DC$7-$DC$6)*((LN($DC$1-A111))-$DC$9)/($DC$10-$DC$9)) -> 8.336679 | DD111: =EXP($DD$6+($DD$7-$DD$6)*((LN($DD$1-A111))-$DD$9)/($DD$10-$DD$9)) -> 6.7932589 | DE111: =EXP($DE$6+($DE$7-$DE$6)*((LN($DE$1-A111))-$DE$9)/($DE$10-$DE$9)) -> 5.6710284 | DF111: =EXP($DF$6+($DF$7-$DF$6)*((LN($DF$1-A111))-$DF$9)/($DF$10-$DF$9)) -> 4.825303
A112: 99 | CC112: 99 | CE112: =EXP($CE$6+($CE$7-$CE$6)*((LN($CE$1-A112))-$CE$9)/($CE$10-$CE$9)) -> 3313.76 | CF112: =EXP($CF$6+($CF$7-$CF$6)*((LN($CF$1-A112))-$CF$9)/($CF$10-$CF$9)) -> 859.15488 | CG112: =EXP($CG$6+($CG$7-$CG$6)*((LN($CG$1-A112))-$CG$9)/($CG$10-$CG$9)) -> 554.88021 | CH112: =EXP($CH$6+($CH$7-$CH$6)*((LN($CH$1-A112))-$CH$9)/($CH$10-$CH$9)) -> 429.71159 | CI112: =EXP($CI$6+($CI$7-$CI$6)*((LN($CI$1-A112))-$CI$9)/($CI$10-$CI$9)) -> 386.86955 | CJ112: =EXP($CJ$6+($CJ$7-$CJ$6)*((LN($CJ$1-A112))-$CJ$9)/($CJ$10-$CJ$9)) -> 356.58377 | CK112: =EXP($CK$6+($CK$7-$CK$6)*((LN($CK$1-A112))-$CK$9)/($CK$10-$CK$9)) -> 333.59791 | CL112: =EXP($CL$6+($CL$7-$CL$6)*((LN($CL$1-A112))-$CL$9)/($CL$10-$CL$9)) -> 315.3185 | CM112: =EXP($CM$6+($CM$7-$CM$6)*((LN($CM$1-A112))-$CM$9)/($CM$10-$CM$9)) -> 300.29274 | CN112: =EXP($CN$6+($CN$7-$CN$6)*((LN($CN$1-A112))-$CN$9)/($CN$10-$CN$9)) -> 287.63259 | CO112: =EXP($CO$6+($CO$7-$CO$6)*((LN($CO$1-A112))-$CO$9)/($CO$10-$CO$9)) -> 193.98521 | CP112: =EXP($CP$6+($CP$7-$CP$6)*((LN($CP$1-A112))-$CP$9)/($CP$10-$CP$9)) -> 150.6762 | CQ112: =EXP($CQ$6+($CQ$7-$CQ$6)*((LN($CQ$1-A112))-$CQ$9)/($CQ$10-$CQ$9)) -> 136.27029 | CR112: =EXP($CR$6+($CR$7-$CR$6)*((LN($CR$1-A112))-$CR$9)/($CR$10-$CR$9)) -> 124.87538 | CS112: =EXP($CS$6+($CS$7-$CS$6)*((LN($CS$1-A112))-$CS$9)/($CS$10-$CS$9)) -> 116.31059 | CT112: =EXP($CT$6+($CT$7-$CT$6)*((LN($CT$1-A112))-$CT$9)/($CT$10-$CT$9)) -> 109.54788 | CU112: =EXP($CU$6+($CU$7-$CU$6)*((LN($CU$1-A112))-$CU$9)/($CU$10-$CU$9)) -> 104.01966 | CV112: =EXP($CV$6+($CV$7-$CV$6)*((LN($CV$1-A112))-$CV$9)/($CV$10-$CV$9)) -> 99.382631 | CW112: =EXP($CW$6+($CW$7-$CW$6)*((LN($CW$1-A112))-$CW$9)/($CW$10-$CW$9)) -> 95.41496 | CX112: =EXP($CX$6+($CX$7-$CX$6)*((LN($CX$1-A112))-$CX$9)/($CX$10-$CX$9)) -> 46.583717 | CY112: =EXP($CY$6+($CY$7-$CY$6)*((LN($CY$1-A112))-$CY$9)/($CY$10-$CY$9)) -> 30.549368 | CZ112: =EXP($CZ$6+($CZ$7-$CZ$6)*((LN($CZ$1-A112))-$CZ$9)/($CZ$10-$CZ$9)) -> 19.672243 | DA112: =EXP($DA$6+($DA$7-$DA$6)*((LN($DA$1-A112))-$DA$9)/($DA$10-$DA$9)) -> 13.967976 | DB112: =EXP($DB$6+($DB$7-$DB$6)*((LN($DB$1-A112))-$DB$9)/($DB$10-$DB$9)) -> 10.560143 | DC112: =EXP($DC$6+($DC$7-$DC$6)*((LN($DC$1-A112))-$DC$9)/($DC$10-$DC$9)) -> 8.3368616 | DD112: =EXP($DD$6+($DD$7-$DD$6)*((LN($DD$1-A112))-$DD$9)/($DD$10-$DD$9)) -> 6.7933891 | DE112: =EXP($DE$6+($DE$7-$DE$6)*((LN($DE$1-A112))-$DE$9)/($DE$10-$DE$9)) -> 5.671125 | DF112: =EXP($DF$6+($DF$7-$DF$6)*((LN($DF$1-A112))-$DF$9)/($DF$10-$DF$9)) -> 4.825377
A113: 100 | CC113: 100 | CF113: =EXP($CF$6+($CF$7-$CF$6)*((LN($CF$1-A113))-$CF$9)/($CF$10-$CF$9)) -> 864.6031 | CG113: =EXP($CG$6+($CG$7-$CG$6)*((LN($CG$1-A113))-$CG$9)/($CG$10-$CG$9)) -> 556.64115 | CH113: =EXP($CH$6+($CH$7-$CH$6)*((LN($CH$1-A113))-$CH$9)/($CH$10-$CH$9)) -> 430.23548 | CI113: =EXP($CI$6+($CI$7-$CI$6)*((LN($CI$1-A113))-$CI$9)/($CI$10-$CI$9)) -> 387.22338 | CJ113: =EXP($CJ$6+($CJ$7-$CJ$6)*((LN($CJ$1-A113))-$CJ$9)/($CJ$10-$CJ$9)) -> 356.84472 | CK113: =EXP($CK$6+($CK$7-$CK$6)*((LN($CK$1-A113))-$CK$9)/($CK$10-$CK$9)) -> 333.80137 | CL113: =EXP($CL$6+($CL$7-$CL$6)*((LN($CL$1-A113))-$CL$9)/($CL$10-$CL$9)) -> 315.48335 | CM113: =EXP($CM$6+($CM$7-$CM$6)*((LN($CM$1-A113))-$CM$9)/($CM$10-$CM$9)) -> 300.43012 | CN113: =EXP($CN$6+($CN$7-$CN$6)*((LN($CN$1-A113))-$CN$9)/($CN$10-$CN$9)) -> 287.74956 | CO113: =EXP($CO$6+($CO$7-$CO$6)*((LN($CO$1-A113))-$CO$9)/($CO$10-$CO$9)) -> 194.04174 | CP113: =EXP($CP$6+($CP$7-$CP$6)*((LN($CP$1-A113))-$CP$9)/($CP$10-$CP$9)) -> 150.6762 | CQ113: =EXP($CQ$6+($CQ$7-$CQ$6)*((LN($CQ$1-A113))-$CQ$9)/($CQ$10-$CQ$9)) -> 136.28366 | CR113: =EXP($CR$6+($CR$7-$CR$6)*((LN($CR$1-A113))-$CR$9)/($CR$10-$CR$9)) -> 124.88513 | CS113: =EXP($CS$6+($CS$7-$CS$6)*((LN($CS$1-A113))-$CS$9)/($CS$10-$CS$9)) -> 116.31813 | CT113: =EXP($CT$6+($CT$7-$CT$6)*((LN($CT$1-A113))-$CT$9)/($CT$10-$CT$9)) -> 109.55396 | CU113: =EXP($CU$6+($CU$7-$CU$6)*((LN($CU$1-A113))-$CU$9)/($CU$10-$CU$9)) -> 104.02469 | CV113: =EXP($CV$6+($CV$7-$CV$6)*((LN($CV$1-A113))-$CV$9)/($CV$10-$CV$9)) -> 99.386904 | CW113: =EXP($CW$6+($CW$7-$CW$6)*((LN($CW$1-A113))-$CW$9)/($CW$10-$CW$9)) -> 95.418648 | CX113: =EXP($CX$6+($CX$7-$CX$6)*((LN($CX$1-A113))-$CX$9)/($CX$10-$CX$9)) -> 46.586143 | CY113: =EXP($CY$6+($CY$7-$CY$6)*((LN($CY$1-A113))-$CY$9)/($CY$10-$CY$9)) -> 30.550427 | CZ113: =EXP($CZ$6+($CZ$7-$CZ$6)*((LN($CZ$1-A113))-$CZ$9)/($CZ$10-$CZ$9)) -> 19.672998 | DA113: =EXP($DA$6+($DA$7-$DA$6)*((LN($DA$1-A113))-$DA$9)/($DA$10-$DA$9)) -> 13.968405 | DB113: =EXP($DB$6+($DB$7-$DB$6)*((LN($DB$1-A113))-$DB$9)/($DB$10-$DB$9)) -> 10.560413 | DC113: =EXP($DC$6+($DC$7-$DC$6)*((LN($DC$1-A113))-$DC$9)/($DC$10-$DC$9)) -> 8.3370443 | DD113: =EXP($DD$6+($DD$7-$DD$6)*((LN($DD$1-A113))-$DD$9)/($DD$10-$DD$9)) -> 6.7935193 | DE113: =EXP($DE$6+($DE$7-$DE$6)*((LN($DE$1-A113))-$DE$9)/($DE$10-$DE$9)) -> 5.6712216 | DF113: =EXP($DF$6+($DF$7-$DF$6)*((LN($DF$1-A113))-$DF$9)/($DF$10-$DF$9)) -> 4.8254509
A114: 101 | CC114: 101 | CF114: =EXP($CF$6+($CF$7-$CF$6)*((LN($CF$1-A114))-$CF$9)/($CF$10-$CF$9)) -> 870.14115 | CG114: =EXP($CG$6+($CG$7-$CG$6)*((LN($CG$1-A114))-$CG$9)/($CG$10-$CG$9)) -> 558.41656 | CH114: =EXP($CH$6+($CH$7-$CH$6)*((LN($CH$1-A114))-$CH$9)/($CH$10-$CH$9)) -> 430.76176 | CI114: =EXP($CI$6+($CI$7-$CI$6)*((LN($CI$1-A114))-$CI$9)/($CI$10-$CI$9)) -> 387.57843 | CJ114: =EXP($CJ$6+($CJ$7-$CJ$6)*((LN($CJ$1-A114))-$CJ$9)/($CJ$10-$CJ$9)) -> 357.10638 | CK114: =EXP($CK$6+($CK$7-$CK$6)*((LN($CK$1-A114))-$CK$9)/($CK$10-$CK$9)) -> 334.0053 | CL114: =EXP($CL$6+($CL$7-$CL$6)*((LN($CL$1-A114))-$CL$9)/($CL$10-$CL$9)) -> 315.64853 | CM114: =EXP($CM$6+($CM$7-$CM$6)*((LN($CM$1-A114))-$CM$9)/($CM$10-$CM$9)) -> 300.56774 | CN114: =EXP($CN$6+($CN$7-$CN$6)*((LN($CN$1-A114))-$CN$9)/($CN$10-$CN$9)) -> 287.86671 | CO114: =EXP($CO$6+($CO$7-$CO$6)*((LN($CO$1-A114))-$CO$9)/($CO$10-$CO$9)) -> 194.09832 | CP114: =EXP($CP$6+($CP$7-$CP$6)*((LN($CP$1-A114))-$CP$9)/($CP$10-$CP$9)) -> 150.6762 | CQ114: =EXP($CQ$6+($CQ$7-$CQ$6)*((LN($CQ$1-A114))-$CQ$9)/($CQ$10-$CQ$9)) -> 136.29703 | CR114: =EXP($CR$6+($CR$7-$CR$6)*((LN($CR$1-A114))-$CR$9)/($CR$10-$CR$9)) -> 124.89489 | CS114: =EXP($CS$6+($CS$7-$CS$6)*((LN($CS$1-A114))-$CS$9)/($CS$10-$CS$9)) -> 116.32568 | CT114: =EXP($CT$6+($CT$7-$CT$6)*((LN($CT$1-A114))-$CT$9)/($CT$10-$CT$9)) -> 109.56004 | CU114: =EXP($CU$6+($CU$7-$CU$6)*((LN($CU$1-A114))-$CU$9)/($CU$10-$CU$9)) -> 104.02973 | CV114: =EXP($CV$6+($CV$7-$CV$6)*((LN($CV$1-A114))-$CV$9)/($CV$10-$CV$9)) -> 99.391177 | CW114: =EXP($CW$6+($CW$7-$CW$6)*((LN($CW$1-A114))-$CW$9)/($CW$10-$CW$9)) -> 95.422336 | CX114: =EXP($CX$6+($CX$7-$CX$6)*((LN($CX$1-A114))-$CX$9)/($CX$10-$CX$9)) -> 46.588569 | CY114: =EXP($CY$6+($CY$7-$CY$6)*((LN($CY$1-A114))-$CY$9)/($CY$10-$CY$9)) -> 30.551486 | CZ114: =EXP($CZ$6+($CZ$7-$CZ$6)*((LN($CZ$1-A114))-$CZ$9)/($CZ$10-$CZ$9)) -> 19.673753 | DA114: =EXP($DA$6+($DA$7-$DA$6)*((LN($DA$1-A114))-$DA$9)/($DA$10-$DA$9)) -> 13.968834 | DB114: =EXP($DB$6+($DB$7-$DB$6)*((LN($DB$1-A114))-$DB$9)/($DB$10-$DB$9)) -> 10.560683 | DC114: =EXP($DC$6+($DC$7-$DC$6)*((LN($DC$1-A114))-$DC$9)/($DC$10-$DC$9)) -> 8.3372269 | DD114: =EXP($DD$6+($DD$7-$DD$6)*((LN($DD$1-A114))-$DD$9)/($DD$10-$DD$9)) -> 6.7936495 | DE114: =EXP($DE$6+($DE$7-$DE$6)*((LN($DE$1-A114))-$DE$9)/($DE$10-$DE$9)) -> 5.6713182 | DF114: =EXP($DF$6+($DF$7-$DF$6)*((LN($DF$1-A114))-$DF$9)/($DF$10-$DF$9)) -> 4.8255249
A115: 102 | CC115: 102 | CF115: =EXP($CF$6+($CF$7-$CF$6)*((LN($CF$1-A115))-$CF$9)/($CF$10-$CF$9)) -> 875.77144 | CG115: =EXP($CG$6+($CG$7-$CG$6)*((LN($CG$1-A115))-$CG$9)/($CG$10-$CG$9)) -> 560.20661 | CH115: =EXP($CH$6+($CH$7-$CH$6)*((LN($CH$1-A115))-$CH$9)/($CH$10-$CH$9)) -> 431.29045 | CI115: =EXP($CI$6+($CI$7-$CI$6)*((LN($CI$1-A115))-$CI$9)/($CI$10-$CI$9)) -> 387.9347 | CJ115: =EXP($CJ$6+($CJ$7-$CJ$6)*((LN($CJ$1-A115))-$CJ$9)/($CJ$10-$CJ$9)) -> 357.36877 | CK115: =EXP($CK$6+($CK$7-$CK$6)*((LN($CK$1-A115))-$CK$9)/($CK$10-$CK$9)) -> 334.20969 | CL115: =EXP($CL$6+($CL$7-$CL$6)*((LN($CL$1-A115))-$CL$9)/($CL$10-$CL$9)) -> 315.81403 | CM115: =EXP($CM$6+($CM$7-$CM$6)*((LN($CM$1-A115))-$CM$9)/($CM$10-$CM$9)) -> 300.70559 | CN115: =EXP($CN$6+($CN$7-$CN$6)*((LN($CN$1-A115))-$CN$9)/($CN$10-$CN$9)) -> 287.98404 | CO115: =EXP($CO$6+($CO$7-$CO$6)*((LN($CO$1-A115))-$CO$9)/($CO$10-$CO$9)) -> 194.15494 | CP115: =EXP($CP$6+($CP$7-$CP$6)*((LN($CP$1-A115))-$CP$9)/($CP$10-$CP$9)) -> 150.6762 | CQ115: =EXP($CQ$6+($CQ$7-$CQ$6)*((LN($CQ$1-A115))-$CQ$9)/($CQ$10-$CQ$9)) -> 136.31041 | CR115: =EXP($CR$6+($CR$7-$CR$6)*((LN($CR$1-A115))-$CR$9)/($CR$10-$CR$9)) -> 124.90464 | CS115: =EXP($CS$6+($CS$7-$CS$6)*((LN($CS$1-A115))-$CS$9)/($CS$10-$CS$9)) -> 116.33323 | CT115: =EXP($CT$6+($CT$7-$CT$6)*((LN($CT$1-A115))-$CT$9)/($CT$10-$CT$9)) -> 109.56611 | CU115: =EXP($CU$6+($CU$7-$CU$6)*((LN($CU$1-A115))-$CU$9)/($CU$10-$CU$9)) -> 104.03477 | CV115: =EXP($CV$6+($CV$7-$CV$6)*((LN($CV$1-A115))-$CV$9)/($CV$10-$CV$9)) -> 99.395451 | CW115: =EXP($CW$6+($CW$7-$CW$6)*((LN($CW$1-A115))-$CW$9)/($CW$10-$CW$9)) -> 95.426025 | CX115: =EXP($CX$6+($CX$7-$CX$6)*((LN($CX$1-A115))-$CX$9)/($CX$10-$CX$9)) -> 46.590996 | CY115: =EXP($CY$6+($CY$7-$CY$6)*((LN($CY$1-A115))-$CY$9)/($CY$10-$CY$9)) -> 30.552544 | CZ115: =EXP($CZ$6+($CZ$7-$CZ$6)*((LN($CZ$1-A115))-$CZ$9)/($CZ$10-$CZ$9)) -> 19.674508 | DA115: =EXP($DA$6+($DA$7-$DA$6)*((LN($DA$1-A115))-$DA$9)/($DA$10-$DA$9)) -> 13.969262 | DB115: =EXP($DB$6+($DB$7-$DB$6)*((LN($DB$1-A115))-$DB$9)/($DB$10-$DB$9)) -> 10.560953 | DC115: =EXP($DC$6+($DC$7-$DC$6)*((LN($DC$1-A115))-$DC$9)/($DC$10-$DC$9)) -> 8.3374095 | DD115: =EXP($DD$6+($DD$7-$DD$6)*((LN($DD$1-A115))-$DD$9)/($DD$10-$DD$9)) -> 6.7937797 | DE115: =EXP($DE$6+($DE$7-$DE$6)*((LN($DE$1-A115))-$DE$9)/($DE$10-$DE$9)) -> 5.6714148 | DF115: =EXP($DF$6+($DF$7-$DF$6)*((LN($DF$1-A115))-$DF$9)/($DF$10-$DF$9)) -> 4.8255989
A116: 103 | CC116: 103 | CF116: =EXP($CF$6+($CF$7-$CF$6)*((LN($CF$1-A116))-$CF$9)/($CF$10-$CF$9)) -> 881.49647 | CG116: =EXP($CG$6+($CG$7-$CG$6)*((LN($CG$1-A116))-$CG$9)/($CG$10-$CG$9)) -> 562.01151 | CH116: =EXP($CH$6+($CH$7-$CH$6)*((LN($CH$1-A116))-$CH$9)/($CH$10-$CH$9)) -> 431.82157 | CI116: =EXP($CI$6+($CI$7-$CI$6)*((LN($CI$1-A116))-$CI$9)/($CI$10-$CI$9)) -> 388.29219 | CJ116: =EXP($CJ$6+($CJ$7-$CJ$6)*((LN($CJ$1-A116))-$CJ$9)/($CJ$10-$CJ$9)) -> 357.63187 | CK116: =EXP($CK$6+($CK$7-$CK$6)*((LN($CK$1-A116))-$CK$9)/($CK$10-$CK$9)) -> 334.41455 | CL116: =EXP($CL$6+($CL$7-$CL$6)*((LN($CL$1-A116))-$CL$9)/($CL$10-$CL$9)) -> 315.97985 | CM116: =EXP($CM$6+($CM$7-$CM$6)*((LN($CM$1-A116))-$CM$9)/($CM$10-$CM$9)) -> 300.84368 | CN116: =EXP($CN$6+($CN$7-$CN$6)*((LN($CN$1-A116))-$CN$9)/($CN$10-$CN$9)) -> 288.10155 | CO116: =EXP($CO$6+($CO$7-$CO$6)*((LN($CO$1-A116))-$CO$9)/($CO$10-$CO$9)) -> 194.21162 | CP116: =EXP($CP$6+($CP$7-$CP$6)*((LN($CP$1-A116))-$CP$9)/($CP$10-$CP$9)) -> 150.6762 | CQ116: =EXP($CQ$6+($CQ$7-$CQ$6)*((LN($CQ$1-A116))-$CQ$9)/($CQ$10-$CQ$9)) -> 136.3238 | CR116: =EXP($CR$6+($CR$7-$CR$6)*((LN($CR$1-A116))-$CR$9)/($CR$10-$CR$9)) -> 124.9144 | CS116: =EXP($CS$6+($CS$7-$CS$6)*((LN($CS$1-A116))-$CS$9)/($CS$10-$CS$9)) -> 116.34077 | CT116: =EXP($CT$6+($CT$7-$CT$6)*((LN($CT$1-A116))-$CT$9)/($CT$10-$CT$9)) -> 109.57219 | CU116: =EXP($CU$6+($CU$7-$CU$6)*((LN($CU$1-A116))-$CU$9)/($CU$10-$CU$9)) -> 104.03981 | CV116: =EXP($CV$6+($CV$7-$CV$6)*((LN($CV$1-A116))-$CV$9)/($CV$10-$CV$9)) -> 99.399726 | CW116: =EXP($CW$6+($CW$7-$CW$6)*((LN($CW$1-A116))-$CW$9)/($CW$10-$CW$9)) -> 95.429714 | CX116: =EXP($CX$6+($CX$7-$CX$6)*((LN($CX$1-A116))-$CX$9)/($CX$10-$CX$9)) -> 46.593422 | CY116: =EXP($CY$6+($CY$7-$CY$6)*((LN($CY$1-A116))-$CY$9)/($CY$10-$CY$9)) -> 30.553604 | CZ116: =EXP($CZ$6+($CZ$7-$CZ$6)*((LN($CZ$1-A116))-$CZ$9)/($CZ$10-$CZ$9)) -> 19.675263 | DA116: =EXP($DA$6+($DA$7-$DA$6)*((LN($DA$1-A116))-$DA$9)/($DA$10-$DA$9)) -> 13.969691 | DB116: =EXP($DB$6+($DB$7-$DB$6)*((LN($DB$1-A116))-$DB$9)/($DB$10-$DB$9)) -> 10.561223 | DC116: =EXP($DC$6+($DC$7-$DC$6)*((LN($DC$1-A116))-$DC$9)/($DC$10-$DC$9)) -> 8.3375922 | DD116: =EXP($DD$6+($DD$7-$DD$6)*((LN($DD$1-A116))-$DD$9)/($DD$10-$DD$9)) -> 6.7939099 | DE116: =EXP($DE$6+($DE$7-$DE$6)*((LN($DE$1-A116))-$DE$9)/($DE$10-$DE$9)) -> 5.6715114 | DF116: =EXP($DF$6+($DF$7-$DF$6)*((LN($DF$1-A116))-$DF$9)/($DF$10-$DF$9)) -> 4.8256728
A117: 104 | CC117: 104 | CF117: =EXP($CF$6+($CF$7-$CF$6)*((LN($CF$1-A117))-$CF$9)/($CF$10-$CF$9)) -> 887.31884 | CG117: =EXP($CG$6+($CG$7-$CG$6)*((LN($CG$1-A117))-$CG$9)/($CG$10-$CG$9)) -> 563.83146 | CH117: =EXP($CH$6+($CH$7-$CH$6)*((LN($CH$1-A117))-$CH$9)/($CH$10-$CH$9)) -> 432.35514 | CI117: =EXP($CI$6+($CI$7-$CI$6)*((LN($CI$1-A117))-$CI$9)/($CI$10-$CI$9)) -> 388.65091 | CJ117: =EXP($CJ$6+($CJ$7-$CJ$6)*((LN($CJ$1-A117))-$CJ$9)/($CJ$10-$CJ$9)) -> 357.8957 | CK117: =EXP($CK$6+($CK$7-$CK$6)*((LN($CK$1-A117))-$CK$9)/($CK$10-$CK$9)) -> 334.61988 | CL117: =EXP($CL$6+($CL$7-$CL$6)*((LN($CL$1-A117))-$CL$9)/($CL$10-$CL$9)) -> 316.146 | CM117: =EXP($CM$6+($CM$7-$CM$6)*((LN($CM$1-A117))-$CM$9)/($CM$10-$CM$9)) -> 300.982 | CN117: =EXP($CN$6+($CN$7-$CN$6)*((LN($CN$1-A117))-$CN$9)/($CN$10-$CN$9)) -> 288.21923 | CO117: =EXP($CO$6+($CO$7-$CO$6)*((LN($CO$1-A117))-$CO$9)/($CO$10-$CO$9)) -> 194.26833 | CP117: =EXP($CP$6+($CP$7-$CP$6)*((LN($CP$1-A117))-$CP$9)/($CP$10-$CP$9)) -> 150.6762 | CQ117: =EXP($CQ$6+($CQ$7-$CQ$6)*((LN($CQ$1-A117))-$CQ$9)/($CQ$10-$CQ$9)) -> 136.33718 | CR117: =EXP($CR$6+($CR$7-$CR$6)*((LN($CR$1-A117))-$CR$9)/($CR$10-$CR$9)) -> 124.92416 | CS117: =EXP($CS$6+($CS$7-$CS$6)*((LN($CS$1-A117))-$CS$9)/($CS$10-$CS$9)) -> 116.34832 | CT117: =EXP($CT$6+($CT$7-$CT$6)*((LN($CT$1-A117))-$CT$9)/($CT$10-$CT$9)) -> 109.57827 | CU117: =EXP($CU$6+($CU$7-$CU$6)*((LN($CU$1-A117))-$CU$9)/($CU$10-$CU$9)) -> 104.04486 | CV117: =EXP($CV$6+($CV$7-$CV$6)*((LN($CV$1-A117))-$CV$9)/($CV$10-$CV$9)) -> 99.404002 | CW117: =EXP($CW$6+($CW$7-$CW$6)*((LN($CW$1-A117))-$CW$9)/($CW$10-$CW$9)) -> 95.433404 | CX117: =EXP($CX$6+($CX$7-$CX$6)*((LN($CX$1-A117))-$CX$9)/($CX$10-$CX$9)) -> 46.595849 | CY117: =EXP($CY$6+($CY$7-$CY$6)*((LN($CY$1-A117))-$CY$9)/($CY$10-$CY$9)) -> 30.554663 | CZ117: =EXP($CZ$6+($CZ$7-$CZ$6)*((LN($CZ$1-A117))-$CZ$9)/($CZ$10-$CZ$9)) -> 19.676018 | DA117: =EXP($DA$6+($DA$7-$DA$6)*((LN($DA$1-A117))-$DA$9)/($DA$10-$DA$9)) -> 13.97012 | DB117: =EXP($DB$6+($DB$7-$DB$6)*((LN($DB$1-A117))-$DB$9)/($DB$10-$DB$9)) -> 10.561493 | DC117: =EXP($DC$6+($DC$7-$DC$6)*((LN($DC$1-A117))-$DC$9)/($DC$10-$DC$9)) -> 8.3377748 | DD117: =EXP($DD$6+($DD$7-$DD$6)*((LN($DD$1-A117))-$DD$9)/($DD$10-$DD$9)) -> 6.7940401 | DE117: =EXP($DE$6+($DE$7-$DE$6)*((LN($DE$1-A117))-$DE$9)/($DE$10-$DE$9)) -> 5.671608 | DF117: =EXP($DF$6+($DF$7-$DF$6)*((LN($DF$1-A117))-$DF$9)/($DF$10-$DF$9)) -> 4.8257468
A118: 105 | CC118: 105 | CF118: =EXP($CF$6+($CF$7-$CF$6)*((LN($CF$1-A118))-$CF$9)/($CF$10-$CF$9)) -> 893.24125 | CG118: =EXP($CG$6+($CG$7-$CG$6)*((LN($CG$1-A118))-$CG$9)/($CG$10-$CG$9)) -> 565.66665 | CH118: =EXP($CH$6+($CH$7-$CH$6)*((LN($CH$1-A118))-$CH$9)/($CH$10-$CH$9)) -> 432.89118 | CI118: =EXP($CI$6+($CI$7-$CI$6)*((LN($CI$1-A118))-$CI$9)/($CI$10-$CI$9)) -> 389.01087 | CJ118: =EXP($CJ$6+($CJ$7-$CJ$6)*((LN($CJ$1-A118))-$CJ$9)/($CJ$10-$CJ$9)) -> 358.16025 | CK118: =EXP($CK$6+($CK$7-$CK$6)*((LN($CK$1-A118))-$CK$9)/($CK$10-$CK$9)) -> 334.82568 | CL118: =EXP($CL$6+($CL$7-$CL$6)*((LN($CL$1-A118))-$CL$9)/($CL$10-$CL$9)) -> 316.31247 | CM118: =EXP($CM$6+($CM$7-$CM$6)*((LN($CM$1-A118))-$CM$9)/($CM$10-$CM$9)) -> 301.12056 | CN118: =EXP($CN$6+($CN$7-$CN$6)*((LN($CN$1-A118))-$CN$9)/($CN$10-$CN$9)) -> 288.3371 | CO118: =EXP($CO$6+($CO$7-$CO$6)*((LN($CO$1-A118))-$CO$9)/($CO$10-$CO$9)) -> 194.3251 | CP118: =EXP($CP$6+($CP$7-$CP$6)*((LN($CP$1-A118))-$CP$9)/($CP$10-$CP$9)) -> 150.6762 | CQ118: =EXP($CQ$6+($CQ$7-$CQ$6)*((LN($CQ$1-A118))-$CQ$9)/($CQ$10-$CQ$9)) -> 136.35058 | CR118: =EXP($CR$6+($CR$7-$CR$6)*((LN($CR$1-A118))-$CR$9)/($CR$10-$CR$9)) -> 124.93393 | CS118: =EXP($CS$6+($CS$7-$CS$6)*((LN($CS$1-A118))-$CS$9)/($CS$10-$CS$9)) -> 116.35588 | CT118: =EXP($CT$6+($CT$7-$CT$6)*((LN($CT$1-A118))-$CT$9)/($CT$10-$CT$9)) -> 109.58435 | CU118: =EXP($CU$6+($CU$7-$CU$6)*((LN($CU$1-A118))-$CU$9)/($CU$10-$CU$9)) -> 104.0499 | CV118: =EXP($CV$6+($CV$7-$CV$6)*((LN($CV$1-A118))-$CV$9)/($CV$10-$CV$9)) -> 99.408278 | CW118: =EXP($CW$6+($CW$7-$CW$6)*((LN($CW$1-A118))-$CW$9)/($CW$10-$CW$9)) -> 95.437095 | CX118: =EXP($CX$6+($CX$7-$CX$6)*((LN($CX$1-A118))-$CX$9)/($CX$10-$CX$9)) -> 46.598276 | CY118: =EXP($CY$6+($CY$7-$CY$6)*((LN($CY$1-A118))-$CY$9)/($CY$10-$CY$9)) -> 30.555722 | CZ118: =EXP($CZ$6+($CZ$7-$CZ$6)*((LN($CZ$1-A118))-$CZ$9)/($CZ$10-$CZ$9)) -> 19.676773 | DA118: =EXP($DA$6+($DA$7-$DA$6)*((LN($DA$1-A118))-$DA$9)/($DA$10-$DA$9)) -> 13.970548 | DB118: =EXP($DB$6+($DB$7-$DB$6)*((LN($DB$1-A118))-$DB$9)/($DB$10-$DB$9)) -> 10.561763 | DC118: =EXP($DC$6+($DC$7-$DC$6)*((LN($DC$1-A118))-$DC$9)/($DC$10-$DC$9)) -> 8.3379575 | DD118: =EXP($DD$6+($DD$7-$DD$6)*((LN($DD$1-A118))-$DD$9)/($DD$10-$DD$9)) -> 6.7941703 | DE118: =EXP($DE$6+($DE$7-$DE$6)*((LN($DE$1-A118))-$DE$9)/($DE$10-$DE$9)) -> 5.6717046 | DF118: =EXP($DF$6+($DF$7-$DF$6)*((LN($DF$1-A118))-$DF$9)/($DF$10-$DF$9)) -> 4.8258208
A119: 106 | CC119: 106 | CF119: =EXP($CF$6+($CF$7-$CF$6)*((LN($CF$1-A119))-$CF$9)/($CF$10-$CF$9)) -> 899.26648 | CG119: =EXP($CG$6+($CG$7-$CG$6)*((LN($CG$1-A119))-$CG$9)/($CG$10-$CG$9)) -> 567.5173 | CH119: =EXP($CH$6+($CH$7-$CH$6)*((LN($CH$1-A119))-$CH$9)/($CH$10-$CH$9)) -> 433.42971 | CI119: =EXP($CI$6+($CI$7-$CI$6)*((LN($CI$1-A119))-$CI$9)/($CI$10-$CI$9)) -> 389.37208 | CJ119: =EXP($CJ$6+($CJ$7-$CJ$6)*((LN($CJ$1-A119))-$CJ$9)/($CJ$10-$CJ$9)) -> 358.42554 | CK119: =EXP($CK$6+($CK$7-$CK$6)*((LN($CK$1-A119))-$CK$9)/($CK$10-$CK$9)) -> 335.03196 | CL119: =EXP($CL$6+($CL$7-$CL$6)*((LN($CL$1-A119))-$CL$9)/($CL$10-$CL$9)) -> 316.47928 | CM119: =EXP($CM$6+($CM$7-$CM$6)*((LN($CM$1-A119))-$CM$9)/($CM$10-$CM$9)) -> 301.25936 | CN119: =EXP($CN$6+($CN$7-$CN$6)*((LN($CN$1-A119))-$CN$9)/($CN$10-$CN$9)) -> 288.45514 | CO119: =EXP($CO$6+($CO$7-$CO$6)*((LN($CO$1-A119))-$CO$9)/($CO$10-$CO$9)) -> 194.38191 | CP119: =EXP($CP$6+($CP$7-$CP$6)*((LN($CP$1-A119))-$CP$9)/($CP$10-$CP$9)) -> 150.6762 | CQ119: =EXP($CQ$6+($CQ$7-$CQ$6)*((LN($CQ$1-A119))-$CQ$9)/($CQ$10-$CQ$9)) -> 136.36397 | CR119: =EXP($CR$6+($CR$7-$CR$6)*((LN($CR$1-A119))-$CR$9)/($CR$10-$CR$9)) -> 124.9437 | CS119: =EXP($CS$6+($CS$7-$CS$6)*((LN($CS$1-A119))-$CS$9)/($CS$10-$CS$9)) -> 116.36343 | CT119: =EXP($CT$6+($CT$7-$CT$6)*((LN($CT$1-A119))-$CT$9)/($CT$10-$CT$9)) -> 109.59043 | CU119: =EXP($CU$6+($CU$7-$CU$6)*((LN($CU$1-A119))-$CU$9)/($CU$10-$CU$9)) -> 104.05494 | CV119: =EXP($CV$6+($CV$7-$CV$6)*((LN($CV$1-A119))-$CV$9)/($CV$10-$CV$9)) -> 99.412554 | CW119: =EXP($CW$6+($CW$7-$CW$6)*((LN($CW$1-A119))-$CW$9)/($CW$10-$CW$9)) -> 95.440786 | CX119: =EXP($CX$6+($CX$7-$CX$6)*((LN($CX$1-A119))-$CX$9)/($CX$10-$CX$9)) -> 46.600704 | CY119: =EXP($CY$6+($CY$7-$CY$6)*((LN($CY$1-A119))-$CY$9)/($CY$10-$CY$9)) -> 30.556781 | CZ119: =EXP($CZ$6+($CZ$7-$CZ$6)*((LN($CZ$1-A119))-$CZ$9)/($CZ$10-$CZ$9)) -> 19.677528 | DA119: =EXP($DA$6+($DA$7-$DA$6)*((LN($DA$1-A119))-$DA$9)/($DA$10-$DA$9)) -> 13.970977 | DB119: =EXP($DB$6+($DB$7-$DB$6)*((LN($DB$1-A119))-$DB$9)/($DB$10-$DB$9)) -> 10.562033 | DC119: =EXP($DC$6+($DC$7-$DC$6)*((LN($DC$1-A119))-$DC$9)/($DC$10-$DC$9)) -> 8.3381402 | DD119: =EXP($DD$6+($DD$7-$DD$6)*((LN($DD$1-A119))-$DD$9)/($DD$10-$DD$9)) -> 6.7943005 | DE119: =EXP($DE$6+($DE$7-$DE$6)*((LN($DE$1-A119))-$DE$9)/($DE$10-$DE$9)) -> 5.6718012 | DF119: =EXP($DF$6+($DF$7-$DF$6)*((LN($DF$1-A119))-$DF$9)/($DF$10-$DF$9)) -> 4.8258947
A120: 107 | CC120: 107 | CF120: =EXP($CF$6+($CF$7-$CF$6)*((LN($CF$1-A120))-$CF$9)/($CF$10-$CF$9)) -> 905.39746 | CG120: =EXP($CG$6+($CG$7-$CG$6)*((LN($CG$1-A120))-$CG$9)/($CG$10-$CG$9)) -> 569.38361 | CH120: =EXP($CH$6+($CH$7-$CH$6)*((LN($CH$1-A120))-$CH$9)/($CH$10-$CH$9)) -> 433.97074 | CI120: =EXP($CI$6+($CI$7-$CI$6)*((LN($CI$1-A120))-$CI$9)/($CI$10-$CI$9)) -> 389.73455 | CJ120: =EXP($CJ$6+($CJ$7-$CJ$6)*((LN($CJ$1-A120))-$CJ$9)/($CJ$10-$CJ$9)) -> 358.69156 | CK120: =EXP($CK$6+($CK$7-$CK$6)*((LN($CK$1-A120))-$CK$9)/($CK$10-$CK$9)) -> 335.23871 | CL120: =EXP($CL$6+($CL$7-$CL$6)*((LN($CL$1-A120))-$CL$9)/($CL$10-$CL$9)) -> 316.64641 | CM120: =EXP($CM$6+($CM$7-$CM$6)*((LN($CM$1-A120))-$CM$9)/($CM$10-$CM$9)) -> 301.3984 | CN120: =EXP($CN$6+($CN$7-$CN$6)*((LN($CN$1-A120))-$CN$9)/($CN$10-$CN$9)) -> 288.57337 | CO120: =EXP($CO$6+($CO$7-$CO$6)*((LN($CO$1-A120))-$CO$9)/($CO$10-$CO$9)) -> 194.43876 | CP120: =EXP($CP$6+($CP$7-$CP$6)*((LN($CP$1-A120))-$CP$9)/($CP$10-$CP$9)) -> 150.6762 | CQ120: =EXP($CQ$6+($CQ$7-$CQ$6)*((LN($CQ$1-A120))-$CQ$9)/($CQ$10-$CQ$9)) -> 136.37738 | CR120: =EXP($CR$6+($CR$7-$CR$6)*((LN($CR$1-A120))-$CR$9)/($CR$10-$CR$9)) -> 124.95347 | CS120: =EXP($CS$6+($CS$7-$CS$6)*((LN($CS$1-A120))-$CS$9)/($CS$10-$CS$9)) -> 116.37099 | CT120: =EXP($CT$6+($CT$7-$CT$6)*((LN($CT$1-A120))-$CT$9)/($CT$10-$CT$9)) -> 109.59652 | CU120: =EXP($CU$6+($CU$7-$CU$6)*((LN($CU$1-A120))-$CU$9)/($CU$10-$CU$9)) -> 104.05999 | CV120: =EXP($CV$6+($CV$7-$CV$6)*((LN($CV$1-A120))-$CV$9)/($CV$10-$CV$9)) -> 99.416832 | CW120: =EXP($CW$6+($CW$7-$CW$6)*((LN($CW$1-A120))-$CW$9)/($CW$10-$CW$9)) -> 95.444477 | CX120: =EXP($CX$6+($CX$7-$CX$6)*((LN($CX$1-A120))-$CX$9)/($CX$10-$CX$9)) -> 46.603131 | CY120: =EXP($CY$6+($CY$7-$CY$6)*((LN($CY$1-A120))-$CY$9)/($CY$10-$CY$9)) -> 30.55784 | CZ120: =EXP($CZ$6+($CZ$7-$CZ$6)*((LN($CZ$1-A120))-$CZ$9)/($CZ$10-$CZ$9)) -> 19.678284 | DA120: =EXP($DA$6+($DA$7-$DA$6)*((LN($DA$1-A120))-$DA$9)/($DA$10-$DA$9)) -> 13.971406 | DB120: =EXP($DB$6+($DB$7-$DB$6)*((LN($DB$1-A120))-$DB$9)/($DB$10-$DB$9)) -> 10.562303 | DC120: =EXP($DC$6+($DC$7-$DC$6)*((LN($DC$1-A120))-$DC$9)/($DC$10-$DC$9)) -> 8.3383228 | DD120: =EXP($DD$6+($DD$7-$DD$6)*((LN($DD$1-A120))-$DD$9)/($DD$10-$DD$9)) -> 6.7944308 | DE120: =EXP($DE$6+($DE$7-$DE$6)*((LN($DE$1-A120))-$DE$9)/($DE$10-$DE$9)) -> 5.6718978 | DF120: =EXP($DF$6+($DF$7-$DF$6)*((LN($DF$1-A120))-$DF$9)/($DF$10-$DF$9)) -> 4.8259687
A121: 108 | CC121: 108 | CF121: =EXP($CF$6+($CF$7-$CF$6)*((LN($CF$1-A121))-$CF$9)/($CF$10-$CF$9)) -> 911.63719 | CG121: =EXP($CG$6+($CG$7-$CG$6)*((LN($CG$1-A121))-$CG$9)/($CG$10-$CG$9)) -> 571.2658 | CH121: =EXP($CH$6+($CH$7-$CH$6)*((LN($CH$1-A121))-$CH$9)/($CH$10-$CH$9)) -> 434.5143 | CI121: =EXP($CI$6+($CI$7-$CI$6)*((LN($CI$1-A121))-$CI$9)/($CI$10-$CI$9)) -> 390.09827 | CJ121: =EXP($CJ$6+($CJ$7-$CJ$6)*((LN($CJ$1-A121))-$CJ$9)/($CJ$10-$CJ$9)) -> 358.95832 | CK121: =EXP($CK$6+($CK$7-$CK$6)*((LN($CK$1-A121))-$CK$9)/($CK$10-$CK$9)) -> 335.44593 | CL121: =EXP($CL$6+($CL$7-$CL$6)*((LN($CL$1-A121))-$CL$9)/($CL$10-$CL$9)) -> 316.81387 | CM121: =EXP($CM$6+($CM$7-$CM$6)*((LN($CM$1-A121))-$CM$9)/($CM$10-$CM$9)) -> 301.53768 | CN121: =EXP($CN$6+($CN$7-$CN$6)*((LN($CN$1-A121))-$CN$9)/($CN$10-$CN$9)) -> 288.69178 | CO121: =EXP($CO$6+($CO$7-$CO$6)*((LN($CO$1-A121))-$CO$9)/($CO$10-$CO$9)) -> 194.49567 | CP121: =EXP($CP$6+($CP$7-$CP$6)*((LN($CP$1-A121))-$CP$9)/($CP$10-$CP$9)) -> 150.6762 | CQ121: =EXP($CQ$6+($CQ$7-$CQ$6)*((LN($CQ$1-A121))-$CQ$9)/($CQ$10-$CQ$9)) -> 136.39078 | CR121: =EXP($CR$6+($CR$7-$CR$6)*((LN($CR$1-A121))-$CR$9)/($CR$10-$CR$9)) -> 124.96324 | CS121: =EXP($CS$6+($CS$7-$CS$6)*((LN($CS$1-A121))-$CS$9)/($CS$10-$CS$9)) -> 116.37854 | CT121: =EXP($CT$6+($CT$7-$CT$6)*((LN($CT$1-A121))-$CT$9)/($CT$10-$CT$9)) -> 109.6026 | CU121: =EXP($CU$6+($CU$7-$CU$6)*((LN($CU$1-A121))-$CU$9)/($CU$10-$CU$9)) -> 104.06503 | CV121: =EXP($CV$6+($CV$7-$CV$6)*((LN($CV$1-A121))-$CV$9)/($CV$10-$CV$9)) -> 99.42111 | CW121: =EXP($CW$6+($CW$7-$CW$6)*((LN($CW$1-A121))-$CW$9)/($CW$10-$CW$9)) -> 95.448169 | CX121: =EXP($CX$6+($CX$7-$CX$6)*((LN($CX$1-A121))-$CX$9)/($CX$10-$CX$9)) -> 46.605559 | CY121: =EXP($CY$6+($CY$7-$CY$6)*((LN($CY$1-A121))-$CY$9)/($CY$10-$CY$9)) -> 30.5589 | CZ121: =EXP($CZ$6+($CZ$7-$CZ$6)*((LN($CZ$1-A121))-$CZ$9)/($CZ$10-$CZ$9)) -> 19.679039 | DA121: =EXP($DA$6+($DA$7-$DA$6)*((LN($DA$1-A121))-$DA$9)/($DA$10-$DA$9)) -> 13.971835 | DB121: =EXP($DB$6+($DB$7-$DB$6)*((LN($DB$1-A121))-$DB$9)/($DB$10-$DB$9)) -> 10.562573 | DC121: =EXP($DC$6+($DC$7-$DC$6)*((LN($DC$1-A121))-$DC$9)/($DC$10-$DC$9)) -> 8.3385055 | DD121: =EXP($DD$6+($DD$7-$DD$6)*((LN($DD$1-A121))-$DD$9)/($DD$10-$DD$9)) -> 6.794561 | DE121: =EXP($DE$6+($DE$7-$DE$6)*((LN($DE$1-A121))-$DE$9)/($DE$10-$DE$9)) -> 5.6719945 | DF121: =EXP($DF$6+($DF$7-$DF$6)*((LN($DF$1-A121))-$DF$9)/($DF$10-$DF$9)) -> 4.8260427
A122: 109 | CC122: 109 | CF122: =EXP($CF$6+($CF$7-$CF$6)*((LN($CF$1-A122))-$CF$9)/($CF$10-$CF$9)) -> 917.98884 | CG122: =EXP($CG$6+($CG$7-$CG$6)*((LN($CG$1-A122))-$CG$9)/($CG$10-$CG$9)) -> 573.1641 | CH122: =EXP($CH$6+($CH$7-$CH$6)*((LN($CH$1-A122))-$CH$9)/($CH$10-$CH$9)) -> 435.06042 | CI122: =EXP($CI$6+($CI$7-$CI$6)*((LN($CI$1-A122))-$CI$9)/($CI$10-$CI$9)) -> 390.46327 | CJ122: =EXP($CJ$6+($CJ$7-$CJ$6)*((LN($CJ$1-A122))-$CJ$9)/($CJ$10-$CJ$9)) -> 359.22582 | CK122: =EXP($CK$6+($CK$7-$CK$6)*((LN($CK$1-A122))-$CK$9)/($CK$10-$CK$9)) -> 335.65364 | CL122: =EXP($CL$6+($CL$7-$CL$6)*((LN($CL$1-A122))-$CL$9)/($CL$10-$CL$9)) -> 316.98166 | CM122: =EXP($CM$6+($CM$7-$CM$6)*((LN($CM$1-A122))-$CM$9)/($CM$10-$CM$9)) -> 301.6772 | CN122: =EXP($CN$6+($CN$7-$CN$6)*((LN($CN$1-A122))-$CN$9)/($CN$10-$CN$9)) -> 288.81037 | CO122: =EXP($CO$6+($CO$7-$CO$6)*((LN($CO$1-A122))-$CO$9)/($CO$10-$CO$9)) -> 194.55262 | CP122: =EXP($CP$6+($CP$7-$CP$6)*((LN($CP$1-A122))-$CP$9)/($CP$10-$CP$9)) -> 150.6762 | CQ122: =EXP($CQ$6+($CQ$7-$CQ$6)*((LN($CQ$1-A122))-$CQ$9)/($CQ$10-$CQ$9)) -> 136.4042 | CR122: =EXP($CR$6+($CR$7-$CR$6)*((LN($CR$1-A122))-$CR$9)/($CR$10-$CR$9)) -> 124.97302 | CS122: =EXP($CS$6+($CS$7-$CS$6)*((LN($CS$1-A122))-$CS$9)/($CS$10-$CS$9)) -> 116.3861 | CT122: =EXP($CT$6+($CT$7-$CT$6)*((LN($CT$1-A122))-$CT$9)/($CT$10-$CT$9)) -> 109.60869 | CU122: =EXP($CU$6+($CU$7-$CU$6)*((LN($CU$1-A122))-$CU$9)/($CU$10-$CU$9)) -> 104.07008 | CV122: =EXP($CV$6+($CV$7-$CV$6)*((LN($CV$1-A122))-$CV$9)/($CV$10-$CV$9)) -> 99.425389 | CW122: =EXP($CW$6+($CW$7-$CW$6)*((LN($CW$1-A122))-$CW$9)/($CW$10-$CW$9)) -> 95.451862 | CX122: =EXP($CX$6+($CX$7-$CX$6)*((LN($CX$1-A122))-$CX$9)/($CX$10-$CX$9)) -> 46.607987 | CY122: =EXP($CY$6+($CY$7-$CY$6)*((LN($CY$1-A122))-$CY$9)/($CY$10-$CY$9)) -> 30.559959 | CZ122: =EXP($CZ$6+($CZ$7-$CZ$6)*((LN($CZ$1-A122))-$CZ$9)/($CZ$10-$CZ$9)) -> 19.679794 | DA122: =EXP($DA$6+($DA$7-$DA$6)*((LN($DA$1-A122))-$DA$9)/($DA$10-$DA$9)) -> 13.972263 | DB122: =EXP($DB$6+($DB$7-$DB$6)*((LN($DB$1-A122))-$DB$9)/($DB$10-$DB$9)) -> 10.562843 | DC122: =EXP($DC$6+($DC$7-$DC$6)*((LN($DC$1-A122))-$DC$9)/($DC$10-$DC$9)) -> 8.3386882 | DD122: =EXP($DD$6+($DD$7-$DD$6)*((LN($DD$1-A122))-$DD$9)/($DD$10-$DD$9)) -> 6.7946912 | DE122: =EXP($DE$6+($DE$7-$DE$6)*((LN($DE$1-A122))-$DE$9)/($DE$10-$DE$9)) -> 5.6720911 | DF122: =EXP($DF$6+($DF$7-$DF$6)*((LN($DF$1-A122))-$DF$9)/($DF$10-$DF$9)) -> 4.8261167
A123: 110 | CC123: 110 | CF123: =EXP($CF$6+($CF$7-$CF$6)*((LN($CF$1-A123))-$CF$9)/($CF$10-$CF$9)) -> 924.45566 | CG123: =EXP($CG$6+($CG$7-$CG$6)*((LN($CG$1-A123))-$CG$9)/($CG$10-$CG$9)) -> 575.07871 | CH123: =EXP($CH$6+($CH$7-$CH$6)*((LN($CH$1-A123))-$CH$9)/($CH$10-$CH$9)) -> 435.6091 | CI123: =EXP($CI$6+($CI$7-$CI$6)*((LN($CI$1-A123))-$CI$9)/($CI$10-$CI$9)) -> 390.82955 | CJ123: =EXP($CJ$6+($CJ$7-$CJ$6)*((LN($CJ$1-A123))-$CJ$9)/($CJ$10-$CJ$9)) -> 359.49407 | CK123: =EXP($CK$6+($CK$7-$CK$6)*((LN($CK$1-A123))-$CK$9)/($CK$10-$CK$9)) -> 335.86182 | CL123: =EXP($CL$6+($CL$7-$CL$6)*((LN($CL$1-A123))-$CL$9)/($CL$10-$CL$9)) -> 317.14978 | CM123: =EXP($CM$6+($CM$7-$CM$6)*((LN($CM$1-A123))-$CM$9)/($CM$10-$CM$9)) -> 301.81696 | CN123: =EXP($CN$6+($CN$7-$CN$6)*((LN($CN$1-A123))-$CN$9)/($CN$10-$CN$9)) -> 288.92914 | CO123: =EXP($CO$6+($CO$7-$CO$6)*((LN($CO$1-A123))-$CO$9)/($CO$10-$CO$9)) -> 194.60962 | CP123: =EXP($CP$6+($CP$7-$CP$6)*((LN($CP$1-A123))-$CP$9)/($CP$10-$CP$9)) -> 150.6762 | CQ123: =EXP($CQ$6+($CQ$7-$CQ$6)*((LN($CQ$1-A123))-$CQ$9)/($CQ$10-$CQ$9)) -> 136.41761 | CR123: =EXP($CR$6+($CR$7-$CR$6)*((LN($CR$1-A123))-$CR$9)/($CR$10-$CR$9)) -> 124.9828 | CS123: =EXP($CS$6+($CS$7-$CS$6)*((LN($CS$1-A123))-$CS$9)/($CS$10-$CS$9)) -> 116.39366 | CT123: =EXP($CT$6+($CT$7-$CT$6)*((LN($CT$1-A123))-$CT$9)/($CT$10-$CT$9)) -> 109.61478 | CU123: =EXP($CU$6+($CU$7-$CU$6)*((LN($CU$1-A123))-$CU$9)/($CU$10-$CU$9)) -> 104.07512 | CV123: =EXP($CV$6+($CV$7-$CV$6)*((LN($CV$1-A123))-$CV$9)/($CV$10-$CV$9)) -> 99.429668 | CW123: =EXP($CW$6+($CW$7-$CW$6)*((LN($CW$1-A123))-$CW$9)/($CW$10-$CW$9)) -> 95.455555 | CX123: =EXP($CX$6+($CX$7-$CX$6)*((LN($CX$1-A123))-$CX$9)/($CX$10-$CX$9)) -> 46.610416 | CY123: =EXP($CY$6+($CY$7-$CY$6)*((LN($CY$1-A123))-$CY$9)/($CY$10-$CY$9)) -> 30.561019 | CZ123: =EXP($CZ$6+($CZ$7-$CZ$6)*((LN($CZ$1-A123))-$CZ$9)/($CZ$10-$CZ$9)) -> 19.68055 | DA123: =EXP($DA$6+($DA$7-$DA$6)*((LN($DA$1-A123))-$DA$9)/($DA$10-$DA$9)) -> 13.972692 | DB123: =EXP($DB$6+($DB$7-$DB$6)*((LN($DB$1-A123))-$DB$9)/($DB$10-$DB$9)) -> 10.563113 | DC123: =EXP($DC$6+($DC$7-$DC$6)*((LN($DC$1-A123))-$DC$9)/($DC$10-$DC$9)) -> 8.3388709 | DD123: =EXP($DD$6+($DD$7-$DD$6)*((LN($DD$1-A123))-$DD$9)/($DD$10-$DD$9)) -> 6.7948214 | DE123: =EXP($DE$6+($DE$7-$DE$6)*((LN($DE$1-A123))-$DE$9)/($DE$10-$DE$9)) -> 5.6721877 | DF123: =EXP($DF$6+($DF$7-$DF$6)*((LN($DF$1-A123))-$DF$9)/($DF$10-$DF$9)) -> 4.8261906
A124: 111 | CC124: 111 | CF124: =EXP($CF$6+($CF$7-$CF$6)*((LN($CF$1-A124))-$CF$9)/($CF$10-$CF$9)) -> 931.04106 | CG124: =EXP($CG$6+($CG$7-$CG$6)*((LN($CG$1-A124))-$CG$9)/($CG$10-$CG$9)) -> 577.00988 | CH124: =EXP($CH$6+($CH$7-$CH$6)*((LN($CH$1-A124))-$CH$9)/($CH$10-$CH$9)) -> 436.16037 | CI124: =EXP($CI$6+($CI$7-$CI$6)*((LN($CI$1-A124))-$CI$9)/($CI$10-$CI$9)) -> 391.1971 | CJ124: =EXP($CJ$6+($CJ$7-$CJ$6)*((LN($CJ$1-A124))-$CJ$9)/($CJ$10-$CJ$9)) -> 359.76306 | CK124: =EXP($CK$6+($CK$7-$CK$6)*((LN($CK$1-A124))-$CK$9)/($CK$10-$CK$9)) -> 336.07049 | CL124: =EXP($CL$6+($CL$7-$CL$6)*((LN($CL$1-A124))-$CL$9)/($CL$10-$CL$9)) -> 317.31824 | CM124: =EXP($CM$6+($CM$7-$CM$6)*((LN($CM$1-A124))-$CM$9)/($CM$10-$CM$9)) -> 301.95696 | CN124: =EXP($CN$6+($CN$7-$CN$6)*((LN($CN$1-A124))-$CN$9)/($CN$10-$CN$9)) -> 289.04809 | CO124: =EXP($CO$6+($CO$7-$CO$6)*((LN($CO$1-A124))-$CO$9)/($CO$10-$CO$9)) -> 194.66666 | CP124: =EXP($CP$6+($CP$7-$CP$6)*((LN($CP$1-A124))-$CP$9)/($CP$10-$CP$9)) -> 150.6762 | CQ124: =EXP($CQ$6+($CQ$7-$CQ$6)*((LN($CQ$1-A124))-$CQ$9)/($CQ$10-$CQ$9)) -> 136.43104 | CR124: =EXP($CR$6+($CR$7-$CR$6)*((LN($CR$1-A124))-$CR$9)/($CR$10-$CR$9)) -> 124.99258 | CS124: =EXP($CS$6+($CS$7-$CS$6)*((LN($CS$1-A124))-$CS$9)/($CS$10-$CS$9)) -> 116.40123 | CT124: =EXP($CT$6+($CT$7-$CT$6)*((LN($CT$1-A124))-$CT$9)/($CT$10-$CT$9)) -> 109.62086 | CU124: =EXP($CU$6+($CU$7-$CU$6)*((LN($CU$1-A124))-$CU$9)/($CU$10-$CU$9)) -> 104.08017 | CV124: =EXP($CV$6+($CV$7-$CV$6)*((LN($CV$1-A124))-$CV$9)/($CV$10-$CV$9)) -> 99.433948 | CW124: =EXP($CW$6+($CW$7-$CW$6)*((LN($CW$1-A124))-$CW$9)/($CW$10-$CW$9)) -> 95.459248 | CX124: =EXP($CX$6+($CX$7-$CX$6)*((LN($CX$1-A124))-$CX$9)/($CX$10-$CX$9)) -> 46.612844 | CY124: =EXP($CY$6+($CY$7-$CY$6)*((LN($CY$1-A124))-$CY$9)/($CY$10-$CY$9)) -> 30.562078 | CZ124: =EXP($CZ$6+($CZ$7-$CZ$6)*((LN($CZ$1-A124))-$CZ$9)/($CZ$10-$CZ$9)) -> 19.681305 | DA124: =EXP($DA$6+($DA$7-$DA$6)*((LN($DA$1-A124))-$DA$9)/($DA$10-$DA$9)) -> 13.973121 | DB124: =EXP($DB$6+($DB$7-$DB$6)*((LN($DB$1-A124))-$DB$9)/($DB$10-$DB$9)) -> 10.563383 | DC124: =EXP($DC$6+($DC$7-$DC$6)*((LN($DC$1-A124))-$DC$9)/($DC$10-$DC$9)) -> 8.3390536 | DD124: =EXP($DD$6+($DD$7-$DD$6)*((LN($DD$1-A124))-$DD$9)/($DD$10-$DD$9)) -> 6.7949517 | DE124: =EXP($DE$6+($DE$7-$DE$6)*((LN($DE$1-A124))-$DE$9)/($DE$10-$DE$9)) -> 5.6722843 | DF124: =EXP($DF$6+($DF$7-$DF$6)*((LN($DF$1-A124))-$DF$9)/($DF$10-$DF$9)) -> 4.8262646
... A212: 199 | CC212: 199 | CF212: =EXP($CF$6+($CF$7-$CF$6)*((LN($CF$1-A212))-$CF$9)/($CF$10-$CF$9)) -> 16121.211 | CG212: =EXP($CG$6+($CG$7-$CG$6)*((LN($CG$1-A212))-$CG$9)/($CG$10-$CG$9)) -> 859.15488 | CH212: =EXP($CH$6+($CH$7-$CH$6)*((LN($CH$1-A212))-$CH$9)/($CH$10-$CH$9)) -> 498.18036 | CI212: =EXP($CI$6+($CI$7-$CI$6)*((LN($CI$1-A212))-$CI$9)/($CI$10-$CI$9)) -> 429.71159 | CJ212: =EXP($CJ$6+($CJ$7-$CJ$6)*((LN($CJ$1-A212))-$CJ$9)/($CJ$10-$CJ$9)) -> 386.86955 | CK212: =EXP($CK$6+($CK$7-$CK$6)*((LN($CK$1-A212))-$CK$9)/($CK$10-$CK$9)) -> 356.58377 | CL212: =EXP($CL$6+($CL$7-$CL$6)*((LN($CL$1-A212))-$CL$9)/($CL$10-$CL$9)) -> 333.59791 | CM212: =EXP($CM$6+($CM$7-$CM$6)*((LN($CM$1-A212))-$CM$9)/($CM$10-$CM$9)) -> 315.3185 | CN212: =EXP($CN$6+($CN$7-$CN$6)*((LN($CN$1-A212))-$CN$9)/($CN$10-$CN$9)) -> 300.29274 | CO212: =EXP($CO$6+($CO$7-$CO$6)*((LN($CO$1-A212))-$CO$9)/($CO$10-$CO$9)) -> 199.8779 | CP212: =EXP($CP$6+($CP$7-$CP$6)*((LN($CP$1-A212))-$CP$9)/($CP$10-$CP$9)) -> 150.6762 | CQ212: =EXP($CQ$6+($CQ$7-$CQ$6)*((LN($CQ$1-A212))-$CQ$9)/($CQ$10-$CQ$9)) -> 137.63116 | CR212: =EXP($CR$6+($CR$7-$CR$6)*((LN($CR$1-A212))-$CR$9)/($CR$10-$CR$9)) -> 125.86435 | CS212: =EXP($CS$6+($CS$7-$CS$6)*((LN($CS$1-A212))-$CS$9)/($CS$10-$CS$9)) -> 117.07377 | CT212: =EXP($CT$6+($CT$7-$CT$6)*((LN($CT$1-A212))-$CT$9)/($CT$10-$CT$9)) -> 110.16147 | CU212: =EXP($CU$6+($CU$7-$CU$6)*((LN($CU$1-A212))-$CU$9)/($CU$10-$CU$9)) -> 104.52789 | CV212: =EXP($CV$6+($CV$7-$CV$6)*((LN($CV$1-A212))-$CV$9)/($CV$10-$CV$9)) -> 99.813225 | CW212: =EXP($CW$6+($CW$7-$CW$6)*((LN($CW$1-A212))-$CW$9)/($CW$10-$CW$9)) -> 95.786315 | CX212: =EXP($CX$6+($CX$7-$CX$6)*((LN($CX$1-A212))-$CX$9)/($CX$10-$CX$9)) -> 46.827543 | CY212: =EXP($CY$6+($CY$7-$CY$6)*((LN($CY$1-A212))-$CY$9)/($CY$10-$CY$9)) -> 30.655608 | CZ212: =EXP($CZ$6+($CZ$7-$CZ$6)*((LN($CZ$1-A212))-$CZ$9)/($CZ$10-$CZ$9)) -> 19.747976 | DA212: =EXP($DA$6+($DA$7-$DA$6)*((LN($DA$1-A212))-$DA$9)/($DA$10-$DA$9)) -> 14.010946 | DB212: =EXP($DB$6+($DB$7-$DB$6)*((LN($DB$1-A212))-$DB$9)/($DB$10-$DB$9)) -> 10.587194 | DC212: =EXP($DC$6+($DC$7-$DC$6)*((LN($DC$1-A212))-$DC$9)/($DC$10-$DC$9)) -> 8.3551571 | DD212: =EXP($DD$6+($DD$7-$DD$6)*((LN($DD$1-A212))-$DD$9)/($DD$10-$DD$9)) -> 6.8064286 | DE212: =EXP($DE$6+($DE$7-$DE$6)*((LN($DE$1-A212))-$DE$9)/($DE$10-$DE$9)) -> 5.6807979 | DF212: =EXP($DF$6+($DF$7-$DF$6)*((LN($DF$1-A212))-$DF$9)/($DF$10-$DF$9)) -> 4.8327824
A213: 200 | CC213: 200 | CG213: =EXP($CG$6+($CG$7-$CG$6)*((LN($CG$1-A213))-$CG$9)/($CG$10-$CG$9)) -> 864.6031 | CH213: =EXP($CH$6+($CH$7-$CH$6)*((LN($CH$1-A213))-$CH$9)/($CH$10-$CH$9)) -> 499.09092 | CI213: =EXP($CI$6+($CI$7-$CI$6)*((LN($CI$1-A213))-$CI$9)/($CI$10-$CI$9)) -> 430.23548 | CJ213: =EXP($CJ$6+($CJ$7-$CJ$6)*((LN($CJ$1-A213))-$CJ$9)/($CJ$10-$CJ$9)) -> 387.22338 | CK213: =EXP($CK$6+($CK$7-$CK$6)*((LN($CK$1-A213))-$CK$9)/($CK$10-$CK$9)) -> 356.84472 | CL213: =EXP($CL$6+($CL$7-$CL$6)*((LN($CL$1-A213))-$CL$9)/($CL$10-$CL$9)) -> 333.80137 | CM213: =EXP($CM$6+($CM$7-$CM$6)*((LN($CM$1-A213))-$CM$9)/($CM$10-$CM$9)) -> 315.48335 | CN213: =EXP($CN$6+($CN$7-$CN$6)*((LN($CN$1-A213))-$CN$9)/($CN$10-$CN$9)) -> 300.43012 | CO213: =EXP($CO$6+($CO$7-$CO$6)*((LN($CO$1-A213))-$CO$9)/($CO$10-$CO$9)) -> 199.93938 | CP213: =EXP($CP$6+($CP$7-$CP$6)*((LN($CP$1-A213))-$CP$9)/($CP$10-$CP$9)) -> 150.6762 | CQ213: =EXP($CQ$6+($CQ$7-$CQ$6)*((LN($CQ$1-A213))-$CQ$9)/($CQ$10-$CQ$9)) -> 137.64502 | CR213: =EXP($CR$6+($CR$7-$CR$6)*((LN($CR$1-A213))-$CR$9)/($CR$10-$CR$9)) -> 125.87438 | CS213: =EXP($CS$6+($CS$7-$CS$6)*((LN($CS$1-A213))-$CS$9)/($CS$10-$CS$9)) -> 117.08149 | CT213: =EXP($CT$6+($CT$7-$CT$6)*((LN($CT$1-A213))-$CT$9)/($CT$10-$CT$9)) -> 110.16767 | CU213: =EXP($CU$6+($CU$7-$CU$6)*((LN($CU$1-A213))-$CU$9)/($CU$10-$CU$9)) -> 104.53301 | CV213: =EXP($CV$6+($CV$7-$CV$6)*((LN($CV$1-A213))-$CV$9)/($CV$10-$CV$9)) -> 99.817565 | CW213: =EXP($CW$6+($CW$7-$CW$6)*((LN($CW$1-A213))-$CW$9)/($CW$10-$CW$9)) -> 95.790055 | CX213: =EXP($CX$6+($CX$7-$CX$6)*((LN($CX$1-A213))-$CX$9)/($CX$10-$CX$9)) -> 46.829994 | CY213: =EXP($CY$6+($CY$7-$CY$6)*((LN($CY$1-A213))-$CY$9)/($CY$10-$CY$9)) -> 30.656674 | CZ213: =EXP($CZ$6+($CZ$7-$CZ$6)*((LN($CZ$1-A213))-$CZ$9)/($CZ$10-$CZ$9)) -> 19.748736 | DA213: =EXP($DA$6+($DA$7-$DA$6)*((LN($DA$1-A213))-$DA$9)/($DA$10-$DA$9)) -> 14.011377 | DB213: =EXP($DB$6+($DB$7-$DB$6)*((LN($DB$1-A213))-$DB$9)/($DB$10-$DB$9)) -> 10.587465 | DC213: =EXP($DC$6+($DC$7-$DC$6)*((LN($DC$1-A213))-$DC$9)/($DC$10-$DC$9)) -> 8.3553404 | DD213: =EXP($DD$6+($DD$7-$DD$6)*((LN($DD$1-A213))-$DD$9)/($DD$10-$DD$9)) -> 6.8065592 | DE213: =EXP($DE$6+($DE$7-$DE$6)*((LN($DE$1-A213))-$DE$9)/($DE$10-$DE$9)) -> 5.6808947 | DF213: =EXP($DF$6+($DF$7-$DF$6)*((LN($DF$1-A213))-$DF$9)/($DF$10-$DF$9)) -> 4.8328565

Sheet DH_CORE
A1: NFCSS Decay Heat after discharge
A2: Time | B2: Actual Year | C2: SF | D2: SF-SUM | E2: Burnup | F2: Supplementary Number | G2: 1 | H2: 2 | I2: 3 | J2: 4 | K2: 5 | L2: 6 | M2: 7 | N2: 8 | O2: 9 | P2: 10 | Q2: 11 | R2: 12 | S2: 13 | T2: 14 | U2: 15 | V2: 16 | W2: 17 | X2: 18 | Y2: 19 | Z2: 20 | AA2: 21 | AB2: 22 | AC2: 23 | AD2: 24 | AE2: 25 | AF2: 26 | AG2: 27 | AH2: 28 | AI2: 29 | AJ2: 30 | AK2: 31 | AL2: 32 | AM2: 33 | AN2: 34 | AO2: 35 | AP2: 36 | AQ2: 37 | AR2: 38 | AS2: 39 | AT2: 40 | AU2: 41 | AV2: 42 | AW2: 43 | AX2: 44 | AY2: 45 | AZ2: 46 | BA2: 47 | BB2: 48 | BC2: 49 | BD2: 50 | BE2: 51 | BF2: 52 | BG2: 53 | BH2: 54 | BI2: 55 | BJ2: 56 | BK2: 57 | BL2: 58 | BM2: 59 | BN2: 60 | BO2: 61 | BP2: 62 | BQ2: 63 | BR2: 64 | BS2: 65 | BT2: 66 | BU2: 67 | BV2: 68 | BW2: 69 | BX2: 70 | BY2: 71 | BZ2: 72 | CA2: 73 | CB2: 74 | CC2: 75 | CD2: 76 | CE2: 77 | CF2: 78 | CG2: 79 | CH2: 80 | CI2: 90 | CJ2: 100 | CK2: 200 | CL2: 300 | CM2: 400 | CN2: 500 | CO2: 600 | CP2: 700 | CQ2: 800 | CR2: 900 | CS2: 1000 | CT2: 2000 | CU2: 3000 | CV2: 4000 | CW2: 5000 | CX2: 6000 | CY2: 7000 | CZ2: 8000 | DA2: 9000 | DB2: 10000 | DC2: 20000 | DD2: 30000 | DE2: 40000 | DF2: 50000 | DG2: 60000 | DH2: 70000 | DI2: 80000 | DJ2: 90000 | DK2: 100000 | DL2: 110000 | DM2: 120000 | DN2: 130000 | DO2: 140000 | DP2: 150000 | DQ2: 160000 | DR2: 170000 | DS2: 180000 | DT2: 190000 | DU2: 200000 | DV2: 210000 | DW2: 220000 | DX2: 230000 | DY2: 240000 | DZ2: 250000 | EA2: 260000 | EB2: 270000 | EC2: 280000 | ED2: 290000 | EE2: 300000 | EF2: 310000 | EG2: 320000 | EH2: 330000 | EI2: 340000 | EJ2: 350000 | EK2: 360000 | EL2: 370000 | EM2: 380000 | EN2: 390000 | EO2: 400000 | EP2: 410000 | EQ2: 420000 | ER2: 430000 | ES2: 440000 | ET2: 450000 | EU2: 460000 | EV2: 470000 | EW2: 480000 | EX2: 490000 | EY2: 500000 | EZ2: 510000 | FA2: 520000 | FB2: 530000 | FC2: 540000 | FD2: 550000 | FE2: 560000 | FF2: 570000 | FG2: 580000 | FH2: 590000 | FI2: 600000 | FJ2: 610000 | FK2: 620000 | FL2: 630000 | FM2: 640000 | FN2: 650000 | FO2: 660000 | FP2: 670000 | FQ2: 680000 | FR2: 690000 | FS2: 700000 | FT2: 710000 | FU2: 720000 | FV2: 730000 | FW2: 740000 | FX2: 750000 | FY2: 760000 | FZ2: 770000 | GA2: 780000 | GB2: 790000 | GC2: 800000 | GD2: 810000 | GE2: 820000 | GF2: 830000 | GG2: 840000 | GH2: 850000 | GI2: 860000 | GJ2: 870000 | GK2: 880000 | GL2: 890000 | GM2: 900000 | GN2: 910000 | GO2: 920000 | GP2: 930000 | GQ2: 940000 | GR2: 950000 | GS2: 960000 | GT2: 970000 | GU2: 980000 | GV2: 990000 | GW2: 1000000
A3: Year | B3: Year | C3: (tHM) | E3: GWd/t | G3: (watt) | H3: (watt) | I3: (watt) | J3: (watt) | K3: (watt) | L3: (watt) | M3: (watt) | N3: (watt) | O3: (watt) | P3: (watt) | Q3: (watt) | R3: (watt) | S3: (watt) | T3: (watt) | U3: (watt) | V3: (watt) | W3: (watt) | X3: (watt) | Y3: (watt) | Z3: (watt) | AA3: (watt) | AB3: (watt) | AC3: (watt) | AD3: (watt) | AE3: (watt) | AF3: (watt) | AG3: (watt) | AH3: (watt) | AI3: (watt) | AJ3: (watt) | AK3: (watt) | AL3: (watt) | AM3: (watt) | AN3: (watt) | AO3: (watt) | AP3: (watt) | AQ3: (watt) | AR3: (watt) | AS3: (watt) | AT3: (watt) | CJ3: (watt) | CK3: (watt) | CL3: (watt) | CM3: (watt) | CN3: (watt) | CO3: (watt) | CP3: (watt) | CQ3: (watt) | CR3: (watt) | CS3: (watt) | CT3: (watt) | CU3: (watt) | CV3: (watt) | CW3: (watt) | CX3: (watt) | CY3: (watt) | CZ3: (watt) | DA3: (watt) | DB3: (watt) | DC3: (watt) | DD3: (watt) | DE3: (watt) | DF3: (watt) | DG3: (watt) | DH3: (watt) | DI3: (watt) | DJ3: (watt) | DK3: (watt) | DL3: (watt) | DM3: (watt) | DN3: (watt) | DO3: (watt) | DP3: (watt) | DQ3: (watt) | DR3: (watt) | DS3: (watt) | DT3: (watt) | DU3: (watt) | DV3: (watt) | DW3: (watt) | DX3: (watt) | DY3: (watt) | DZ3: (watt) | EA3: (watt) | EB3: (watt) | EC3: (watt) | ED3: (watt) | EE3: (watt) | EF3: (watt) | EG3: (watt) | EH3: (watt) | EI3: (watt) | EJ3: (watt) | EK3: (watt) | EL3: (watt) | EM3: (watt) | EN3: (watt) | EO3: (watt) | EP3: (watt) | EQ3: (watt) | ER3: (watt) | ES3: (watt) | ET3: (watt) | EU3: (watt) | EV3: (watt) | EW3: (watt) | EX3: (watt) | EY3: (watt) | EZ3: (watt) | FA3: (watt) | FB3: (watt) | FC3: (watt) | FD3: (watt) | FE3: (watt) | FF3: (watt) | FG3: (watt) | FH3: (watt) | FI3: (watt) | FJ3: (watt) | FK3: (watt) | FL3: (watt) | FM3: (watt) | FN3: (watt) | FO3: (watt) | FP3: (watt) | FQ3: (watt) | FR3: (watt) | FS3: (watt) | FT3: (watt) | FU3: (watt) | FV3: (watt) | FW3: (watt) | FX3: (watt) | FY3: (watt) | FZ3: (watt) | GA3: (watt) | GB3: (watt) | GC3: (watt) | GD3: (watt) | GE3: (watt) | GF3: (watt) | GG3: (watt) | GH3: (watt) | GI3: (watt) | GJ3: (watt) | GK3: (watt) | GL3: (watt) | GM3: (watt) | GN3: (watt) | GO3: (watt) | GP3: (watt) | GQ3: (watt) | GR3: (watt) | GS3: (watt) | GT3: (watt) | GU3: (watt) | GV3: (watt) | GW3: (watt)
A4: ='User input'!A4 -> 1 | B4: ='User input'!B4 -> 2020 | C4: ='User input'!C4 -> 0 | D4: ='User input'!C4 -> 0 | E4: ='User input'!F4 -> 151.448 | F4: ='User input'!F4/45 -> 3.3655111 | G4: =cal_CORE!B2*$C$4*$F$4 -> 0 | H4: =cal_CORE!C2*$C$4*$F$4 -> 0 | I4: =cal_CORE!D2*$C$4*$F$4 -> 0 | J4: =cal_CORE!E2*$C$4*$F$4 -> 0 | K4: =cal_CORE!F2*$C$4*$F$4 -> 0 | L4: =cal_CORE!G2*$C$4*$F$4 -> 0 | M4: =cal_CORE!H2*$C$4*$F$4 -> 0 | N4: =cal_CORE!I2*$C$4*$F$4 -> 0 | ... GW4: =cal_CORE!GR2*$C$4*$F$4 -> 0
A5: ='User input'!A5 -> 2 | B5: ='User input'!B5 -> 2021 | C5: ='User input'!C5 -> 4.35 | D5: =DH_CORE!D4+'User input'!C5 -> 4.35 | E5: ='User input'!F5 -> 151.448 | F5: ='User input'!F5/45 -> 3.3655111 | H5: =cal_CORE!B2*$C$5*$F$5 -> 129914.68 | I5: =cal_CORE!C2*$C$5*$F$5 -> 46041.89 | J5: =cal_CORE!D2*$C$5*$F$5 -> 25097.159 | K5: =cal_CORE!E2*$C$5*$F$5 -> 26121.207 | L5: =cal_CORE!F2*$C$5*$F$5 -> 26944.208 | M5: =cal_CORE!G2*$C$5*$F$5 -> 27635.862 | N5: =cal_CORE!H2*$C$5*$F$5 -> 28234.48 | O5: =cal_CORE!I2*$C$5*$F$5 -> 28763.497 | ... CH5: =cal_CORE!CB2*$C$5*$F$5 -> 13558.904 | CI5: =cal_CORE!CD14*C5*F5 -> 13095.517 | CJ5: =cal_CORE!CE14*C5*F5 -> 12694.936 | CK5: =cal_CORE!CF14*C5*F5 -> 8175.2035 | CL5: =cal_CORE!CG14*$C$5*$F$5 -> 6312.0106 | CM5: =cal_CORE!CH14*$C$5*$F$5 -> 5674.1379 | CN5: =cal_CORE!CI14*$C$5*$F$5 -> 5228.0279 | CO5: =cal_CORE!CJ14*$C$5*$F$5 -> 4889.8287 | CP5: =cal_CORE!CK14*$C$5*$F$5 -> 4621.0861 | CQ5: =cal_CORE!CL14*$C$5*$F$5 -> 4400.3037 | CR5: =cal_CORE!CM14*$C$5*$F$5 -> 4214.3609 | CS5: =cal_CORE!CN14*$C$5*$F$5 -> 4054.717 | ... DK5: =cal_CORE!DF14*$C$5*$F$5 -> 70.537409 | DL5: =cal_CORE!DG2*$C$5*$F$5 -> 64.365181 | DM5: =cal_CORE!DH2*$C$5*$F$5 -> 59.204029 | DN5: =cal_CORE!DI2*$C$5*$F$5 -> 54.822489 | DO5: =cal_CORE!DJ2*$C$5*$F$5 -> 51.05545 | DP5: =cal_CORE!DK2*$C$5*$F$5 -> 47.781459 | DQ5: =cal_CORE!DL2*$C$5*$F$5 -> 44.909165 | DR5: =cal_CORE!DM2*$C$5*$F$5 -> 42.368528 | DS5: =cal_CORE!DN2*$C$5*$F$5 -> 40.104935 | ... GW5: =cal_CORE!GR2*$C$5*$F$5 -> 12.806575
A6: ='User input'!A6 -> 3 | B6: ='User input'!B6 -> 2022 | C6: ='User input'!C6 -> 4.35 | D6: =DH_CORE!D5+'User input'!C6 -> 8.7 | E6: ='User input'!F6 -> 151.448 | F6: ='User input'!F6/45 -> 3.3655111 | I6: =cal_CORE!B2*$C$6*$F$6 -> 129914.68 | J6: =cal_CORE!C2*$C$6*$F$6 -> 46041.89 | K6: =cal_CORE!D2*$C$6*$F$6 -> 25097.159 | L6: =cal_CORE!E2*$C$6*$F$6 -> 26121.207 | M6: =cal_CORE!F2*$C$6*$F$6 -> 26944.208 | N6: =cal_CORE!G2*$C$6*$F$6 -> 27635.862 | O6: =cal_CORE!H2*$C$6*$F$6 -> 28234.48 | P6: =cal_CORE!I2*$C$6*$F$6 -> 28763.497 | ... CH6: =cal_CORE!CA2*$C$6*$F$6 -> 13609.391 | CI6: =cal_CORE!CD15*C6*F6 -> 13138.76 | CJ6: =cal_CORE!CE15*C6*F6 -> 12732.594 | CK6: =cal_CORE!CF15*C6*F6 -> 8201.4099 | CL6: =cal_CORE!CG15*$C$6*$F$6 -> 6325.4586 | CM6: =cal_CORE!CH15*$C$6*$F$6 -> 5679.3536 | CN6: =cal_CORE!CI15*$C$6*$F$6 -> 5231.8692 | CO6: =cal_CORE!CJ15*$C$6*$F$6 -> 4892.821 | CP6: =cal_CORE!CK15*$C$6*$F$6 -> 4623.509 | CQ6: =cal_CORE!CL15*$C$6*$F$6 -> 4402.3218 | CR6: =cal_CORE!CM15*$C$6*$F$6 -> 4216.0786 | CS6: =cal_CORE!CN15*$C$6*$F$6 -> 4056.2041 | ... DK6: =cal_CORE!DF15*$C$6*$F$6 -> 70.53849 | DL6: =cal_CORE!DG2*$C$6*$F$6 -> 64.365181 | DM6: =cal_CORE!DH2*$C$6*$F$6 -> 59.204029 | DN6: =cal_CORE!DI2*$C$6*$F$6 -> 54.822489 | DO6: =cal_CORE!DJ2*$C$6*$F$6 -> 51.05545 | DP6: =cal_CORE!DK2*$C$6*$F$6 -> 47.781459 | DQ6: =cal_CORE!DL2*$C$6*$F$6 -> 44.909165 | DR6: =cal_CORE!DM2*$C$6*$F$6 -> 42.368528 | DS6: =cal_CORE!DN2*$C$6*$F$6 -> 40.104935 | ... GW6: =cal_CORE!GR2*$C$6*$F$6 -> 12.806575
A7: ='User input'!A7 -> 4 | B7: ='User input'!B7 -> 2023 | C7: ='User input'!C7 -> 4.35 | D7: =DH_CORE!D6+'User input'!C7 -> 13.05 | E7: ='User input'!F7 -> 151.448 | F7: ='User input'!F7/45 -> 3.3655111 | J7: =cal_CORE!B2*$C$7*$F$7 -> 129914.68 | K7: =cal_CORE!C2*$C$7*$F$7 -> 46041.89 | L7: =cal_CORE!D2*$C$7*$F$7 -> 25097.159 | M7: =cal_CORE!E2*$C$7*$F$7 -> 26121.207 | N7: =cal_CORE!F2*$C$7*$F$7 -> 26944.208 | O7: =cal_CORE!G2*$C$7*$F$7 -> 27635.862 | P7: =cal_CORE!H2*$C$7*$F$7 -> 28234.48 | Q7: =cal_CORE!I2*$C$7*$F$7 -> 28763.497 | ... CH7: =cal_CORE!BZ2*$C$7*$F$7 -> 13660.722 | CI7: =cal_CORE!CD16*C7*F7 -> 13182.642 | CJ7: =cal_CORE!CE16*C7*F7 -> 12770.751 | CK7: =cal_CORE!CF16*C7*F7 -> 8227.8335 | CL7: =cal_CORE!CG16*$C$7*$F$7 -> 6338.9806 | CM7: =cal_CORE!CH16*$C$7*$F$7 -> 5684.5873 | CN7: =cal_CORE!CI16*$C$7*$F$7 -> 5235.721 | CO7: =cal_CORE!CJ16*$C$7*$F$7 -> 4895.8202 | CP7: =cal_CORE!CK16*$C$7*$F$7 -> 4625.9366 | CQ7: =cal_CORE!CL16*$C$7*$F$7 -> 4404.3434 | CR7: =cal_CORE!CM16*$C$7*$F$7 -> 4217.7989 | CS7: =cal_CORE!CN16*$C$7*$F$7 -> 4057.6932 | ... DK7: =cal_CORE!DF16*$C$7*$F$7 -> 70.53957 | DL7: =cal_CORE!DG2*$C$7*$F$7 -> 64.365181 | DM7: =cal_CORE!DH2*$C$7*$F$7 -> 59.204029 | DN7: =cal_CORE!DI2*$C$7*$F$7 -> 54.822489 | DO7: =cal_CORE!DJ2*$C$7*$F$7 -> 51.05545 | DP7: =cal_CORE!DK2*$C$7*$F$7 -> 47.781459 | DQ7: =cal_CORE!DL2*$C$7*$F$7 -> 44.909165 | DR7: =cal_CORE!DM2*$C$7*$F$7 -> 42.368528 | DS7: =cal_CORE!DN2*$C$7*$F$7 -> 40.104935 | ... GW7: =cal_CORE!GR2*$C$7*$F$7 -> 12.806575
A8: ='User input'!A8 -> 5 | B8: ='User input'!B8 -> 2024 | C8: ='User input'!C8 -> 4.35 | D8: =DH_CORE!D7+'User input'!C8 -> 17.4 | E8: ='User input'!F8 -> 151.448 | F8: ='User input'!F8/45 -> 3.3655111 | K8: =cal_CORE!B2*$C$8*$F$8 -> 129914.68 | L8: =cal_CORE!C2*$C$8*$F$8 -> 46041.89 | M8: =cal_CORE!D2*$C$8*$F$8 -> 25097.159 | N8: =cal_CORE!E2*$C$8*$F$8 -> 26121.207 | O8: =cal_CORE!F2*$C$8*$F$8 -> 26944.208 | P8: =cal_CORE!G2*$C$8*$F$8 -> 27635.862 | Q8: =cal_CORE!H2*$C$8*$F$8 -> 28234.48 | R8: =cal_CORE!I2*$C$8*$F$8 -> 28763.497 | ... CH8: =cal_CORE!BY2*$C$8*$F$8 -> 13712.921 | CI8: =cal_CORE!CD17*C8*F8 -> 13227.181 | CJ8: =cal_CORE!CE17*C8*F8 -> 12809.42 | CK8: =cal_CORE!CF17*C8*F8 -> 8254.4775 | CL8: =cal_CORE!CG17*$C$8*$F$8 -> 6352.5773 | CM8: =cal_CORE!CH17*$C$8*$F$8 -> 5689.839 | CN8: =cal_CORE!CI17*$C$8*$F$8 -> 5239.5835 | CO8: =cal_CORE!CJ17*$C$8*$F$8 -> 4898.8262 | CP8: =cal_CORE!CK17*$C$8*$F$8 -> 4628.369 | CQ8: =cal_CORE!CL17*$C$8*$F$8 -> 4406.3685 | CR8: =cal_CORE!CM17*$C$8*$F$8 -> 4219.5219 | CS8: =cal_CORE!CN17*$C$8*$F$8 -> 4059.1844 | ... DK8: =cal_CORE!DF17*$C$8*$F$8 -> 70.54065 | DL8: =cal_CORE!DG2*$C$8*$F$8 -> 64.365181 | DM8: =cal_CORE!DH2*$C$8*$F$8 -> 59.204029 | DN8: =cal_CORE!DI2*$C$8*$F$8 -> 54.822489 | DO8: =cal_CORE!DJ2*$C$8*$F$8 -> 51.05545 | DP8: =cal_CORE!DK2*$C$8*$F$8 -> 47.781459 | DQ8: =cal_CORE!DL2*$C$8*$F$8 -> 44.909165 | DR8: =cal_CORE!DM2*$C$8*$F$8 -> 42.368528 | DS8: =cal_CORE!DN2*$C$8*$F$8 -> 40.104935 | ... GW8: =cal_CORE!GR2*$C$8*$F$8 -> 12.806575
A9: ='User input'!A9 -> 6 | B9: ='User input'!B9 -> 2025 | C9: ='User input'!C9 -> 4.35 | D9: =DH_CORE!D8+'User input'!C9 -> 21.75 | E9: ='User input'!F9 -> 151.448 | F9: ='User input'!F9/45 -> 3.3655111 | L9: =cal_CORE!B2*$C$9*$F$9 -> 129914.68 | M9: =cal_CORE!C2*$C$9*$F$9 -> 46041.89 | N9: =cal_CORE!D2*$C$9*$F$9 -> 25097.159 | O9: =cal_CORE!E2*$C$9*$F$9 -> 26121.207 | P9: =cal_CORE!F2*$C$9*$F$9 -> 26944.208 | Q9: =cal_CORE!G2*$C$9*$F$9 -> 27635.862 | R9: =cal_CORE!H2*$C$9*$F$9 -> 28234.48 | S9: =cal_CORE!I2*$C$9*$F$9 -> 28763.497 | ... CH9: =cal_CORE!BX2*$C$9*$F$9 -> 13766.014 | CI9: =cal_CORE!CD18*C9*F9 -> 13272.394 | CJ9: =cal_CORE!CE18*C9*F9 -> 12848.613 | CK9: =cal_CORE!CF18*C9*F9 -> 8281.3447 | CL9: =cal_CORE!CG18*$C$9*$F$9 -> 6366.2493 | CM9: =cal_CORE!CH18*$C$9*$F$9 -> 5695.1088 | CN9: =cal_CORE!CI18*$C$9*$F$9 -> 5243.4565 | CO9: =cal_CORE!CJ18*$C$9*$F$9 -> 4901.8391 | CP9: =cal_CORE!CK18*$C$9*$F$9 -> 4630.8062 | CQ9: =cal_CORE!CL18*$C$9*$F$9 -> 4408.397 | CR9: =cal_CORE!CM18*$C$9*$F$9 -> 4221.2474 | CS9: =cal_CORE!CN18*$C$9*$F$9 -> 4060.6776 | ... DK9: =cal_CORE!DF18*$C$9*$F$9 -> 70.54173 | DL9: =cal_CORE!DG2*$C$9*$F$9 -> 64.365181 | DM9: =cal_CORE!DH2*$C$9*$F$9 -> 59.204029 | DN9: =cal_CORE!DI2*$C$9*$F$9 -> 54.822489 | DO9: =cal_CORE!DJ2*$C$9*$F$9 -> 51.05545 | DP9: =cal_CORE!DK2*$C$9*$F$9 -> 47.781459 | DQ9: =cal_CORE!DL2*$C$9*$F$9 -> 44.909165 | DR9: =cal_CORE!DM2*$C$9*$F$9 -> 42.368528 | DS9: =cal_CORE!DN2*$C$9*$F$9 -> 40.104935 | ... GW9: =cal_CORE!GR2*$C$9*$F$9 -> 12.806575
A10: ='User input'!A10 -> 7 | B10: ='User input'!B10 -> 2026 | C10: ='User input'!C10 -> 4.35 | D10: =DH_CORE!D9+'User input'!C10 -> 26.1 | E10: ='User input'!F10 -> 151.448 | F10: ='User input'!F10/45 -> 3.3655111 | M10: =cal_CORE!B2*$C$10*$F$10 -> 129914.68 | N10: =cal_CORE!C2*$C$10*$F$10 -> 46041.89 | O10: =cal_CORE!D2*$C$10*$F$10 -> 25097.159 | P10: =cal_CORE!E2*$C$10*$F$10 -> 26121.207 | Q10: =cal_CORE!F2*$C$10*$F$10 -> 26944.208 | R10: =cal_CORE!G2*$C$10*$F$10 -> 27635.862 | S10: =cal_CORE!H2*$C$10*$F$10 -> 28234.48 | T10: =cal_CORE!I2*$C$10*$F$10 -> 28763.497 | ... CH10: =cal_CORE!BW2*$C$10*$F$10 -> 13820.03 | CI10: =cal_CORE!CD19*C10*F10 -> 13318.299 | CJ10: =cal_CORE!CE19*C10*F10 -> 12888.343 | CK10: =cal_CORE!CF19*C10*F10 -> 8308.4381 | CL10: =cal_CORE!CG19*$C$10*$F$10 -> 6379.9973 | CM10: =cal_CORE!CH19*$C$10*$F$10 -> 5700.3969 | CN10: =cal_CORE!CI19*$C$10*$F$10 -> 5247.3403 | CO10: =cal_CORE!CJ19*$C$10*$F$10 -> 4904.8589 | CP10: =cal_CORE!CK19*$C$10*$F$10 -> 4633.2482 | CQ10: =cal_CORE!CL19*$C$10*$F$10 -> 4410.429 | CR10: =cal_CORE!CM19*$C$10*$F$10 -> 4222.9756 | CS10: =cal_CORE!CN19*$C$10*$F$10 -> 4062.1729 | ... DK10: =cal_CORE!DF19*$C$10*$F$10 -> 70.54281 | DL10: =cal_CORE!DG2*$C$10*$F$10 -> 64.365181 | DM10: =cal_CORE!DH2*$C$10*$F$10 -> 59.204029 | DN10: =cal_CORE!DI2*$C$10*$F$10 -> 54.822489 | DO10: =cal_CORE!DJ2*$C$10*$F$10 -> 51.05545 | DP10: =cal_CORE!DK2*$C$10*$F$10 -> 47.781459 | DQ10: =cal_CORE!DL2*$C$10*$F$10 -> 44.909165 | DR10: =cal_CORE!DM2*$C$10*$F$10 -> 42.368528 | DS10: =cal_CORE!DN2*$C$10*$F$10 -> 40.104935 | ... GW10: =cal_CORE!GR2*$C$10*$F$10 -> 12.806575
A11: ='User input'!A11 -> 8 | B11: ='User input'!B11 -> 2027 | C11: ='User input'!C11 -> 4.35 | D11: =DH_CORE!D10+'User input'!C11 -> 30.45 | E11: ='User input'!F11 -> 151.448 | F11: ='User input'!F11/45 -> 3.3655111 | N11: =cal_CORE!B2*$C$11*$F$11 -> 129914.68 | O11: =cal_CORE!C2*$C$11*$F$11 -> 46041.89 | P11: =cal_CORE!D2*$C$11*$F$11 -> 25097.159 | Q11: =cal_CORE!E2*$C$11*$F$11 -> 26121.207 | R11: =cal_CORE!F2*$C$11*$F$11 -> 26944.208 | S11: =cal_CORE!G2*$C$11*$F$11 -> 27635.862 | T11: =cal_CORE!H2*$C$11*$F$11 -> 28234.48 | U11: =cal_CORE!I2*$C$11*$F$11 -> 28763.497 | ... CH11: =cal_CORE!BV2*$C$11*$F$11 -> 13874.998 | CI11: =cal_CORE!CD20*C11*F11 -> 13364.915 | CJ11: =cal_CORE!CE20*C11*F11 -> 12928.622 | CK11: =cal_CORE!CF20*C11*F11 -> 8335.7609 | CL11: =cal_CORE!CG20*$C$11*$F$11 -> 6393.822 | CM11: =cal_CORE!CH20*$C$11*$F$11 -> 5705.7034 | CN11: =cal_CORE!CI20*$C$11*$F$11 -> 5251.2349 | CO11: =cal_CORE!CJ20*$C$11*$F$11 -> 4907.8857 | CP11: =cal_CORE!CK20*$C$11*$F$11 -> 4635.695 | CQ11: =cal_CORE!CL20*$C$11*$F$11 -> 4412.4646 | CR11: =cal_CORE!CM20*$C$11*$F$11 -> 4224.7065 | CS11: =cal_CORE!CN20*$C$11*$F$11 -> 4063.6702 | ... DK11: =cal_CORE!DF20*$C$11*$F$11 -> 70.543891 | DL11: =cal_CORE!DG2*$C$11*$F$11 -> 64.365181 | DM11: =cal_CORE!DH2*$C$11*$F$11 -> 59.204029 | DN11: =cal_CORE!DI2*$C$11*$F$11 -> 54.822489 | DO11: =cal_CORE!DJ2*$C$11*$F$11 -> 51.05545 | DP11: =cal_CORE!DK2*$C$11*$F$11 -> 47.781459 | DQ11: =cal_CORE!DL2*$C$11*$F$11 -> 44.909165 | DR11: =cal_CORE!DM2*$C$11*$F$11 -> 42.368528 | DS11: =cal_CORE!DN2*$C$11*$F$11 -> 40.104935 | ... GW11: =cal_CORE!GR2*$C$11*$F$11 -> 12.806575
A12: ='User input'!A12 -> 9 | B12: ='User input'!B12 -> 2028 | C12: ='User input'!C12 -> 4.35 | D12: =DH_CORE!D11+'User input'!C12 -> 34.8 | E12: ='User input'!F12 -> 151.448 | F12: ='User input'!F12/45 -> 3.3655111 | O12: =cal_CORE!B2*$C$12*$F$12 -> 129914.68 | P12: =cal_CORE!C2*$C$12*$F$12 -> 46041.89 | Q12: =cal_CORE!D2*$C$12*$F$12 -> 25097.159 | R12: =cal_CORE!E2*$C$12*$F$12 -> 26121.207 | S12: =cal_CORE!F2*$C$12*$F$12 -> 26944.208 | T12: =cal_CORE!G2*$C$12*$F$12 -> 27635.862 | U12: =cal_CORE!H2*$C$12*$F$12 -> 28234.48 | V12: =cal_CORE!I2*$C$12*$F$12 -> 28763.497 | ... CH12: =cal_CORE!BU2*$C$12*$F$12 -> 13930.946 | CI12: =cal_CORE!CD21*C12*F12 -> 13412.263 | CJ12: =cal_CORE!CE21*C12*F12 -> 12969.465 | CK12: =cal_CORE!CF21*C12*F12 -> 8363.3161 | CL12: =cal_CORE!CG21*$C$12*$F$12 -> 6407.724 | CM12: =cal_CORE!CH21*$C$12*$F$12 -> 5711.0283 | CN12: =cal_CORE!CI21*$C$12*$F$12 -> 5255.1402 | CO12: =cal_CORE!CJ21*$C$12*$F$12 -> 4910.9195 | CP12: =cal_CORE!CK21*$C$12*$F$12 -> 4638.1466 | CQ12: =cal_CORE!CL21*$C$12*$F$12 -> 4414.5036 | CR12: =cal_CORE!CM21*$C$12*$F$12 -> 4226.4399 | CS12: =cal_CORE!CN21*$C$12*$F$12 -> 4065.1695 | ... DK12: =cal_CORE!DF21*$C$12*$F$12 -> 70.544971 | DL12: =cal_CORE!DG2*$C$12*$F$12 -> 64.365181 | DM12: =cal_CORE!DH2*$C$12*$F$12 -> 59.204029 | DN12: =cal_CORE!DI2*$C$12*$F$12 -> 54.822489 | DO12: =cal_CORE!DJ2*$C$12*$F$12 -> 51.05545 | DP12: =cal_CORE!DK2*$C$12*$F$12 -> 47.781459 | DQ12: =cal_CORE!DL2*$C$12*$F$12 -> 44.909165 | DR12: =cal_CORE!DM2*$C$12*$F$12 -> 42.368528 | DS12: =cal_CORE!DN2*$C$12*$F$12 -> 40.104935 | ... GW12: =cal_CORE!GR2*$C$12*$F$12 -> 12.806575
A13: ='User input'!A13 -> 10 | B13: ='User input'!B13 -> 2029 | C13: ='User input'!C13 -> 4.35 | D13: =DH_CORE!D12+'User input'!C13 -> 39.15 | E13: ='User input'!F13 -> 151.448 | F13: ='User input'!F13/45 -> 3.3655111 | P13: =cal_CORE!B2*$C$13*$F$13 -> 129914.68 | Q13: =cal_CORE!C2*$C$13*$F$13 -> 46041.89 | R13: =cal_CORE!D2*$C$13*$F$13 -> 25097.159 | S13: =cal_CORE!E2*$C$13*$F$13 -> 26121.207 | T13: =cal_CORE!F2*$C$13*$F$13 -> 26944.208 | U13: =cal_CORE!G2*$C$13*$F$13 -> 27635.862 | V13: =cal_CORE!H2*$C$13*$F$13 -> 28234.48 | W13: =cal_CORE!I2*$C$13*$F$13 -> 28763.497 | ... CH13: =cal_CORE!BT2*$C$13*$F$13 -> 13987.908 | CI13: =cal_CORE!CD22*C13*F13 -> 13460.363 | CJ13: =cal_CORE!CE22*C13*F13 -> 13010.885 | CK13: =cal_CORE!CF22*C13*F13 -> 8391.1071 | CL13: =cal_CORE!CG22*$C$13*$F$13 -> 6421.7042 | CM13: =cal_CORE!CH22*$C$13*$F$13 -> 5716.3719 | CN13: =cal_CORE!CI22*$C$13*$F$13 -> 5259.0564 | CO13: =cal_CORE!CJ22*$C$13*$F$13 -> 4913.9603 | CP13: =cal_CORE!CK22*$C$13*$F$13 -> 4640.603 | CQ13: =cal_CORE!CL22*$C$13*$F$13 -> 4416.5462 | CR13: =cal_CORE!CM22*$C$13*$F$13 -> 4228.1761 | CS13: =cal_CORE!CN22*$C$13*$F$13 -> 4066.671 | ... DK13: =cal_CORE!DF22*$C$13*$F$13 -> 70.546051 | DL13: =cal_CORE!DG2*$C$13*$F$13 -> 64.365181 | DM13: =cal_CORE!DH2*$C$13*$F$13 -> 59.204029 | DN13: =cal_CORE!DI2*$C$13*$F$13 -> 54.822489 | DO13: =cal_CORE!DJ2*$C$13*$F$13 -> 51.05545 | DP13: =cal_CORE!DK2*$C$13*$F$13 -> 47.781459 | DQ13: =cal_CORE!DL2*$C$13*$F$13 -> 44.909165 | DR13: =cal_CORE!DM2*$C$13*$F$13 -> 42.368528 | DS13: =cal_CORE!DN2*$C$13*$F$13 -> 40.104935 | ... GW13: =cal_CORE!GR2*$C$13*$F$13 -> 12.806575
A14: ='User input'!A14 -> 11 | B14: ='User input'!B14 -> 2030 | C14: ='User input'!C14 -> 4.35 | D14: =DH_CORE!D13+'User input'!C14 -> 43.5 | E14: ='User input'!F14 -> 151.448 | F14: ='User input'!F14/45 -> 3.3655111 | Q14: =cal_CORE!B2*$C$14*$F$14 -> 129914.68 | R14: =cal_CORE!C2*$C$14*$F$14 -> 46041.89 | S14: =cal_CORE!D2*$C$14*$F$14 -> 25097.159 | T14: =cal_CORE!E2*$C$14*$F$14 -> 26121.207 | U14: =cal_CORE!F2*$C$14*$F$14 -> 26944.208 | V14: =cal_CORE!G2*$C$14*$F$14 -> 27635.862 | W14: =cal_CORE!H2*$C$14*$F$14 -> 28234.48 | X14: =cal_CORE!I2*$C$14*$F$14 -> 28763.497 | ... CH14: =cal_CORE!BS2*$C$14*$F$14 -> 14045.916 | CI14: =cal_CORE!CD23*C14*F14 -> 13509.236 | CJ14: =cal_CORE!CE23*C14*F14 -> 13052.897 | CK14: =cal_CORE!CF23*C14*F14 -> 8419.137 | CL14: =cal_CORE!CG23*$C$14*$F$14 -> 6435.7631 | CM14: =cal_CORE!CH23*$C$14*$F$14 -> 5721.7341 | CN14: =cal_CORE!CI23*$C$14*$F$14 -> 5262.9835 | CO14: =cal_CORE!CJ23*$C$14*$F$14 -> 4917.0081 | CP14: =cal_CORE!CK23*$C$14*$F$14 -> 4643.0644 | CQ14: =cal_CORE!CL23*$C$14*$F$14 -> 4418.5923 | CR14: =cal_CORE!CM23*$C$14*$F$14 -> 4229.9149 | CS14: =cal_CORE!CN23*$C$14*$F$14 -> 4068.1745 | ... DK14: =cal_CORE!DF23*$C$14*$F$14 -> 70.547131 | DL14: =cal_CORE!DG2*$C$14*$F$14 -> 64.365181 | DM14: =cal_CORE!DH2*$C$14*$F$14 -> 59.204029 | DN14: =cal_CORE!DI2*$C$14*$F$14 -> 54.822489 | DO14: =cal_CORE!DJ2*$C$14*$F$14 -> 51.05545 | DP14: =cal_CORE!DK2*$C$14*$F$14 -> 47.781459 | DQ14: =cal_CORE!DL2*$C$14*$F$14 -> 44.909165 | DR14: =cal_CORE!DM2*$C$14*$F$14 -> 42.368528 | DS14: =cal_CORE!DN2*$C$14*$F$14 -> 40.104935 | ... GW14: =cal_CORE!GR2*$C$14*$F$14 -> 12.806575
A15: ='User input'!A15 -> 12 | B15: ='User input'!B15 -> 2031 | C15: ='User input'!C15 -> 4.35 | D15: =DH_CORE!D14+'User input'!C15 -> 47.85 | E15: ='User input'!F15 -> 151.448 | F15: ='User input'!F15/45 -> 3.3655111 | R15: =cal_CORE!B2*$C$15*$F$15 -> 129914.68 | S15: =cal_CORE!C2*$C$15*$F$15 -> 46041.89 | T15: =cal_CORE!D2*$C$15*$F$15 -> 25097.159 | U15: =cal_CORE!E2*$C$15*$F$15 -> 26121.207 | V15: =cal_CORE!F2*$C$15*$F$15 -> 26944.208 | W15: =cal_CORE!G2*$C$15*$F$15 -> 27635.862 | X15: =cal_CORE!H2*$C$15*$F$15 -> 28234.48 | Y15: =cal_CORE!I2*$C$15*$F$15 -> 28763.497 | ... CH15: =cal_CORE!BR2*$C$15*$F$15 -> 14105.003 | CI15: =cal_CORE!CD24*C15*F15 -> 13558.904 | CJ15: =cal_CORE!CE24*C15*F15 -> 13095.517 | CK15: =cal_CORE!CF24*C15*F15 -> 8447.4092 | CL15: =cal_CORE!CG24*$C$15*$F$15 -> 6449.9015 | CM15: =cal_CORE!CH24*$C$15*$F$15 -> 5727.1152 | CN15: =cal_CORE!CI24*$C$15*$F$15 -> 5266.9216 | CO15: =cal_CORE!CJ24*$C$15*$F$15 -> 4920.063 | CP15: =cal_CORE!CK24*$C$15*$F$15 -> 4645.5306 | CQ15: =cal_CORE!CL24*$C$15*$F$15 -> 4420.6419 | CR15: =cal_CORE!CM24*$C$15*$F$15 -> 4231.6564 | CS15: =cal_CORE!CN24*$C$15*$F$15 -> 4069.6801 | ... DK15: =cal_CORE!DF24*$C$15*$F$15 -> 70.548212 | DL15: =cal_CORE!DG2*$C$15*$F$15 -> 64.365181 | DM15: =cal_CORE!DH2*$C$15*$F$15 -> 59.204029 | DN15: =cal_CORE!DI2*$C$15*$F$15 -> 54.822489 | DO15: =cal_CORE!DJ2*$C$15*$F$15 -> 51.05545 | DP15: =cal_CORE!DK2*$C$15*$F$15 -> 47.781459 | DQ15: =cal_CORE!DL2*$C$15*$F$15 -> 44.909165 | DR15: =cal_CORE!DM2*$C$15*$F$15 -> 42.368528 | DS15: =cal_CORE!DN2*$C$15*$F$15 -> 40.104935 | ... GW15: =cal_CORE!GR2*$C$15*$F$15 -> 12.806575
A16: ='User input'!A16 -> 13 | B16: ='User input'!B16 -> 2032 | C16: ='User input'!C16 -> 4.35 | D16: =DH_CORE!D15+'User input'!C16 -> 52.2 | E16: ='User input'!F16 -> 151.448 | F16: ='User input'!F16/45 -> 3.3655111 | S16: =cal_CORE!B2*$C$16*$F$16 -> 129914.68 | T16: =cal_CORE!C2*$C$16*$F$16 -> 46041.89 | U16: =cal_CORE!D2*$C$16*$F$16 -> 25097.159 | V16: =cal_CORE!E2*$C$16*$F$16 -> 26121.207 | W16: =cal_CORE!F2*$C$16*$F$16 -> 26944.208 | X16: =cal_CORE!G2*$C$16*$F$16 -> 27635.862 | Y16: =cal_CORE!H2*$C$16*$F$16 -> 28234.48 | Z16: =cal_CORE!I2*$C$16*$F$16 -> 28763.497 | ... CH16: =cal_CORE!BQ2*$C$16*$F$16 -> 14165.208 | CI16: =cal_CORE!CD25*C16*F16 -> 13609.391 | CJ16: =cal_CORE!CE25*C16*F16 -> 13138.76 | CK16: =cal_CORE!CF25*C16*F16 -> 8475.9271 | CL16: =cal_CORE!CG25*$C$16*$F$16 -> 6464.1202 | CM16: =cal_CORE!CH25*$C$16*$F$16 -> 5732.5152 | CN16: =cal_CORE!CI25*$C$16*$F$16 -> 5270.8707 | CO16: =cal_CORE!CJ25*$C$16*$F$16 -> 4923.125 | CP16: =cal_CORE!CK25*$C$16*$F$16 -> 4648.0017 | CQ16: =cal_CORE!CL25*$C$16*$F$16 -> 4422.6951 | CR16: =cal_CORE!CM25*$C$16*$F$16 -> 4233.4005 | CS16: =cal_CORE!CN25*$C$16*$F$16 -> 4071.1878 | ... DK16: =cal_CORE!DF25*$C$16*$F$16 -> 70.549292 | DL16: =cal_CORE!DG2*$C$16*$F$16 -> 64.365181 | DM16: =cal_CORE!DH2*$C$16*$F$16 -> 59.204029 | DN16: =cal_CORE!DI2*$C$16*$F$16 -> 54.822489 | DO16: =cal_CORE!DJ2*$C$16*$F$16 -> 51.05545 | DP16: =cal_CORE!DK2*$C$16*$F$16 -> 47.781459 | DQ16: =cal_CORE!DL2*$C$16*$F$16 -> 44.909165 | DR16: =cal_CORE!DM2*$C$16*$F$16 -> 42.368528 | DS16: =cal_CORE!DN2*$C$16*$F$16 -> 40.104935 | ... GW16: =cal_CORE!GR2*$C$16*$F$16 -> 12.806575
A17: ='User input'!A17 -> 14 | B17: ='User input'!B17 -> 2033 | C17: ='User input'!C17 -> 4.35 | D17: =DH_CORE!D16+'User input'!C17 -> 56.55 | E17: ='User input'!F17 -> 151.448 | F17: ='User input'!F17/45 -> 3.3655111 | T17: =cal_CORE!B2*$C$17*$F$17 -> 129914.68 | U17: =cal_CORE!C2*$C$17*$F$17 -> 46041.89 | V17: =cal_CORE!D2*$C$17*$F$17 -> 25097.159 | W17: =cal_CORE!E2*$C$17*$F$17 -> 26121.207 | X17: =cal_CORE!F2*$C$17*$F$17 -> 26944.208 | Y17: =cal_CORE!G2*$C$17*$F$17 -> 27635.862 | Z17: =cal_CORE!H2*$C$17*$F$17 -> 28234.48 | AA17: =cal_CORE!I2*$C$17*$F$17 -> 28763.497 | ... CH17: =cal_CORE!BP2*$C$17*$F$17 -> 14226.567 | CI17: =cal_CORE!CD26*C17*F17 -> 13660.722 | CJ17: =cal_CORE!CE26*C17*F17 -> 13182.642 | CK17: =cal_CORE!CF26*C17*F17 -> 8504.6942 | CL17: =cal_CORE!CG26*$C$17*$F$17 -> 6478.4198 | CM17: =cal_CORE!CH26*$C$17*$F$17 -> 5737.9342 | CN17: =cal_CORE!CI26*$C$17*$F$17 -> 5274.8309 | CO17: =cal_CORE!CJ26*$C$17*$F$17 -> 4926.1941 | CP17: =cal_CORE!CK26*$C$17*$F$17 -> 4650.4777 | CQ17: =cal_CORE!CL26*$C$17*$F$17 -> 4424.7518 | CR17: =cal_CORE!CM26*$C$17*$F$17 -> 4235.1474 | CS17: =cal_CORE!CN26*$C$17*$F$17 -> 4072.6975 | ... DK17: =cal_CORE!DF26*$C$17*$F$17 -> 70.550373 | DL17: =cal_CORE!DG2*$C$17*$F$17 -> 64.365181 | DM17: =cal_CORE!DH2*$C$17*$F$17 -> 59.204029 | DN17: =cal_CORE!DI2*$C$17*$F$17 -> 54.822489 | DO17: =cal_CORE!DJ2*$C$17*$F$17 -> 51.05545 | DP17: =cal_CORE!DK2*$C$17*$F$17 -> 47.781459 | DQ17: =cal_CORE!DL2*$C$17*$F$17 -> 44.909165 | DR17: =cal_CORE!DM2*$C$17*$F$17 -> 42.368528 | DS17: =cal_CORE!DN2*$C$17*$F$17 -> 40.104935 | ... GW17: =cal_CORE!GR2*$C$17*$F$17 -> 12.806575
A18: ='User input'!A18 -> 15 | B18: ='User input'!B18 -> 2034 | C18: ='User input'!C18 -> 4.35 | D18: =DH_CORE!D17+'User input'!C18 -> 60.9 | E18: ='User input'!F18 -> 151.448 | F18: ='User input'!F18/45 -> 3.3655111 | U18: =cal_CORE!B2*$C$18*$F$18 -> 129914.68 | V18: =cal_CORE!C2*$C$18*$F$18 -> 46041.89 | W18: =cal_CORE!D2*$C$18*$F$18 -> 25097.159 | X18: =cal_CORE!E2*$C$18*$F$18 -> 26121.207 | Y18: =cal_CORE!F2*$C$18*$F$18 -> 26944.208 | Z18: =cal_CORE!G2*$C$18*$F$18 -> 27635.862 | AA18: =cal_CORE!H2*$C$18*$F$18 -> 28234.48 | AB18: =cal_CORE!I2*$C$18*$F$18 -> 28763.497 | ... CH18: =cal_CORE!BO2*$C$18*$F$18 -> 14289.121 | CI18: =cal_CORE!CD27*C18*F18 -> 13712.921 | CJ18: =cal_CORE!CE27*C18*F18 -> 13227.181 | CK18: =cal_CORE!CF27*C18*F18 -> 8533.7139 | CL18: =cal_CORE!CG27*$C$18*$F$18 -> 6492.8011 | CM18: =cal_CORE!CH27*$C$18*$F$18 -> 5743.3724 | CN18: =cal_CORE!CI27*$C$18*$F$18 -> 5278.8022 | CO18: =cal_CORE!CJ27*$C$18*$F$18 -> 4929.2703 | CP18: =cal_CORE!CK27*$C$18*$F$18 -> 4652.9586 | CQ18: =cal_CORE!CL27*$C$18*$F$18 -> 4426.8121 | CR18: =cal_CORE!CM27*$C$18*$F$18 -> 4236.8969 | CS18: =cal_CORE!CN27*$C$18*$F$18 -> 4074.2094 | ... DK18: =cal_CORE!DF27*$C$18*$F$18 -> 70.551453 | DL18: =cal_CORE!DG2*$C$18*$F$18 -> 64.365181 | DM18: =cal_CORE!DH2*$C$18*$F$18 -> 59.204029 | DN18: =cal_CORE!DI2*$C$18*$F$18 -> 54.822489 | DO18: =cal_CORE!DJ2*$C$18*$F$18 -> 51.05545 | DP18: =cal_CORE!DK2*$C$18*$F$18 -> 47.781459 | DQ18: =cal_CORE!DL2*$C$18*$F$18 -> 44.909165 | DR18: =cal_CORE!DM2*$C$18*$F$18 -> 42.368528 | DS18: =cal_CORE!DN2*$C$18*$F$18 -> 40.104935 | ... GW18: =cal_CORE!GR2*$C$18*$F$18 -> 12.806575
A19: ='User input'!A19 -> 16 | B19: ='User input'!B19 -> 2035 | C19: ='User input'!C19 -> 4.35 | D19: =DH_CORE!D18+'User input'!C19 -> 65.25 | E19: ='User input'!F19 -> 151.448 | F19: ='User input'!F19/45 -> 3.3655111 | V19: =cal_CORE!B2*$C$19*$F$19 -> 129914.68 | W19: =cal_CORE!C2*$C$19*$F$19 -> 46041.89 | X19: =cal_CORE!D2*$C$19*$F$19 -> 25097.159 | Y19: =cal_CORE!E2*$C$19*$F$19 -> 26121.207 | Z19: =cal_CORE!F2*$C$19*$F$19 -> 26944.208 | AA19: =cal_CORE!G2*$C$19*$F$19 -> 27635.862 | AB19: =cal_CORE!H2*$C$19*$F$19 -> 28234.48 | AC19: =cal_CORE!I2*$C$19*$F$19 -> 28763.497 | ... CH19: =cal_CORE!BN2*$C$19*$F$19 -> 14352.911 | CI19: =cal_CORE!CD28*C19*F19 -> 13766.014 | CJ19: =cal_CORE!CE28*C19*F19 -> 13272.394 | CK19: =cal_CORE!CF28*C19*F19 -> 8562.9899 | CL19: =cal_CORE!CG28*$C$19*$F$19 -> 6507.2649 | CM19: =cal_CORE!CH28*$C$19*$F$19 -> 5748.8299 | CN19: =cal_CORE!CI28*$C$19*$F$19 -> 5282.7847 | CO19: =cal_CORE!CJ28*$C$19*$F$19 -> 4932.3538 | CP19: =cal_CORE!CK28*$C$19*$F$19 -> 4655.4445 | CQ19: =cal_CORE!CL28*$C$19*$F$19 -> 4428.876 | CR19: =cal_CORE!CM28*$C$19*$F$19 -> 4238.6491 | CS19: =cal_CORE!CN28*$C$19*$F$19 -> 4075.7233 | ... DK19: =cal_CORE!DF28*$C$19*$F$19 -> 70.552533 | DL19: =cal_CORE!DG2*$C$19*$F$19 -> 64.365181 | DM19: =cal_CORE!DH2*$C$19*$F$19 -> 59.204029 | DN19: =cal_CORE!DI2*$C$19*$F$19 -> 54.822489 | DO19: =cal_CORE!DJ2*$C$19*$F$19 -> 51.05545 | DP19: =cal_CORE!DK2*$C$19*$F$19 -> 47.781459 | DQ19: =cal_CORE!DL2*$C$19*$F$19 -> 44.909165 | DR19: =cal_CORE!DM2*$C$19*$F$19 -> 42.368528 | DS19: =cal_CORE!DN2*$C$19*$F$19 -> 40.104935 | ... GW19: =cal_CORE!GR2*$C$19*$F$19 -> 12.806575
A20: ='User input'!A20 -> 17 | B20: ='User input'!B20 -> 2036 | C20: ='User input'!C20 -> 4.35 | D20: =DH_CORE!D19+'User input'!C20 -> 69.6 | E20: ='User input'!F20 -> 151.448 | F20: ='User input'!F20/45 -> 3.3655111 | W20: =cal_CORE!B2*$C$20*$F$20 -> 129914.68 | X20: =cal_CORE!C2*$C$20*$F$20 -> 46041.89 | Y20: =cal_CORE!D2*$C$20*$F$20 -> 25097.159 | Z20: =cal_CORE!E2*$C$20*$F$20 -> 26121.207 | AA20: =cal_CORE!F2*$C$20*$F$20 -> 26944.208 | AB20: =cal_CORE!G2*$C$20*$F$20 -> 27635.862 | AC20: =cal_CORE!H2*$C$20*$F$20 -> 28234.48 | AD20: =cal_CORE!I2*$C$20*$F$20 -> 28763.497 | ... CH20: =cal_CORE!BM2*$C$20*$F$20 -> 14417.982 | CI20: =cal_CORE!CD29*C20*F20 -> 13820.03 | CJ20: =cal_CORE!CE29*C20*F20 -> 13318.299 | CK20: =cal_CORE!CF29*C20*F20 -> 8592.5258 | CL20: =cal_CORE!CG29*$C$20*$F$20 -> 6521.8119 | CM20: =cal_CORE!CH29*$C$20*$F$20 -> 5754.3068 | CN20: =cal_CORE!CI29*$C$20*$F$20 -> 5286.7784 | CO20: =cal_CORE!CJ29*$C$20*$F$20 -> 4935.4444 | CP20: =cal_CORE!CK29*$C$20*$F$20 -> 4657.9354 | CQ20: =cal_CORE!CL29*$C$20*$F$20 -> 4430.9435 | CR20: =cal_CORE!CM29*$C$20*$F$20 -> 4240.4041 | CS20: =cal_CORE!CN29*$C$20*$F$20 -> 4077.2394 | ... DK20: =cal_CORE!DF29*$C$20*$F$20 -> 70.553614 | DL20: =cal_CORE!DG2*$C$20*$F$20 -> 64.365181 | DM20: =cal_CORE!DH2*$C$20*$F$20 -> 59.204029 | DN20: =cal_CORE!DI2*$C$20*$F$20 -> 54.822489 | DO20: =cal_CORE!DJ2*$C$20*$F$20 -> 51.05545 | DP20: =cal_CORE!DK2*$C$20*$F$20 -> 47.781459 | DQ20: =cal_CORE!DL2*$C$20*$F$20 -> 44.909165 | DR20: =cal_CORE!DM2*$C$20*$F$20 -> 42.368528 | DS20: =cal_CORE!DN2*$C$20*$F$20 -> 40.104935 | ... GW20: =cal_CORE!GR2*$C$20*$F$20 -> 12.806575
A21: ='User input'!A21 -> 18 | B21: ='User input'!B21 -> 2037 | C21: ='User input'!C21 -> 4.35 | D21: =DH_CORE!D20+'User input'!C21 -> 73.95 | E21: ='User input'!F21 -> 151.448 | F21: ='User input'!F21/45 -> 3.3655111 | X21: =cal_CORE!B2*$C$21*$F$21 -> 129914.68 | Y21: =cal_CORE!C2*$C$21*$F$21 -> 46041.89 | Z21: =cal_CORE!D2*$C$21*$F$21 -> 25097.159 | AA21: =cal_CORE!E2*$C$21*$F$21 -> 26121.207 | AB21: =cal_CORE!F2*$C$21*$F$21 -> 26944.208 | AC21: =cal_CORE!G2*$C$21*$F$21 -> 27635.862 | AD21: =cal_CORE!H2*$C$21*$F$21 -> 28234.48 | AE21: =cal_CORE!I2*$C$21*$F$21 -> 28763.497 | ... CH21: =cal_CORE!BL2*$C$21*$F$21 -> 14484.38 | CI21: =cal_CORE!CD30*C21*F21 -> 13874.998 | CJ21: =cal_CORE!CE30*C21*F21 -> 13364.915 | CK21: =cal_CORE!CF30*C21*F21 -> 8622.3254 | CL21: =cal_CORE!CG30*$C$21*$F$21 -> 6536.4429 | CM21: =cal_CORE!CH30*$C$21*$F$21 -> 5759.8032 | CN21: =cal_CORE!CI30*$C$21*$F$21 -> 5290.7834 | CO21: =cal_CORE!CJ30*$C$21*$F$21 -> 4938.5423 | CP21: =cal_CORE!CK30*$C$21*$F$21 -> 4660.4312 | CQ21: =cal_CORE!CL30*$C$21*$F$21 -> 4433.0146 | CR21: =cal_CORE!CM30*$C$21*$F$21 -> 4242.1617 | CS21: =cal_CORE!CN30*$C$21*$F$21 -> 4078.7575 | ... DK21: =cal_CORE!DF30*$C$21*$F$21 -> 70.554694 | DL21: =cal_CORE!DG2*$C$21*$F$21 -> 64.365181 | DM21: =cal_CORE!DH2*$C$21*$F$21 -> 59.204029 | DN21: =cal_CORE!DI2*$C$21*$F$21 -> 54.822489 | DO21: =cal_CORE!DJ2*$C$21*$F$21 -> 51.05545 | DP21: =cal_CORE!DK2*$C$21*$F$21 -> 47.781459 | DQ21: =cal_CORE!DL2*$C$21*$F$21 -> 44.909165 | DR21: =cal_CORE!DM2*$C$21*$F$21 -> 42.368528 | DS21: =cal_CORE!DN2*$C$21*$F$21 -> 40.104935 | ... GW21: =cal_CORE!GR2*$C$21*$F$21 -> 12.806575
A22: ='User input'!A22 -> 19 | B22: ='User input'!B22 -> 2038 | C22: ='User input'!C22 -> 4.35 | D22: =DH_CORE!D21+'User input'!C22 -> 78.3 | E22: ='User input'!F22 -> 151.448 | F22: ='User input'!F22/45 -> 3.3655111 | Y22: =cal_CORE!B2*$C$22*$F$22 -> 129914.68 | Z22: =cal_CORE!C2*$C$22*$F$22 -> 46041.89 | AA22: =cal_CORE!D2*$C$22*$F$22 -> 25097.159 | AB22: =cal_CORE!E2*$C$22*$F$22 -> 26121.207 | AC22: =cal_CORE!F2*$C$22*$F$22 -> 26944.208 | AD22: =cal_CORE!G2*$C$22*$F$22 -> 27635.862 | AE22: =cal_CORE!H2*$C$22*$F$22 -> 28234.48 | AF22: =cal_CORE!I2*$C$22*$F$22 -> 28763.497 | ... CH22: =cal_CORE!BK2*$C$22*$F$22 -> 14552.153 | CI22: =cal_CORE!CD31*C22*F22 -> 13930.946 | CJ22: =cal_CORE!CE31*C22*F22 -> 13412.263 | CK22: =cal_CORE!CF31*C22*F22 -> 8652.3924 | CL22: =cal_CORE!CG31*$C$22*$F$22 -> 6551.1587 | CM22: =cal_CORE!CH31*$C$22*$F$22 -> 5765.3192 | CN22: =cal_CORE!CI31*$C$22*$F$22 -> 5294.7997 | CO22: =cal_CORE!CJ31*$C$22*$F$22 -> 4941.6474 | CP22: =cal_CORE!CK31*$C$22*$F$22 -> 4662.932 | CQ22: =cal_CORE!CL31*$C$22*$F$22 -> 4435.0894 | CR22: =cal_CORE!CM31*$C$22*$F$22 -> 4243.9221 | CS22: =cal_CORE!CN31*$C$22*$F$22 -> 4080.2778 | ... DK22: =cal_CORE!DF31*$C$22*$F$22 -> 70.555775 | DL22: =cal_CORE!DG2*$C$22*$F$22 -> 64.365181 | DM22: =cal_CORE!DH2*$C$22*$F$22 -> 59.204029 | DN22: =cal_CORE!DI2*$C$22*$F$22 -> 54.822489 | DO22: =cal_CORE!DJ2*$C$22*$F$22 -> 51.05545 | DP22: =cal_CORE!DK2*$C$22*$F$22 -> 47.781459 | DQ22: =cal_CORE!DL2*$C$22*$F$22 -> 44.909165 | DR22: =cal_CORE!DM2*$C$22*$F$22 -> 42.368528 | DS22: =cal_CORE!DN2*$C$22*$F$22 -> 40.104935 | ... GW22: =cal_CORE!GR2*$C$22*$F$22 -> 12.806575
A23: ='User input'!A23 -> 20 | B23: ='User input'!B23 -> 2039 | C23: ='User input'!C23 -> 4.35 | D23: =DH_CORE!D22+'User input'!C23 -> 82.65 | E23: ='User input'!F23 -> 151.448 | F23: ='User input'!F23/45 -> 3.3655111 | Z23: =cal_CORE!B2*$C$23*$F$23 -> 129914.68 | AA23: =cal_CORE!C2*$C$23*$F$23 -> 46041.89 | AB23: =cal_CORE!D2*$C$23*$F$23 -> 25097.159 | AC23: =cal_CORE!E2*$C$23*$F$23 -> 26121.207 | AD23: =cal_CORE!F2*$C$23*$F$23 -> 26944.208 | AE23: =cal_CORE!G2*$C$23*$F$23 -> 27635.862 | AF23: =cal_CORE!H2*$C$23*$F$23 -> 28234.48 | AG23: =cal_CORE!I2*$C$23*$F$23 -> 28763.497 | ... CH23: =cal_CORE!BJ2*$C$23*$F$23 -> 14621.353 | CI23: =cal_CORE!CD32*C23*F23 -> 13987.908 | CJ23: =cal_CORE!CE32*C23*F23 -> 13460.363 | CK23: =cal_CORE!CF32*C23*F23 -> 8682.7309 | CL23: =cal_CORE!CG32*$C$23*$F$23 -> 6565.9601 | CM23: =cal_CORE!CH32*$C$23*$F$23 -> 5770.855 | CN23: =cal_CORE!CI32*$C$23*$F$23 -> 5298.8275 | CO23: =cal_CORE!CJ32*$C$23*$F$23 -> 4944.7599 | CP23: =cal_CORE!CK32*$C$23*$F$23 -> 4665.4378 | CQ23: =cal_CORE!CL32*$C$23*$F$23 -> 4437.1677 | CR23: =cal_CORE!CM32*$C$23*$F$23 -> 4245.6852 | CS23: =cal_CORE!CN32*$C$23*$F$23 -> 4081.8002 | ... DK23: =cal_CORE!DF32*$C$23*$F$23 -> 70.556856 | DL23: =cal_CORE!DG2*$C$23*$F$23 -> 64.365181 | DM23: =cal_CORE!DH2*$C$23*$F$23 -> 59.204029 | DN23: =cal_CORE!DI2*$C$23*$F$23 -> 54.822489 | DO23: =cal_CORE!DJ2*$C$23*$F$23 -> 51.05545 | DP23: =cal_CORE!DK2*$C$23*$F$23 -> 47.781459 | DQ23: =cal_CORE!DL2*$C$23*$F$23 -> 44.909165 | DR23: =cal_CORE!DM2*$C$23*$F$23 -> 42.368528 | DS23: =cal_CORE!DN2*$C$23*$F$23 -> 40.104935 | ... GW23: =cal_CORE!GR2*$C$23*$F$23 -> 12.806575
A24: ='User input'!A24 -> 21 | B24: ='User input'!B24 -> 2040 | C24: ='User input'!C24 -> 4.35 | D24: =DH_CORE!D23+'User input'!C24 -> 87 | E24: ='User input'!F24 -> 151.448 | F24: ='User input'!F24/45 -> 3.3655111 | AA24: =cal_CORE!B2*$C$24*$F$24 -> 129914.68 | AB24: =cal_CORE!C2*$C$24*$F$24 -> 46041.89 | AC24: =cal_CORE!D2*$C$24*$F$24 -> 25097.159 | AD24: =cal_CORE!E2*$C$24*$F$24 -> 26121.207 | AE24: =cal_CORE!F2*$C$24*$F$24 -> 26944.208 | AF24: =cal_CORE!G2*$C$24*$F$24 -> 27635.862 | AG24: =cal_CORE!H2*$C$24*$F$24 -> 28234.48 | AH24: =cal_CORE!I2*$C$24*$F$24 -> 28763.497 | ... CH24: =cal_CORE!BI2*$C$24*$F$24 -> 14692.034 | CI24: =cal_CORE!CD33*C24*F24 -> 14045.916 | CJ24: =cal_CORE!CE33*C24*F24 -> 13509.236 | CK24: =cal_CORE!CF33*C24*F24 -> 8713.3447 | CL24: =cal_CORE!CG33*$C$24*$F$24 -> 6580.8479 | CM24: =cal_CORE!CH33*$C$24*$F$24 -> 5776.4107 | CN24: =cal_CORE!CI33*$C$24*$F$24 -> 5302.8667 | CO24: =cal_CORE!CJ33*$C$24*$F$24 -> 4947.8797 | CP24: =cal_CORE!CK33*$C$24*$F$24 -> 4667.9487 | CQ24: =cal_CORE!CL33*$C$24*$F$24 -> 4439.2497 | CR24: =cal_CORE!CM33*$C$24*$F$24 -> 4247.4511 | CS24: =cal_CORE!CN33*$C$24*$F$24 -> 4083.3247 | ... DK24: =cal_CORE!DF33*$C$24*$F$24 -> 70.557936 | DL24: =cal_CORE!DG2*$C$24*$F$24 -> 64.365181 | DM24: =cal_CORE!DH2*$C$24*$F$24 -> 59.204029 | DN24: =cal_CORE!DI2*$C$24*$F$24 -> 54.822489 | DO24: =cal_CORE!DJ2*$C$24*$F$24 -> 51.05545 | DP24: =cal_CORE!DK2*$C$24*$F$24 -> 47.781459 | DQ24: =cal_CORE!DL2*$C$24*$F$24 -> 44.909165 | DR24: =cal_CORE!DM2*$C$24*$F$24 -> 42.368528 | DS24: =cal_CORE!DN2*$C$24*$F$24 -> 40.104935 | ... GW24: =cal_CORE!GR2*$C$24*$F$24 -> 12.806575
A25: ='User input'!A25 -> 22 | B25: ='User input'!B25 -> 2041 | C25: ='User input'!C25 -> 4.35 | D25: =DH_CORE!D24+'User input'!C25 -> 91.35 | E25: ='User input'!F25 -> 151.448 | F25: ='User input'!F25/45 -> 3.3655111 | AB25: =cal_CORE!B2*$C$25*$F$25 -> 129914.68 | AC25: =cal_CORE!C2*$C$25*$F$25 -> 46041.89 | AD25: =cal_CORE!D2*$C$25*$F$25 -> 25097.159 | AE25: =cal_CORE!E2*$C$25*$F$25 -> 26121.207 | AF25: =cal_CORE!F2*$C$25*$F$25 -> 26944.208 | AG25: =cal_CORE!G2*$C$25*$F$25 -> 27635.862 | AH25: =cal_CORE!H2*$C$25*$F$25 -> 28234.48 | AI25: =cal_CORE!I2*$C$25*$F$25 -> 28763.497 | ... CH25: =cal_CORE!BH2*$C$25*$F$25 -> 14764.253 | CI25: =cal_CORE!CD34*C25*F25 -> 14105.003 | CJ25: =cal_CORE!CE34*C25*F25 -> 13558.904 | CK25: =cal_CORE!CF34*C25*F25 -> 8744.2378 | CL25: =cal_CORE!CG34*$C$25*$F$25 -> 6595.8229 | CM25: =cal_CORE!CH34*$C$25*$F$25 -> 5781.9864 | CN25: =cal_CORE!CI34*$C$25*$F$25 -> 5306.9174 | CO25: =cal_CORE!CJ34*$C$25*$F$25 -> 4951.0068 | CP25: =cal_CORE!CK34*$C$25*$F$25 -> 4670.4646 | CQ25: =cal_CORE!CL34*$C$25*$F$25 -> 4441.3353 | CR25: =cal_CORE!CM34*$C$25*$F$25 -> 4249.2197 | CS25: =cal_CORE!CN34*$C$25*$F$25 -> 4084.8513 | ... DK25: =cal_CORE!DF34*$C$25*$F$25 -> 70.559017 | DL25: =cal_CORE!DG2*$C$25*$F$25 -> 64.365181 | DM25: =cal_CORE!DH2*$C$25*$F$25 -> 59.204029 | DN25: =cal_CORE!DI2*$C$25*$F$25 -> 54.822489 | DO25: =cal_CORE!DJ2*$C$25*$F$25 -> 51.05545 | DP25: =cal_CORE!DK2*$C$25*$F$25 -> 47.781459 | DQ25: =cal_CORE!DL2*$C$25*$F$25 -> 44.909165 | DR25: =cal_CORE!DM2*$C$25*$F$25 -> 42.368528 | DS25: =cal_CORE!DN2*$C$25*$F$25 -> 40.104935 | ... GW25: =cal_CORE!GR2*$C$25*$F$25 -> 12.806575
A26: ='User input'!A26 -> 23 | B26: ='User input'!B26 -> 2042 | C26: ='User input'!C26 -> 4.35 | D26: =DH_CORE!D25+'User input'!C26 -> 95.7 | E26: ='User input'!F26 -> 151.448 | F26: ='User input'!F26/45 -> 3.3655111 | AC26: =cal_CORE!B2*$C$26*$F$26 -> 129914.68 | AD26: =cal_CORE!C2*$C$26*$F$26 -> 46041.89 | AE26: =cal_CORE!D2*$C$26*$F$26 -> 25097.159 | AF26: =cal_CORE!E2*$C$26*$F$26 -> 26121.207 | AG26: =cal_CORE!F2*$C$26*$F$26 -> 26944.208 | AH26: =cal_CORE!G2*$C$26*$F$26 -> 27635.862 | AI26: =cal_CORE!H2*$C$26*$F$26 -> 28234.48 | AJ26: =cal_CORE!I2*$C$26*$F$26 -> 28763.497 | ... CH26: =cal_CORE!BG2*$C$26*$F$26 -> 14838.072 | CI26: =cal_CORE!CD35*C26*F26 -> 14165.208 | CJ26: =cal_CORE!CE35*C26*F26 -> 13609.391 | CK26: =cal_CORE!CF35*C26*F26 -> 8775.4145 | CL26: =cal_CORE!CG35*$C$26*$F$26 -> 6610.8859 | CM26: =cal_CORE!CH35*$C$26*$F$26 -> 5787.5822 | CN26: =cal_CORE!CI35*$C$26*$F$26 -> 5310.9797 | CO26: =cal_CORE!CJ35*$C$26*$F$26 -> 4954.1413 | CP26: =cal_CORE!CK35*$C$26*$F$26 -> 4672.9856 | CQ26: =cal_CORE!CL35*$C$26*$F$26 -> 4443.4246 | CR26: =cal_CORE!CM35*$C$26*$F$26 -> 4250.991 | CS26: =cal_CORE!CN35*$C$26*$F$26 -> 4086.3801 | ... DK26: =cal_CORE!DF35*$C$26*$F$26 -> 70.560097 | DL26: =cal_CORE!DG2*$C$26*$F$26 -> 64.365181 | DM26: =cal_CORE!DH2*$C$26*$F$26 -> 59.204029 | DN26: =cal_CORE!DI2*$C$26*$F$26 -> 54.822489 | DO26: =cal_CORE!DJ2*$C$26*$F$26 -> 51.05545 | DP26: =cal_CORE!DK2*$C$26*$F$26 -> 47.781459 | DQ26: =cal_CORE!DL2*$C$26*$F$26 -> 44.909165 | DR26: =cal_CORE!DM2*$C$26*$F$26 -> 42.368528 | DS26: =cal_CORE!DN2*$C$26*$F$26 -> 40.104935 | ... GW26: =cal_CORE!GR2*$C$26*$F$26 -> 12.806575
A27: ='User input'!A27 -> 24 | B27: ='User input'!B27 -> 2043 | C27: ='User input'!C27 -> 4.35 | D27: =DH_CORE!D26+'User input'!C27 -> 100.05 | E27: ='User input'!F27 -> 151.448 | F27: ='User input'!F27/45 -> 3.3655111 | AD27: =cal_CORE!B2*$C$27*$F$27 -> 129914.68 | AE27: =cal_CORE!C2*$C$27*$F$27 -> 46041.89 | AF27: =cal_CORE!D2*$C$27*$F$27 -> 25097.159 | AG27: =cal_CORE!E2*$C$27*$F$27 -> 26121.207 | AH27: =cal_CORE!F2*$C$27*$F$27 -> 26944.208 | AI27: =cal_CORE!G2*$C$27*$F$27 -> 27635.862 | AJ27: =cal_CORE!H2*$C$27*$F$27 -> 28234.48 | AK27: =cal_CORE!I2*$C$27*$F$27 -> 28763.497 | ... CH27: =cal_CORE!BF2*$C$27*$F$27 -> 14913.552 | CI27: =cal_CORE!CD36*C27*F27 -> 14226.567 | CJ27: =cal_CORE!CE36*C27*F27 -> 13660.722 | CK27: =cal_CORE!CF36*C27*F27 -> 8806.879 | CL27: =cal_CORE!CG36*$C$27*$F$27 -> 6626.0378 | CM27: =cal_CORE!CH36*$C$27*$F$27 -> 5793.1983 | CN27: =cal_CORE!CI36*$C$27*$F$27 -> 5315.0536 | CO27: =cal_CORE!CJ36*$C$27*$F$27 -> 4957.2833 | CP27: =cal_CORE!CK36*$C$27*$F$27 -> 4675.5117 | CQ27: =cal_CORE!CL36*$C$27*$F$27 -> 4445.5176 | CR27: =cal_CORE!CM36*$C$27*$F$27 -> 4252.7651 | CS27: =cal_CORE!CN36*$C$27*$F$27 -> 4087.911 | ... DK27: =cal_CORE!DF36*$C$27*$F$27 -> 70.561178 | DL27: =cal_CORE!DG2*$C$27*$F$27 -> 64.365181 | DM27: =cal_CORE!DH2*$C$27*$F$27 -> 59.204029 | DN27: =cal_CORE!DI2*$C$27*$F$27 -> 54.822489 | DO27: =cal_CORE!DJ2*$C$27*$F$27 -> 51.05545 | DP27: =cal_CORE!DK2*$C$27*$F$27 -> 47.781459 | DQ27: =cal_CORE!DL2*$C$27*$F$27 -> 44.909165 | DR27: =cal_CORE!DM2*$C$27*$F$27 -> 42.368528 | DS27: =cal_CORE!DN2*$C$27*$F$27 -> 40.104935 | ... GW27: =cal_CORE!GR2*$C$27*$F$27 -> 12.806575
A28: ='User input'!A28 -> 25 | B28: ='User input'!B28 -> 2044 | C28: ='User input'!C28 -> 4.35 | D28: =DH_CORE!D27+'User input'!C28 -> 104.4 | E28: ='User input'!F28 -> 151.448 | F28: ='User input'!F28/45 -> 3.3655111 | AE28: =cal_CORE!B2*$C$28*$F$28 -> 129914.68 | AF28: =cal_CORE!C2*$C$28*$F$28 -> 46041.89 | AG28: =cal_CORE!D2*$C$28*$F$28 -> 25097.159 | AH28: =cal_CORE!E2*$C$28*$F$28 -> 26121.207 | AI28: =cal_CORE!F2*$C$28*$F$28 -> 26944.208 | AJ28: =cal_CORE!G2*$C$28*$F$28 -> 27635.862 | AK28: =cal_CORE!H2*$C$28*$F$28 -> 28234.48 | AL28: =cal_CORE!I2*$C$28*$F$28 -> 28763.497 | ... CH28: =cal_CORE!BE2*$C$28*$F$28 -> 14990.764 | CI28: =cal_CORE!CD37*C28*F28 -> 14289.121 | CJ28: =cal_CORE!CE37*C28*F28 -> 13712.921 | CK28: =cal_CORE!CF37*C28*F28 -> 8838.6355 | CL28: =cal_CORE!CG37*$C$28*$F$28 -> 6641.2794 | CM28: =cal_CORE!CH37*$C$28*$F$28 -> 5798.8348 | CN28: =cal_CORE!CI37*$C$28*$F$28 -> 5319.1392 | CO28: =cal_CORE!CJ37*$C$28*$F$28 -> 4960.4326 | CP28: =cal_CORE!CK37*$C$28*$F$28 -> 4678.0429 | CQ28: =cal_CORE!CL37*$C$28*$F$28 -> 4447.6143 | CR28: =cal_CORE!CM37*$C$28*$F$28 -> 4254.542 | CS28: =cal_CORE!CN37*$C$28*$F$28 -> 4089.444 | ... DK28: =cal_CORE!DF37*$C$28*$F$28 -> 70.562259 | DL28: =cal_CORE!DG2*$C$28*$F$28 -> 64.365181 | DM28: =cal_CORE!DH2*$C$28*$F$28 -> 59.204029 | DN28: =cal_CORE!DI2*$C$28*$F$28 -> 54.822489 | DO28: =cal_CORE!DJ2*$C$28*$F$28 -> 51.05545 | DP28: =cal_CORE!DK2*$C$28*$F$28 -> 47.781459 | DQ28: =cal_CORE!DL2*$C$28*$F$28 -> 44.909165 | DR28: =cal_CORE!DM2*$C$28*$F$28 -> 42.368528 | DS28: =cal_CORE!DN2*$C$28*$F$28 -> 40.104935 | ... GW28: =cal_CORE!GR2*$C$28*$F$28 -> 12.806575
A29: ='User input'!A29 -> 26 | B29: ='User input'!B29 -> 2045 | C29: ='User input'!C29 -> 4.35 | D29: =DH_CORE!D28+'User input'!C29 -> 108.75 | E29: ='User input'!F29 -> 151.448 | F29: ='User input'!F29/45 -> 3.3655111 | AF29: =cal_CORE!B2*$C$29*$F$29 -> 129914.68 | AG29: =cal_CORE!C2*$C$29*$F$29 -> 46041.89 | AH29: =cal_CORE!D2*$C$29*$F$29 -> 25097.159 | AI29: =cal_CORE!E2*$C$29*$F$29 -> 26121.207 | AJ29: =cal_CORE!F2*$C$29*$F$29 -> 26944.208 | AK29: =cal_CORE!G2*$C$29*$F$29 -> 27635.862 | AL29: =cal_CORE!H2*$C$29*$F$29 -> 28234.48 | AM29: =cal_CORE!I2*$C$29*$F$29 -> 28763.497 | ... CH29: =cal_CORE!BD2*$C$29*$F$29 -> 15069.777 | CI29: =cal_CORE!CD38*C29*F29 -> 14352.911 | CJ29: =cal_CORE!CE38*C29*F29 -> 13766.014 | CK29: =cal_CORE!CF38*C29*F29 -> 8870.6884 | CL29: =cal_CORE!CG38*$C$29*$F$29 -> 6656.6116 | CM29: =cal_CORE!CH38*$C$29*$F$29 -> 5804.4918 | CN29: =cal_CORE!CI38*$C$29*$F$29 -> 5323.2365 | CO29: =cal_CORE!CJ38*$C$29*$F$29 -> 4963.5895 | CP29: =cal_CORE!CK38*$C$29*$F$29 -> 4680.5792 | CQ29: =cal_CORE!CL38*$C$29*$F$29 -> 4449.7146 | CR29: =cal_CORE!CM38*$C$29*$F$29 -> 4256.3216 | CS29: =cal_CORE!CN38*$C$29*$F$29 -> 4090.9792 | ... DK29: =cal_CORE!DF38*$C$29*$F$29 -> 70.56334 | DL29: =cal_CORE!DG2*$C$29*$F$29 -> 64.365181 | DM29: =cal_CORE!DH2*$C$29*$F$29 -> 59.204029 | DN29: =cal_CORE!DI2*$C$29*$F$29 -> 54.822489 | DO29: =cal_CORE!DJ2*$C$29*$F$29 -> 51.05545 | DP29: =cal_CORE!DK2*$C$29*$F$29 -> 47.781459 | DQ29: =cal_CORE!DL2*$C$29*$F$29 -> 44.909165 | DR29: =cal_CORE!DM2*$C$29*$F$29 -> 42.368528 | DS29: =cal_CORE!DN2*$C$29*$F$29 -> 40.104935 | ... GW29: =cal_CORE!GR2*$C$29*$F$29 -> 12.806575
A30: ='User input'!A30 -> 27 | B30: ='User input'!B30 -> 2046 | C30: ='User input'!C30 -> 4.35 | D30: =DH_CORE!D29+'User input'!C30 -> 113.1 | E30: ='User input'!F30 -> 151.448 | F30: ='User input'!F30/45 -> 3.3655111 | AG30: =cal_CORE!B2*$C$30*$F$30 -> 129914.68 | AH30: =cal_CORE!C2*$C$30*$F$30 -> 46041.89 | AI30: =cal_CORE!D2*$C$30*$F$30 -> 25097.159 | AJ30: =cal_CORE!E2*$C$30*$F$30 -> 26121.207 | AK30: =cal_CORE!F2*$C$30*$F$30 -> 26944.208 | AL30: =cal_CORE!G2*$C$30*$F$30 -> 27635.862 | AM30: =cal_CORE!H2*$C$30*$F$30 -> 28234.48 | AN30: =cal_CORE!I2*$C$30*$F$30 -> 28763.497 | ... CH30: =cal_CORE!BC2*$C$30*$F$30 -> 15150.667 | CI30: =cal_CORE!CD39*C30*F30 -> 14417.982 | CJ30: =cal_CORE!CE39*C30*F30 -> 13820.03 | CK30: =cal_CORE!CF39*C30*F30 -> 8903.0423 | CL30: =cal_CORE!CG39*$C$30*$F$30 -> 6672.0352 | CM30: =cal_CORE!CH39*$C$30*$F$30 -> 5810.1694 | CN30: =cal_CORE!CI39*$C$30*$F$30 -> 5327.3456 | CO30: =cal_CORE!CJ39*$C$30*$F$30 -> 4966.7539 | CP30: =cal_CORE!CK39*$C$30*$F$30 -> 4683.1206 | CQ30: =cal_CORE!CL39*$C$30*$F$30 -> 4451.8187 | CR30: =cal_CORE!CM39*$C$30*$F$30 -> 4258.104 | CS30: =cal_CORE!CN39*$C$30*$F$30 -> 4092.5165 | ... DK30: =cal_CORE!DF39*$C$30*$F$30 -> 70.56442 | DL30: =cal_CORE!DG2*$C$30*$F$30 -> 64.365181 | DM30: =cal_CORE!DH2*$C$30*$F$30 -> 59.204029 | DN30: =cal_CORE!DI2*$C$30*$F$30 -> 54.822489 | DO30: =cal_CORE!DJ2*$C$30*$F$30 -> 51.05545 | DP30: =cal_CORE!DK2*$C$30*$F$30 -> 47.781459 | DQ30: =cal_CORE!DL2*$C$30*$F$30 -> 44.909165 | DR30: =cal_CORE!DM2*$C$30*$F$30 -> 42.368528 | DS30: =cal_CORE!DN2*$C$30*$F$30 -> 40.104935 | ... GW30: =cal_CORE!GR2*$C$30*$F$30 -> 12.806575
A31: ='User input'!A31 -> 28 | B31: ='User input'!B31 -> 2047 | C31: ='User input'!C31 -> 4.35 | D31: =DH_CORE!D30+'User input'!C31 -> 117.45 | E31: ='User input'!F31 -> 151.448 | F31: ='User input'!F31/45 -> 3.3655111 | AH31: =cal_CORE!B2*$C$31*$F$31 -> 129914.68 | AI31: =cal_CORE!C2*$C$31*$F$31 -> 46041.89 | AJ31: =cal_CORE!D2*$C$31*$F$31 -> 25097.159 | AK31: =cal_CORE!E2*$C$31*$F$31 -> 26121.207 | AL31: =cal_CORE!F2*$C$31*$F$31 -> 26944.208 | AM31: =cal_CORE!G2*$C$31*$F$31 -> 27635.862 | AN31: =cal_CORE!H2*$C$31*$F$31 -> 28234.48 | AO31: =cal_CORE!I2*$C$31*$F$31 -> 28763.497 | ... CH31: =cal_CORE!BB2*$C$31*$F$31 -> 15233.517 | CI31: =cal_CORE!CD40*C31*F31 -> 14484.38 | CJ31: =cal_CORE!CE40*C31*F31 -> 13874.998 | CK31: =cal_CORE!CF40*C31*F31 -> 8935.7017 | CL31: =cal_CORE!CG40*$C$31*$F$31 -> 6687.5511 | CM31: =cal_CORE!CH40*$C$31*$F$31 -> 5815.8679 | CN31: =cal_CORE!CI40*$C$31*$F$31 -> 5331.4666 | CO31: =cal_CORE!CJ40*$C$31*$F$31 -> 4969.9258 | CP31: =cal_CORE!CK40*$C$31*$F$31 -> 4685.6672 | CQ31: =cal_CORE!CL40*$C$31*$F$31 -> 4453.9264 | CR31: =cal_CORE!CM40*$C$31*$F$31 -> 4259.8892 | CS31: =cal_CORE!CN40*$C$31*$F$31 -> 4094.056 | ... DK31: =cal_CORE!DF40*$C$31*$F$31 -> 70.565501 | DL31: =cal_CORE!DG2*$C$31*$F$31 -> 64.365181 | DM31: =cal_CORE!DH2*$C$31*$F$31 -> 59.204029 | DN31: =cal_CORE!DI2*$C$31*$F$31 -> 54.822489 | DO31: =cal_CORE!DJ2*$C$31*$F$31 -> 51.05545 | DP31: =cal_CORE!DK2*$C$31*$F$31 -> 47.781459 | DQ31: =cal_CORE!DL2*$C$31*$F$31 -> 44.909165 | DR31: =cal_CORE!DM2*$C$31*$F$31 -> 42.368528 | DS31: =cal_CORE!DN2*$C$31*$F$31 -> 40.104935 | ... GW31: =cal_CORE!GR2*$C$31*$F$31 -> 12.806575
A32: ='User input'!A32 -> 29 | B32: ='User input'!B32 -> 2048 | C32: ='User input'!C32 -> 4.35 | D32: =DH_CORE!D31+'User input'!C32 -> 121.8 | E32: ='User input'!F32 -> 151.448 | F32: ='User input'!F32/45 -> 3.3655111 | AI32: =cal_CORE!B2*$C$32*$F$32 -> 129914.68 | AJ32: =cal_CORE!C2*$C$32*$F$32 -> 46041.89 | AK32: =cal_CORE!D2*$C$32*$F$32 -> 25097.159 | AL32: =cal_CORE!E2*$C$32*$F$32 -> 26121.207 | AM32: =cal_CORE!F2*$C$32*$F$32 -> 26944.208 | AN32: =cal_CORE!G2*$C$32*$F$32 -> 27635.862 | AO32: =cal_CORE!H2*$C$32*$F$32 -> 28234.48 | AP32: =cal_CORE!I2*$C$32*$F$32 -> 28763.497 | ... CH32: =cal_CORE!BA2*$C$32*$F$32 -> 15318.411 | CI32: =cal_CORE!CD41*C32*F32 -> 14552.153 | CJ32: =cal_CORE!CE41*C32*F32 -> 13930.946 | CK32: =cal_CORE!CF41*C32*F32 -> 8968.6712 | CL32: =cal_CORE!CG41*$C$32*$F$32 -> 6703.1603 | CM32: =cal_CORE!CH41*$C$32*$F$32 -> 5821.5872 | CN32: =cal_CORE!CI41*$C$32*$F$32 -> 5335.5995 | CO32: =cal_CORE!CJ41*$C$32*$F$32 -> 4973.1053 | CP32: =cal_CORE!CK41*$C$32*$F$32 -> 4688.219 | CQ32: =cal_CORE!CL41*$C$32*$F$32 -> 4456.0379 | CR32: =cal_CORE!CM41*$C$32*$F$32 -> 4261.6772 | CS32: =cal_CORE!CN41*$C$32*$F$32 -> 4095.5977 | ... DK32: =cal_CORE!DF41*$C$32*$F$32 -> 70.566582 | DL32: =cal_CORE!DG2*$C$32*$F$32 -> 64.365181 | DM32: =cal_CORE!DH2*$C$32*$F$32 -> 59.204029 | DN32: =cal_CORE!DI2*$C$32*$F$32 -> 54.822489 | DO32: =cal_CORE!DJ2*$C$32*$F$32 -> 51.05545 | DP32: =cal_CORE!DK2*$C$32*$F$32 -> 47.781459 | DQ32: =cal_CORE!DL2*$C$32*$F$32 -> 44.909165 | DR32: =cal_CORE!DM2*$C$32*$F$32 -> 42.368528 | DS32: =cal_CORE!DN2*$C$32*$F$32 -> 40.104935 | ... GW32: =cal_CORE!GR2*$C$32*$F$32 -> 12.806575
A33: ='User input'!A33 -> 30 | B33: ='User input'!B33 -> 2049 | C33: ='User input'!C33 -> 4.35 | D33: =DH_CORE!D32+'User input'!C33 -> 126.15 | E33: ='User input'!F33 -> 151.448 | F33: ='User input'!F33/45 -> 3.3655111 | AJ33: =cal_CORE!B2*$C$33*$F$33 -> 129914.68 | AK33: =cal_CORE!C2*$C$33*$F$33 -> 46041.89 | AL33: =cal_CORE!D2*$C$33*$F$33 -> 25097.159 | AM33: =cal_CORE!E2*$C$33*$F$33 -> 26121.207 | AN33: =cal_CORE!F2*$C$33*$F$33 -> 26944.208 | AO33: =cal_CORE!G2*$C$33*$F$33 -> 27635.862 | AP33: =cal_CORE!H2*$C$33*$F$33 -> 28234.48 | AQ33: =cal_CORE!I2*$C$33*$F$33 -> 28763.497 | ... CH33: =cal_CORE!AZ2*$C$33*$F$33 -> 15405.44 | CI33: =cal_CORE!CD42*C33*F33 -> 14621.353 | CJ33: =cal_CORE!CE42*C33*F33 -> 13987.908 | CK33: =cal_CORE!CF42*C33*F33 -> 9001.9557 | CL33: =cal_CORE!CG42*$C$33*$F$33 -> 6718.8636 | CM33: =cal_CORE!CH42*$C$33*$F$33 -> 5827.3276 | CN33: =cal_CORE!CI42*$C$33*$F$33 -> 5339.7444 | CO33: =cal_CORE!CJ42*$C$33*$F$33 -> 4976.2924 | CP33: =cal_CORE!CK42*$C$33*$F$33 -> 4690.7759 | CQ33: =cal_CORE!CL42*$C$33*$F$33 -> 4458.1532 | CR33: =cal_CORE!CM42*$C$33*$F$33 -> 4263.468 | CS33: =cal_CORE!CN42*$C$33*$F$33 -> 4097.1415 | ... DK33: =cal_CORE!DF42*$C$33*$F$33 -> 70.567663 | DL33: =cal_CORE!DG2*$C$33*$F$33 -> 64.365181 | DM33: =cal_CORE!DH2*$C$33*$F$33 -> 59.204029 | DN33: =cal_CORE!DI2*$C$33*$F$33 -> 54.822489 | DO33: =cal_CORE!DJ2*$C$33*$F$33 -> 51.05545 | DP33: =cal_CORE!DK2*$C$33*$F$33 -> 47.781459 | DQ33: =cal_CORE!DL2*$C$33*$F$33 -> 44.909165 | DR33: =cal_CORE!DM2*$C$33*$F$33 -> 42.368528 | DS33: =cal_CORE!DN2*$C$33*$F$33 -> 40.104935 | ... GW33: =cal_CORE!GR2*$C$33*$F$33 -> 12.806575
A34: ='User input'!A34 -> 31 | B34: ='User input'!B34 -> 2050 | C34: ='User input'!C34 -> 4.35 | D34: =DH_CORE!D33+'User input'!C34 -> 130.5 | E34: ='User input'!F34 -> 151.448 | F34: ='User input'!F34/45 -> 3.3655111 | AK34: =cal_CORE!B2*$C$34*$F$34 -> 129914.68 | AL34: =cal_CORE!C2*$C$34*$F$34 -> 46041.89 | AM34: =cal_CORE!D2*$C$34*$F$34 -> 25097.159 | AN34: =cal_CORE!E2*$C$34*$F$34 -> 26121.207 | AO34: =cal_CORE!F2*$C$34*$F$34 -> 26944.208 | AP34: =cal_CORE!G2*$C$34*$F$34 -> 27635.862 | AQ34: =cal_CORE!H2*$C$34*$F$34 -> 28234.48 | AR34: =cal_CORE!I2*$C$34*$F$34 -> 28763.497 | ... CH34: =cal_CORE!AY2*$C$34*$F$34 -> 15494.702 | CI34: =cal_CORE!CD43*C34*F34 -> 14692.034 | CJ34: =cal_CORE!CE43*C34*F34 -> 14045.916 | CK34: =cal_CORE!CF43*C34*F34 -> 9035.5601 | CL34: =cal_CORE!CG43*$C$34*$F$34 -> 6734.6619 | CM34: =cal_CORE!CH43*$C$34*$F$34 -> 5833.0891 | CN34: =cal_CORE!CI43*$C$34*$F$34 -> 5343.9014 | CO34: =cal_CORE!CJ43*$C$34*$F$34 -> 4979.4871 | CP34: =cal_CORE!CK43*$C$34*$F$34 -> 4693.3381 | CQ34: =cal_CORE!CL43*$C$34*$F$34 -> 4460.2722 | CR34: =cal_CORE!CM43*$C$34*$F$34 -> 4265.2616 | CS34: =cal_CORE!CN43*$C$34*$F$34 -> 4098.6875 | ... DK34: =cal_CORE!DF43*$C$34*$F$34 -> 70.568744 | DL34: =cal_CORE!DG2*$C$34*$F$34 -> 64.365181 | DM34: =cal_CORE!DH2*$C$34*$F$34 -> 59.204029 | DN34: =cal_CORE!DI2*$C$34*$F$34 -> 54.822489 | DO34: =cal_CORE!DJ2*$C$34*$F$34 -> 51.05545 | DP34: =cal_CORE!DK2*$C$34*$F$34 -> 47.781459 | DQ34: =cal_CORE!DL2*$C$34*$F$34 -> 44.909165 | DR34: =cal_CORE!DM2*$C$34*$F$34 -> 42.368528 | DS34: =cal_CORE!DN2*$C$34*$F$34 -> 40.104935 | ... GW34: =cal_CORE!GR2*$C$34*$F$34 -> 12.806575
A35: ='User input'!A35 -> 32 | B35: ='User input'!B35 -> 2051 | C35: ='User input'!C35 -> 4.35 | D35: =DH_CORE!D34+'User input'!C35 -> 134.85 | E35: ='User input'!F35 -> 151.448 | F35: ='User input'!F35/45 -> 3.3655111 | AL35: =cal_CORE!B2*$C$35*$F$35 -> 129914.68 | AM35: =cal_CORE!C2*$C$35*$F$35 -> 46041.89 | AN35: =cal_CORE!D2*$C$35*$F$35 -> 25097.159 | AO35: =cal_CORE!E2*$C$35*$F$35 -> 26121.207 | AP35: =cal_CORE!F2*$C$35*$F$35 -> 26944.208 | AQ35: =cal_CORE!G2*$C$35*$F$35 -> 27635.862 | AR35: =cal_CORE!H2*$C$35*$F$35 -> 28234.48 | AS35: =cal_CORE!I2*$C$35*$F$35 -> 28763.497 | ... CH35: =cal_CORE!AX2*$C$35*$F$35 -> 15586.3 | CI35: =cal_CORE!CD44*C35*F35 -> 14764.253 | CJ35: =cal_CORE!CE44*C35*F35 -> 14105.003 | CK35: =cal_CORE!CF44*C35*F35 -> 9069.4892 | CL35: =cal_CORE!CG44*$C$35*$F$35 -> 6750.5563 | CM35: =cal_CORE!CH44*$C$35*$F$35 -> 5838.872 | CN35: =cal_CORE!CI44*$C$35*$F$35 -> 5348.0704 | CO35: =cal_CORE!CJ44*$C$35*$F$35 -> 4982.6895 | CP35: =cal_CORE!CK44*$C$35*$F$35 -> 4695.9055 | CQ35: =cal_CORE!CL44*$C$35*$F$35 -> 4462.3949 | CR35: =cal_CORE!CM44*$C$35*$F$35 -> 4267.058 | CS35: =cal_CORE!CN44*$C$35*$F$35 -> 4100.2357 | ... DK35: =cal_CORE!DF44*$C$35*$F$35 -> 70.569825 | DL35: =cal_CORE!DG2*$C$35*$F$35 -> 64.365181 | DM35: =cal_CORE!DH2*$C$35*$F$35 -> 59.204029 | DN35: =cal_CORE!DI2*$C$35*$F$35 -> 54.822489 | DO35: =cal_CORE!DJ2*$C$35*$F$35 -> 51.05545 | DP35: =cal_CORE!DK2*$C$35*$F$35 -> 47.781459 | DQ35: =cal_CORE!DL2*$C$35*$F$35 -> 44.909165 | DR35: =cal_CORE!DM2*$C$35*$F$35 -> 42.368528 | DS35: =cal_CORE!DN2*$C$35*$F$35 -> 40.104935 | ... GW35: =cal_CORE!GR2*$C$35*$F$35 -> 12.806575
A36: ='User input'!A36 -> 33 | B36: ='User input'!B36 -> 2052 | C36: ='User input'!C36 -> 4.35 | D36: =DH_CORE!D35+'User input'!C36 -> 139.2 | E36: ='User input'!F36 -> 151.448 | F36: ='User input'!F36/45 -> 3.3655111 | AM36: =cal_CORE!B2*$C$36*$F$36 -> 129914.68 | AN36: =cal_CORE!C2*$C$36*$F$36 -> 46041.89 | AO36: =cal_CORE!D2*$C$36*$F$36 -> 25097.159 | AP36: =cal_CORE!E2*$C$36*$F$36 -> 26121.207 | AQ36: =cal_CORE!F2*$C$36*$F$36 -> 26944.208 | AR36: =cal_CORE!G2*$C$36*$F$36 -> 27635.862 | AS36: =cal_CORE!H2*$C$36*$F$36 -> 28234.48 | AT36: =cal_CORE!I2*$C$36*$F$36 -> 28763.497 | ... CH36: =cal_CORE!AW2*$C$36*$F$36 -> 15680.345 | CI36: =cal_CORE!CD45*C36*F36 -> 14838.072 | CJ36: =cal_CORE!CE45*C36*F36 -> 14165.208 | CK36: =cal_CORE!CF45*C36*F36 -> 9103.7483 | CL36: =cal_CORE!CG45*$C$36*$F$36 -> 6766.5475 | CM36: =cal_CORE!CH45*$C$36*$F$36 -> 5844.6763 | CN36: =cal_CORE!CI45*$C$36*$F$36 -> 5352.2516 | CO36: =cal_CORE!CJ45*$C$36*$F$36 -> 4985.8995 | CP36: =cal_CORE!CK45*$C$36*$F$36 -> 4698.4781 | CQ36: =cal_CORE!CL45*$C$36*$F$36 -> 4464.5214 | CR36: =cal_CORE!CM45*$C$36*$F$36 -> 4268.8573 | CS36: =cal_CORE!CN45*$C$36*$F$36 -> 4101.7861 | ... DK36: =cal_CORE!DF45*$C$36*$F$36 -> 70.570906 | DL36: =cal_CORE!DG2*$C$36*$F$36 -> 64.365181 | DM36: =cal_CORE!DH2*$C$36*$F$36 -> 59.204029 | DN36: =cal_CORE!DI2*$C$36*$F$36 -> 54.822489 | DO36: =cal_CORE!DJ2*$C$36*$F$36 -> 51.05545 | DP36: =cal_CORE!DK2*$C$36*$F$36 -> 47.781459 | DQ36: =cal_CORE!DL2*$C$36*$F$36 -> 44.909165 | DR36: =cal_CORE!DM2*$C$36*$F$36 -> 42.368528 | DS36: =cal_CORE!DN2*$C$36*$F$36 -> 40.104935 | ... GW36: =cal_CORE!GR2*$C$36*$F$36 -> 12.806575
A37: ='User input'!A37 -> 34 | B37: ='User input'!B37 -> 2053 | C37: ='User input'!C37 -> 4.35 | D37: =DH_CORE!D36+'User input'!C37 -> 143.55 | E37: ='User input'!F37 -> 151.448 | F37: ='User input'!F37/45 -> 3.3655111 | AN37: =cal_CORE!B2*$C$37*$F$37 -> 129914.68 | AO37: =cal_CORE!C2*$C$37*$F$37 -> 46041.89 | AP37: =cal_CORE!D2*$C$37*$F$37 -> 25097.159 | AQ37: =cal_CORE!E2*$C$37*$F$37 -> 26121.207 | AR37: =cal_CORE!F2*$C$37*$F$37 -> 26944.208 | AS37: =cal_CORE!G2*$C$37*$F$37 -> 27635.862 | AT37: =cal_CORE!H2*$C$37*$F$37 -> 28234.48 | AU37: =cal_CORE!I2*$C$37*$F$37 -> 28763.497 | ... CH37: =cal_CORE!AV2*$C$37*$F$37 -> 15776.956 | CI37: =cal_CORE!CD46*C37*F37 -> 14913.552 | CJ37: =cal_CORE!CE46*C37*F37 -> 14226.567 | CK37: =cal_CORE!CF46*C37*F37 -> 9138.3425 | CL37: =cal_CORE!CG46*$C$37*$F$37 -> 6782.6366 | CM37: =cal_CORE!CH46*$C$37*$F$37 -> 5850.5022 | CN37: =cal_CORE!CI46*$C$37*$F$37 -> 5356.445 | CO37: =cal_CORE!CJ46*$C$37*$F$37 -> 4989.1174 | CP37: =cal_CORE!CK46*$C$37*$F$37 -> 4701.056 | CQ37: =cal_CORE!CL46*$C$37*$F$37 -> 4466.6517 | CR37: =cal_CORE!CM46*$C$37*$F$37 -> 4270.6594 | CS37: =cal_CORE!CN46*$C$37*$F$37 -> 4103.3386 | ... DK37: =cal_CORE!DF46*$C$37*$F$37 -> 70.571986 | DL37: =cal_CORE!DG2*$C$37*$F$37 -> 64.365181 | DM37: =cal_CORE!DH2*$C$37*$F$37 -> 59.204029 | DN37: =cal_CORE!DI2*$C$37*$F$37 -> 54.822489 | DO37: =cal_CORE!DJ2*$C$37*$F$37 -> 51.05545 | DP37: =cal_CORE!DK2*$C$37*$F$37 -> 47.781459 | DQ37: =cal_CORE!DL2*$C$37*$F$37 -> 44.909165 | DR37: =cal_CORE!DM2*$C$37*$F$37 -> 42.368528 | DS37: =cal_CORE!DN2*$C$37*$F$37 -> 40.104935 | ... GW37: =cal_CORE!GR2*$C$37*$F$37 -> 12.806575
A38: ='User input'!A38 -> 35 | B38: ='User input'!B38 -> 2054 | C38: ='User input'!C38 -> 4.35 | D38: =DH_CORE!D37+'User input'!C38 -> 147.9 | E38: ='User input'!F38 -> 151.448 | F38: ='User input'!F38/45 -> 3.3655111 | AO38: =cal_CORE!B2*$C$38*$F$38 -> 129914.68 | AP38: =cal_CORE!C2*$C$38*$F$38 -> 46041.89 | AQ38: =cal_CORE!D2*$C$38*$F$38 -> 25097.159 | AR38: =cal_CORE!E2*$C$38*$F$38 -> 26121.207 | AS38: =cal_CORE!F2*$C$38*$F$38 -> 26944.208 | AT38: =cal_CORE!G2*$C$38*$F$38 -> 27635.862 | AU38: =cal_CORE!H2*$C$38*$F$38 -> 28234.48 | AV38: =cal_CORE!I2*$C$38*$F$38 -> 28763.497 | ... CH38: =cal_CORE!AU2*$C$38*$F$38 -> 15876.26 | CI38: =cal_CORE!CD47*C38*F38 -> 14990.764 | CJ38: =cal_CORE!CE47*C38*F38 -> 14289.121 | CK38: =cal_CORE!CF47*C38*F38 -> 9173.2771 | CL38: =cal_CORE!CG47*$C$38*$F$38 -> 6798.8245 | CM38: =cal_CORE!CH47*$C$38*$F$38 -> 5856.3498 | CN38: =cal_CORE!CI47*$C$38*$F$38 -> 5360.6507 | CO38: =cal_CORE!CJ47*$C$38*$F$38 -> 4992.3429 | CP38: =cal_CORE!CK47*$C$38*$F$38 -> 4703.6392 | CQ38: =cal_CORE!CL47*$C$38*$F$38 -> 4468.7859 | CR38: =cal_CORE!CM47*$C$38*$F$38 -> 4272.4643 | CS38: =cal_CORE!CN47*$C$38*$F$38 -> 4104.8934 | ... DK38: =cal_CORE!DF47*$C$38*$F$38 -> 70.573067 | DL38: =cal_CORE!DG2*$C$38*$F$38 -> 64.365181 | DM38: =cal_CORE!DH2*$C$38*$F$38 -> 59.204029 | DN38: =cal_CORE!DI2*$C$38*$F$38 -> 54.822489 | DO38: =cal_CORE!DJ2*$C$38*$F$38 -> 51.05545 | DP38: =cal_CORE!DK2*$C$38*$F$38 -> 47.781459 | DQ38: =cal_CORE!DL2*$C$38*$F$38 -> 44.909165 | DR38: =cal_CORE!DM2*$C$38*$F$38 -> 42.368528 | DS38: =cal_CORE!DN2*$C$38*$F$38 -> 40.104935 | ... GW38: =cal_CORE!GR2*$C$38*$F$38 -> 12.806575
A39: ='User input'!A39 -> 36 | B39: ='User input'!B39 -> 2055 | C39: ='User input'!C39 -> 4.35 | D39: =DH_CORE!D38+'User input'!C39 -> 152.25 | E39: ='User input'!F39 -> 151.448 | F39: ='User input'!F39/45 -> 3.3655111 | AP39: =cal_CORE!B2*$C$39*$F$39 -> 129914.68 | AQ39: =cal_CORE!C2*$C$39*$F$39 -> 46041.89 | AR39: =cal_CORE!D2*$C$39*$F$39 -> 25097.159 | AS39: =cal_CORE!E2*$C$39*$F$39 -> 26121.207 | AT39: =cal_CORE!F2*$C$39*$F$39 -> 26944.208 | AU39: =cal_CORE!G2*$C$39*$F$39 -> 27635.862 | AV39: =cal_CORE!H2*$C$39*$F$39 -> 28234.48 | AW39: =cal_CORE!I2*$C$39*$F$39 -> 28763.497 | ... CH39: =cal_CORE!AT2*$C$39*$F$39 -> 15978.392 | CI39: =cal_CORE!CD48*C39*F39 -> 15069.777 | CJ39: =cal_CORE!CE48*C39*F39 -> 14352.911 | CK39: =cal_CORE!CF48*C39*F39 -> 9208.5575 | CL39: =cal_CORE!CG48*$C$39*$F$39 -> 6815.1123 | CM39: =cal_CORE!CH48*$C$39*$F$39 -> 5862.2193 | CN39: =cal_CORE!CI48*$C$39*$F$39 -> 5364.8688 | CO39: =cal_CORE!CJ48*$C$39*$F$39 -> 4995.5763 | CP39: =cal_CORE!CK48*$C$39*$F$39 -> 4706.2277 | CQ39: =cal_CORE!CL48*$C$39*$F$39 -> 4470.9238 | CR39: =cal_CORE!CM48*$C$39*$F$39 -> 4274.2721 | CS39: =cal_CORE!CN48*$C$39*$F$39 -> 4106.4503 | ... DK39: =cal_CORE!DF48*$C$39*$F$39 -> 70.574148 | DL39: =cal_CORE!DG2*$C$39*$F$39 -> 64.365181 | DM39: =cal_CORE!DH2*$C$39*$F$39 -> 59.204029 | DN39: =cal_CORE!DI2*$C$39*$F$39 -> 54.822489 | DO39: =cal_CORE!DJ2*$C$39*$F$39 -> 51.05545 | DP39: =cal_CORE!DK2*$C$39*$F$39 -> 47.781459 | DQ39: =cal_CORE!DL2*$C$39*$F$39 -> 44.909165 | DR39: =cal_CORE!DM2*$C$39*$F$39 -> 42.368528 | DS39: =cal_CORE!DN2*$C$39*$F$39 -> 40.104935 | ... GW39: =cal_CORE!GR2*$C$39*$F$39 -> 12.806575
A40: ='User input'!A40 -> 37 | B40: ='User input'!B40 -> 2056 | C40: ='User input'!C40 -> 4.35 | D40: =DH_CORE!D39+'User input'!C40 -> 156.6 | E40: ='User input'!F40 -> 151.448 | F40: ='User input'!F40/45 -> 3.3655111 | AQ40: =cal_CORE!B2*$C$40*$F$40 -> 129914.68 | AR40: =cal_CORE!C2*$C$40*$F$40 -> 46041.89 | AS40: =cal_CORE!D2*$C$40*$F$40 -> 25097.159 | AT40: =cal_CORE!E2*$C$40*$F$40 -> 26121.207 | AU40: =cal_CORE!F2*$C$40*$F$40 -> 26944.208 | AV40: =cal_CORE!G2*$C$40*$F$40 -> 27635.862 | AW40: =cal_CORE!H2*$C$40*$F$40 -> 28234.48 | AX40: =cal_CORE!I2*$C$40*$F$40 -> 28763.497 | ... CH40: =cal_CORE!AS2*$C$40*$F$40 -> 16083.498 | CI40: =cal_CORE!CD49*C40*F40 -> 15150.667 | CJ40: =cal_CORE!CE49*C40*F40 -> 14417.982 | CK40: =cal_CORE!CF49*C40*F40 -> 9244.1893 | CL40: =cal_CORE!CG49*$C$40*$F$40 -> 6831.5009 | CM40: =cal_CORE!CH49*$C$40*$F$40 -> 5868.1108 | CN40: =cal_CORE!CI49*$C$40*$F$40 -> 5369.0992 | CO40: =cal_CORE!CJ49*$C$40*$F$40 -> 4998.8175 | CP40: =cal_CORE!CK49*$C$40*$F$40 -> 4708.8216 | CQ40: =cal_CORE!CL49*$C$40*$F$40 -> 4473.0655 | CR40: =cal_CORE!CM49*$C$40*$F$40 -> 4276.0828 | CS40: =cal_CORE!CN49*$C$40*$F$40 -> 4108.0095 | ... DK40: =cal_CORE!DF49*$C$40*$F$40 -> 70.575229 | DL40: =cal_CORE!DG2*$C$40*$F$40 -> 64.365181 | DM40: =cal_CORE!DH2*$C$40*$F$40 -> 59.204029 | DN40: =cal_CORE!DI2*$C$40*$F$40 -> 54.822489 | DO40: =cal_CORE!DJ2*$C$40*$F$40 -> 51.05545 | DP40: =cal_CORE!DK2*$C$40*$F$40 -> 47.781459 | DQ40: =cal_CORE!DL2*$C$40*$F$40 -> 44.909165 | DR40: =cal_CORE!DM2*$C$40*$F$40 -> 42.368528 | DS40: =cal_CORE!DN2*$C$40*$F$40 -> 40.104935 | ... GW40: =cal_CORE!GR2*$C$40*$F$40 -> 12.806575
A41: ='User input'!A41 -> 38 | B41: ='User input'!B41 -> 2057 | C41: ='User input'!C41 -> 4.35 | D41: =DH_CORE!D40+'User input'!C41 -> 160.95 | E41: ='User input'!F41 -> 151.448 | F41: ='User input'!F41/45 -> 3.3655111 | AR41: =cal_CORE!B2*$C$41*$F$41 -> 129914.68 | AS41: =cal_CORE!C2*$C$41*$F$41 -> 46041.89 | AT41: =cal_CORE!D2*$C$41*$F$41 -> 25097.159 | AU41: =cal_CORE!E2*$C$41*$F$41 -> 26121.207 | AV41: =cal_CORE!F2*$C$41*$F$41 -> 26944.208 | AW41: =cal_CORE!G2*$C$41*$F$41 -> 27635.862 | AX41: =cal_CORE!H2*$C$41*$F$41 -> 28234.48 | AY41: =cal_CORE!I2*$C$41*$F$41 -> 28763.497 | ... CH41: =cal_CORE!AR2*$C$41*$F$41 -> 16191.737 | CI41: =cal_CORE!CD50*C41*F41 -> 15233.517 | CJ41: =cal_CORE!CE50*C41*F41 -> 14484.38 | CK41: =cal_CORE!CF50*C41*F41 -> 9280.1783 | CL41: =cal_CORE!CG50*$C$41*$F$41 -> 6847.9914 | CM41: =cal_CORE!CH50*$C$41*$F$41 -> 5874.0245 | CN41: =cal_CORE!CI50*$C$41*$F$41 -> 5373.3422 | CO41: =cal_CORE!CJ50*$C$41*$F$41 -> 5002.0666 | CP41: =cal_CORE!CK50*$C$41*$F$41 -> 4711.4207 | CQ41: =cal_CORE!CL50*$C$41*$F$41 -> 4475.2111 | CR41: =cal_CORE!CM50*$C$41*$F$41 -> 4277.8963 | CS41: =cal_CORE!CN50*$C$41*$F$41 -> 4109.5709 | ... DK41: =cal_CORE!DF50*$C$41*$F$41 -> 70.576311 | DL41: =cal_CORE!DG2*$C$41*$F$41 -> 64.365181 | DM41: =cal_CORE!DH2*$C$41*$F$41 -> 59.204029 | DN41: =cal_CORE!DI2*$C$41*$F$41 -> 54.822489 | DO41: =cal_CORE!DJ2*$C$41*$F$41 -> 51.05545 | DP41: =cal_CORE!DK2*$C$41*$F$41 -> 47.781459 | DQ41: =cal_CORE!DL2*$C$41*$F$41 -> 44.909165 | DR41: =cal_CORE!DM2*$C$41*$F$41 -> 42.368528 | DS41: =cal_CORE!DN2*$C$41*$F$41 -> 40.104935 | ... GW41: =cal_CORE!GR2*$C$41*$F$41 -> 12.806575
A42: ='User input'!A42 -> 39 | B42: ='User input'!B42 -> 2058 | C42: ='User input'!C42 -> 4.35 | D42: =DH_CORE!D41+'User input'!C42 -> 165.3 | E42: ='User input'!F42 -> 151.448 | F42: ='User input'!F42/45 -> 3.3655111 | AS42: =cal_CORE!B2*$C$42*$F$42 -> 129914.68 | AT42: =cal_CORE!C2*$C$42*$F$42 -> 46041.89 | AU42: =cal_CORE!D2*$C$42*$F$42 -> 25097.159 | AV42: =cal_CORE!E2*$C$42*$F$42 -> 26121.207 | AW42: =cal_CORE!F2*$C$42*$F$42 -> 26944.208 | AX42: =cal_CORE!G2*$C$42*$F$42 -> 27635.862 | AY42: =cal_CORE!H2*$C$42*$F$42 -> 28234.48 | AZ42: =cal_CORE!I2*$C$42*$F$42 -> 28763.497 | ... CH42: =cal_CORE!AQ2*$C$42*$F$42 -> 16303.277 | CI42: =cal_CORE!CD51*C42*F42 -> 15318.411 | CJ42: =cal_CORE!CE51*C42*F42 -> 14552.153 | CK42: =cal_CORE!CF51*C42*F42 -> 9316.5301 | CL42: =cal_CORE!CG51*$C$42*$F$42 -> 6864.5846 | CM42: =cal_CORE!CH51*$C$42*$F$42 -> 5879.9604 | CN42: =cal_CORE!CI51*$C$42*$F$42 -> 5377.5977 | CO42: =cal_CORE!CJ51*$C$42*$F$42 -> 5005.3235 | CP42: =cal_CORE!CK51*$C$42*$F$42 -> 4714.0253 | CQ42: =cal_CORE!CL51*$C$42*$F$42 -> 4477.3605 | CR42: =cal_CORE!CM51*$C$42*$F$42 -> 4279.7126 | CS42: =cal_CORE!CN51*$C$42*$F$42 -> 4111.1345 | ... DK42: =cal_CORE!DF51*$C$42*$F$42 -> 70.577392 | DL42: =cal_CORE!DG2*$C$42*$F$42 -> 64.365181 | DM42: =cal_CORE!DH2*$C$42*$F$42 -> 59.204029 | DN42: =cal_CORE!DI2*$C$42*$F$42 -> 54.822489 | DO42: =cal_CORE!DJ2*$C$42*$F$42 -> 51.05545 | DP42: =cal_CORE!DK2*$C$42*$F$42 -> 47.781459 | DQ42: =cal_CORE!DL2*$C$42*$F$42 -> 44.909165 | DR42: =cal_CORE!DM2*$C$42*$F$42 -> 42.368528 | DS42: =cal_CORE!DN2*$C$42*$F$42 -> 40.104935 | ... GW42: =cal_CORE!GR2*$C$42*$F$42 -> 12.806575
A43: ='User input'!A43 -> 40 | B43: ='User input'!B43 -> 2059 | C43: ='User input'!C43 -> 4.35 | D43: =DH_CORE!D42+'User input'!C43 -> 169.65 | E43: ='User input'!F43 -> 151.448 | F43: ='User input'!F43/45 -> 3.3655111 | AT43: =cal_CORE!B2*$C$43*$F$43 -> 129914.68 | AU43: =cal_CORE!C2*$C$43*$F$43 -> 46041.89 | AV43: =cal_CORE!D2*$C$43*$F$43 -> 25097.159 | AW43: =cal_CORE!E2*$C$43*$F$43 -> 26121.207 | AX43: =cal_CORE!F2*$C$43*$F$43 -> 26944.208 | AY43: =cal_CORE!G2*$C$43*$F$43 -> 27635.862 | AZ43: =cal_CORE!H2*$C$43*$F$43 -> 28234.48 | BA43: =cal_CORE!I2*$C$43*$F$43 -> 28763.497 | ... CH43: =cal_CORE!AP2*$C$43*$F$43 -> 16418.301 | CI43: =cal_CORE!CD52*C43*F43 -> 15405.44 | CJ43: =cal_CORE!CE52*C43*F43 -> 14621.353 | CK43: =cal_CORE!CF52*C43*F43 -> 9353.2507 | CL43: =cal_CORE!CG52*$C$43*$F$43 -> 6881.2818 | CM43: =cal_CORE!CH52*$C$43*$F$43 -> 5885.9188 | CN43: =cal_CORE!CI52*$C$43*$F$43 -> 5381.8657 | CO43: =cal_CORE!CJ52*$C$43*$F$43 -> 5008.5884 | CP43: =cal_CORE!CK52*$C$43*$F$43 -> 4716.6352 | CQ43: =cal_CORE!CL52*$C$43*$F$43 -> 4479.5138 | CR43: =cal_CORE!CM52*$C$43*$F$43 -> 4281.5319 | CS43: =cal_CORE!CN52*$C$43*$F$43 -> 4112.7003 | ... DK43: =cal_CORE!DF52*$C$43*$F$43 -> 70.578473 | DL43: =cal_CORE!DG2*$C$43*$F$43 -> 64.365181 | DM43: =cal_CORE!DH2*$C$43*$F$43 -> 59.204029 | DN43: =cal_CORE!DI2*$C$43*$F$43 -> 54.822489 | DO43: =cal_CORE!DJ2*$C$43*$F$43 -> 51.05545 | DP43: =cal_CORE!DK2*$C$43*$F$43 -> 47.781459 | DQ43: =cal_CORE!DL2*$C$43*$F$43 -> 44.909165 | DR43: =cal_CORE!DM2*$C$43*$F$43 -> 42.368528 | DS43: =cal_CORE!DN2*$C$43*$F$43 -> 40.104935 | ... GW43: =cal_CORE!GR2*$C$43*$F$43 -> 12.806575
A44: ='User input'!A44 -> 41 | B44: ='User input'!B44 -> 2060 | C44: ='User input'!C44 -> 4.35 | D44: =DH_CORE!D43+'User input'!C44 -> 174 | E44: ='User input'!F44 -> 151.448 | F44: ='User input'!F44/45 -> 3.3655111 | AU44: =cal_CORE!B2*$C$44*$F$44 -> 129914.68 | AV44: =cal_CORE!C2*$C$44*$F$44 -> 46041.89 | AW44: =cal_CORE!D2*$C$44*$F$44 -> 25097.159 | AX44: =cal_CORE!E2*$C$44*$F$44 -> 26121.207 | AY44: =cal_CORE!F2*$C$44*$F$44 -> 26944.208 | AZ44: =cal_CORE!G2*$C$44*$F$44 -> 27635.862 | BA44: =cal_CORE!H2*$C$44*$F$44 -> 28234.48 | BB44: =cal_CORE!I2*$C$44*$F$44 -> 28763.497 | ... CH44: =cal_CORE!AO2*$C$44*$F$44 -> 16537.007 | CI44: =cal_CORE!CD53*C44*F44 -> 15494.702 | CJ44: =cal_CORE!CE53*C44*F44 -> 14692.034 | CK44: =cal_CORE!CF53*C44*F44 -> 9390.3461 | CL44: =cal_CORE!CG53*$C$44*$F$44 -> 6898.0839 | CM44: =cal_CORE!CH53*$C$44*$F$44 -> 5891.8998 | CN44: =cal_CORE!CI53*$C$44*$F$44 -> 5386.1465 | CO44: =cal_CORE!CJ53*$C$44*$F$44 -> 5011.8612 | CP44: =cal_CORE!CK53*$C$44*$F$44 -> 4719.2505 | CQ44: =cal_CORE!CL53*$C$44*$F$44 -> 4481.6709 | CR44: =cal_CORE!CM53*$C$44*$F$44 -> 4283.3541 | CS44: =cal_CORE!CN53*$C$44*$F$44 -> 4114.2683 | ... DK44: =cal_CORE!DF53*$C$44*$F$44 -> 70.579554 | DL44: =cal_CORE!DG2*$C$44*$F$44 -> 64.365181 | DM44: =cal_CORE!DH2*$C$44*$F$44 -> 59.204029 | DN44: =cal_CORE!DI2*$C$44*$F$44 -> 54.822489 | DO44: =cal_CORE!DJ2*$C$44*$F$44 -> 51.05545 | DP44: =cal_CORE!DK2*$C$44*$F$44 -> 47.781459 | DQ44: =cal_CORE!DL2*$C$44*$F$44 -> 44.909165 | DR44: =cal_CORE!DM2*$C$44*$F$44 -> 42.368528 | DS44: =cal_CORE!DN2*$C$44*$F$44 -> 40.104935 | ... GW44: =cal_CORE!GR2*$C$44*$F$44 -> 12.806575
A45: ='User input'!A45 -> 42 | B45: ='User input'!B45 -> 2061 | C45: ='User input'!C45 -> 4.35 | D45: =DH_CORE!D44+'User input'!C45 -> 178.35 | E45: ='User input'!F45 -> 151.448 | F45: ='User input'!F45/45 -> 3.3655111 | AV45: =cal_CORE!B2*$C$45*$F$45 -> 129914.68 | AW45: =cal_CORE!C2*$C$45*$F$45 -> 46041.89 | AX45: =cal_CORE!D2*$C$45*$F$45 -> 25097.159 | AY45: =cal_CORE!E2*$C$45*$F$45 -> 26121.207 | AZ45: =cal_CORE!F2*$C$45*$F$45 -> 26944.208 | BA45: =cal_CORE!G2*$C$45*$F$45 -> 27635.862 | BB45: =cal_CORE!H2*$C$45*$F$45 -> 28234.48 | BC45: =cal_CORE!I2*$C$45*$F$45 -> 28763.497 | ... CH45: =cal_CORE!AN2*$C$45*$F$45 -> 16659.611 | CI45: =cal_CORE!CD54*C45*F45 -> 15586.3 | CJ45: =cal_CORE!CE54*C45*F45 -> 14764.253 | CK45: =cal_CORE!CF54*C45*F45 -> 9427.8227 | CL45: =cal_CORE!CG54*$C$45*$F$45 -> 6914.9921 | CM45: =cal_CORE!CH54*$C$45*$F$45 -> 5897.9035 | CN45: =cal_CORE!CI54*$C$45*$F$45 -> 5390.4399 | CO45: =cal_CORE!CJ54*$C$45*$F$45 -> 5015.1421 | CP45: =cal_CORE!CK54*$C$45*$F$45 -> 4721.8712 | CQ45: =cal_CORE!CL54*$C$45*$F$45 -> 4483.832 | CR45: =cal_CORE!CM54*$C$45*$F$45 -> 4285.1791 | CS45: =cal_CORE!CN54*$C$45*$F$45 -> 4115.8386 | ... DK45: =cal_CORE!DF54*$C$45*$F$45 -> 70.580635 | DL45: =cal_CORE!DG2*$C$45*$F$45 -> 64.365181 | DM45: =cal_CORE!DH2*$C$45*$F$45 -> 59.204029 | DN45: =cal_CORE!DI2*$C$45*$F$45 -> 54.822489 | DO45: =cal_CORE!DJ2*$C$45*$F$45 -> 51.05545 | DP45: =cal_CORE!DK2*$C$45*$F$45 -> 47.781459 | DQ45: =cal_CORE!DL2*$C$45*$F$45 -> 44.909165 | DR45: =cal_CORE!DM2*$C$45*$F$45 -> 42.368528 | DS45: =cal_CORE!DN2*$C$45*$F$45 -> 40.104935 | ... GW45: =cal_CORE!GR2*$C$45*$F$45 -> 12.806575
A46: ='User input'!A46 -> 43 | B46: ='User input'!B46 -> 2062 | C46: ='User input'!C46 -> 4.35 | D46: =DH_CORE!D45+'User input'!C46 -> 182.7 | E46: ='User input'!F46 -> 151.448 | F46: ='User input'!F46/45 -> 3.3655111 | AW46: =cal_CORE!B2*$C$46*$F$46 -> 129914.68 | AX46: =cal_CORE!C2*$C$46*$F$46 -> 46041.89 | AY46: =cal_CORE!D2*$C$46*$F$46 -> 25097.159 | AZ46: =cal_CORE!E2*$C$46*$F$46 -> 26121.207 | BA46: =cal_CORE!F2*$C$46*$F$46 -> 26944.208 | BB46: =cal_CORE!G2*$C$46*$F$46 -> 27635.862 | BC46: =cal_CORE!H2*$C$46*$F$46 -> 28234.48 | BD46: =cal_CORE!I2*$C$46*$F$46 -> 28763.497 | ... CH46: =cal_CORE!AM2*$C$46*$F$46 -> 16786.344 | CI46: =cal_CORE!CD55*C46*F46 -> 15680.345 | CJ46: =cal_CORE!CE55*C46*F46 -> 14838.072 | CK46: =cal_CORE!CF55*C46*F46 -> 9465.6867 | CL46: =cal_CORE!CG55*$C$46*$F$46 -> 6932.0073 | CM46: =cal_CORE!CH55*$C$46*$F$46 -> 5903.9301 | CN46: =cal_CORE!CI55*$C$46*$F$46 -> 5394.7462 | CO46: =cal_CORE!CJ55*$C$46*$F$46 -> 5018.4309 | CP46: =cal_CORE!CK55*$C$46*$F$46 -> 4724.4974 | CQ46: =cal_CORE!CL55*$C$46*$F$46 -> 4485.9969 | CR46: =cal_CORE!CM55*$C$46*$F$46 -> 4287.007 | CS46: =cal_CORE!CN55*$C$46*$F$46 -> 4117.4111 | ... DK46: =cal_CORE!DF55*$C$46*$F$46 -> 70.581716 | DL46: =cal_CORE!DG2*$C$46*$F$46 -> 64.365181 | DM46: =cal_CORE!DH2*$C$46*$F$46 -> 59.204029 | DN46: =cal_CORE!DI2*$C$46*$F$46 -> 54.822489 | DO46: =cal_CORE!DJ2*$C$46*$F$46 -> 51.05545 | DP46: =cal_CORE!DK2*$C$46*$F$46 -> 47.781459 | DQ46: =cal_CORE!DL2*$C$46*$F$46 -> 44.909165 | DR46: =cal_CORE!DM2*$C$46*$F$46 -> 42.368528 | DS46: =cal_CORE!DN2*$C$46*$F$46 -> 40.104935 | ... GW46: =cal_CORE!GR2*$C$46*$F$46 -> 12.806575
A47: ='User input'!A47 -> 44 | B47: ='User input'!B47 -> 2063 | C47: ='User input'!C47 -> 4.35 | D47: =DH_CORE!D46+'User input'!C47 -> 187.05 | E47: ='User input'!F47 -> 151.448 | F47: ='User input'!F47/45 -> 3.3655111 | AX47: =cal_CORE!B2*$C$47*$F$47 -> 129914.68 | AY47: =cal_CORE!C2*$C$47*$F$47 -> 46041.89 | AZ47: =cal_CORE!D2*$C$47*$F$47 -> 25097.159 | BA47: =cal_CORE!E2*$C$47*$F$47 -> 26121.207 | BB47: =cal_CORE!F2*$C$47*$F$47 -> 26944.208 | BC47: =cal_CORE!G2*$C$47*$F$47 -> 27635.862 | BD47: =cal_CORE!H2*$C$47*$F$47 -> 28234.48 | BE47: =cal_CORE!I2*$C$47*$F$47 -> 28763.497 | ... CH47: =cal_CORE!AL2*$C$47*$F$47 -> 16917.459 | CI47: =cal_CORE!CD56*C47*F47 -> 15776.956 | CJ47: =cal_CORE!CE56*C47*F47 -> 14913.552 | CK47: =cal_CORE!CF56*C47*F47 -> 9503.9447 | CL47: =cal_CORE!CG56*$C$47*$F$47 -> 6949.1307 | CM47: =cal_CORE!CH56*$C$47*$F$47 -> 5909.9798 | CN47: =cal_CORE!CI56*$C$47*$F$47 -> 5399.0654 | CO47: =cal_CORE!CJ56*$C$47*$F$47 -> 5021.7279 | CP47: =cal_CORE!CK56*$C$47*$F$47 -> 4727.129 | CQ47: =cal_CORE!CL56*$C$47*$F$47 -> 4488.1657 | CR47: =cal_CORE!CM56*$C$47*$F$47 -> 4288.8379 | CS47: =cal_CORE!CN56*$C$47*$F$47 -> 4118.9858 | ... DK47: =cal_CORE!DF56*$C$47*$F$47 -> 70.582798 | DL47: =cal_CORE!DG2*$C$47*$F$47 -> 64.365181 | DM47: =cal_CORE!DH2*$C$47*$F$47 -> 59.204029 | DN47: =cal_CORE!DI2*$C$47*$F$47 -> 54.822489 | DO47: =cal_CORE!DJ2*$C$47*$F$47 -> 51.05545 | DP47: =cal_CORE!DK2*$C$47*$F$47 -> 47.781459 | DQ47: =cal_CORE!DL2*$C$47*$F$47 -> 44.909165 | DR47: =cal_CORE!DM2*$C$47*$F$47 -> 42.368528 | DS47: =cal_CORE!DN2*$C$47*$F$47 -> 40.104935 | ... GW47: =cal_CORE!GR2*$C$47*$F$47 -> 12.806575
A48: ='User input'!A48 -> 45 | B48: ='User input'!B48 -> 2064 | C48: ='User input'!C48 -> 4.35 | D48: =DH_CORE!D47+'User input'!C48 -> 191.4 | E48: ='User input'!F48 -> 151.448 | F48: ='User input'!F48/45 -> 3.3655111 | AY48: =cal_CORE!B2*$C$48*$F$48 -> 129914.68 | AZ48: =cal_CORE!C2*$C$48*$F$48 -> 46041.89 | BA48: =cal_CORE!D2*$C$48*$F$48 -> 25097.159 | BB48: =cal_CORE!E2*$C$48*$F$48 -> 26121.207 | BC48: =cal_CORE!F2*$C$48*$F$48 -> 26944.208 | BD48: =cal_CORE!G2*$C$48*$F$48 -> 27635.862 | BE48: =cal_CORE!H2*$C$48*$F$48 -> 28234.48 | BF48: =cal_CORE!I2*$C$48*$F$48 -> 28763.497 | ... CH48: =cal_CORE!AK2*$C$48*$F$48 -> 17053.235 | CI48: =cal_CORE!CD57*C48*F48 -> 15876.26 | CJ48: =cal_CORE!CE57*C48*F48 -> 14990.764 | CK48: =cal_CORE!CF57*C48*F48 -> 9542.6032 | CL48: =cal_CORE!CG57*$C$48*$F$48 -> 6966.3634 | CM48: =cal_CORE!CH57*$C$48*$F$48 -> 5916.0527 | CN48: =cal_CORE!CI57*$C$48*$F$48 -> 5403.3974 | CO48: =cal_CORE!CJ57*$C$48*$F$48 -> 5025.0329 | CP48: =cal_CORE!CK57*$C$48*$F$48 -> 4729.7661 | CQ48: =cal_CORE!CL57*$C$48*$F$48 -> 4490.3384 | CR48: =cal_CORE!CM57*$C$48*$F$48 -> 4290.6717 | CS48: =cal_CORE!CN57*$C$48*$F$48 -> 4120.5628 | ... DK48: =cal_CORE!DF57*$C$48*$F$48 -> 70.583879 | DL48: =cal_CORE!DG2*$C$48*$F$48 -> 64.365181 | DM48: =cal_CORE!DH2*$C$48*$F$48 -> 59.204029 | DN48: =cal_CORE!DI2*$C$48*$F$48 -> 54.822489 | DO48: =cal_CORE!DJ2*$C$48*$F$48 -> 51.05545 | DP48: =cal_CORE!DK2*$C$48*$F$48 -> 47.781459 | DQ48: =cal_CORE!DL2*$C$48*$F$48 -> 44.909165 | DR48: =cal_CORE!DM2*$C$48*$F$48 -> 42.368528 | DS48: =cal_CORE!DN2*$C$48*$F$48 -> 40.104935 | ... GW48: =cal_CORE!GR2*$C$48*$F$48 -> 12.806575
A49: ='User input'!A49 -> 46 | B49: ='User input'!B49 -> 2065 | C49: ='User input'!C49 -> 4.35 | D49: =DH_CORE!D48+'User input'!C49 -> 195.75 | E49: ='User input'!F49 -> 151.448 | F49: ='User input'!F49/45 -> 3.3655111 | AZ49: =cal_CORE!B2*$C$49*$F$49 -> 129914.68 | BA49: =cal_CORE!C2*$C$49*$F$49 -> 46041.89 | BB49: =cal_CORE!D2*$C$49*$F$49 -> 25097.159 | BC49: =cal_CORE!E2*$C$49*$F$49 -> 26121.207 | BD49: =cal_CORE!F2*$C$49*$F$49 -> 26944.208 | BE49: =cal_CORE!G2*$C$49*$F$49 -> 27635.862 | BF49: =cal_CORE!H2*$C$49*$F$49 -> 28234.48 | BG49: =cal_CORE!I2*$C$49*$F$49 -> 28763.497 | ... CH49: =cal_CORE!AJ2*$C$49*$F$49 -> 17193.971 | CI49: =cal_CORE!CD58*C49*F49 -> 15978.392 | CJ49: =cal_CORE!CE58*C49*F49 -> 15069.777 | CK49: =cal_CORE!CF58*C49*F49 -> 9581.6691 | CL49: =cal_CORE!CG58*$C$49*$F$49 -> 6983.7066 | CM49: =cal_CORE!CH58*$C$49*$F$49 -> 5922.1489 | CN49: =cal_CORE!CI58*$C$49*$F$49 -> 5407.7425 | CO49: =cal_CORE!CJ58*$C$49*$F$49 -> 5028.346 | CP49: =cal_CORE!CK58*$C$49*$F$49 -> 4732.4087 | CQ49: =cal_CORE!CL58*$C$49*$F$49 -> 4492.5151 | CR49: =cal_CORE!CM58*$C$49*$F$49 -> 4292.5084 | CS49: =cal_CORE!CN58*$C$49*$F$49 -> 4122.1421 | ... DK49: =cal_CORE!DF58*$C$49*$F$49 -> 70.58496 | DL49: =cal_CORE!DG2*$C$49*$F$49 -> 64.365181 | DM49: =cal_CORE!DH2*$C$49*$F$49 -> 59.204029 | DN49: =cal_CORE!DI2*$C$49*$F$49 -> 54.822489 | DO49: =cal_CORE!DJ2*$C$49*$F$49 -> 51.05545 | DP49: =cal_CORE!DK2*$C$49*$F$49 -> 47.781459 | DQ49: =cal_CORE!DL2*$C$49*$F$49 -> 44.909165 | DR49: =cal_CORE!DM2*$C$49*$F$49 -> 42.368528 | DS49: =cal_CORE!DN2*$C$49*$F$49 -> 40.104935 | ... GW49: =cal_CORE!GR2*$C$49*$F$49 -> 12.806575
A50: ='User input'!A50 -> 47 | B50: ='User input'!B50 -> 2066 | C50: ='User input'!C50 -> 4.35 | D50: =DH_CORE!D49+'User input'!C50 -> 200.1 | E50: ='User input'!F50 -> 151.448 | F50: ='User input'!F50/45 -> 3.3655111 | BA50: =cal_CORE!B2*$C$50*$F$50 -> 129914.68 | BB50: =cal_CORE!C2*$C$50*$F$50 -> 46041.89 | BC50: =cal_CORE!D2*$C$50*$F$50 -> 25097.159 | BD50: =cal_CORE!E2*$C$50*$F$50 -> 26121.207 | BE50: =cal_CORE!F2*$C$50*$F$50 -> 26944.208 | BF50: =cal_CORE!G2*$C$50*$F$50 -> 27635.862 | BG50: =cal_CORE!H2*$C$50*$F$50 -> 28234.48 | BH50: =cal_CORE!I2*$C$50*$F$50 -> 28763.497 | ... CH50: =cal_CORE!AI2*$C$50*$F$50 -> 17340 | CI50: =cal_CORE!CD59*C50*F50 -> 16083.498 | CJ50: =cal_CORE!CE59*C50*F50 -> 15150.667 | CK50: =cal_CORE!CF59*C50*F50 -> 9621.1493 | CL50: =cal_CORE!CG59*$C$50*$F$50 -> 7001.1613 | CM50: =cal_CORE!CH59*$C$50*$F$50 -> 5928.2686 | CN50: =cal_CORE!CI59*$C$50*$F$50 -> 5412.1006 | CO50: =cal_CORE!CJ59*$C$50*$F$50 -> 5031.6673 | CP50: =cal_CORE!CK59*$C$50*$F$50 -> 4735.0568 | CQ50: =cal_CORE!CL59*$C$50*$F$50 -> 4494.6957 | CR50: =cal_CORE!CM59*$C$50*$F$50 -> 4294.3481 | CS50: =cal_CORE!CN59*$C$50*$F$50 -> 4123.7236 | ... DK50: =cal_CORE!DF59*$C$50*$F$50 -> 70.586041 | DL50: =cal_CORE!DG2*$C$50*$F$50 -> 64.365181 | DM50: =cal_CORE!DH2*$C$50*$F$50 -> 59.204029 | DN50: =cal_CORE!DI2*$C$50*$F$50 -> 54.822489 | DO50: =cal_CORE!DJ2*$C$50*$F$50 -> 51.05545 | DP50: =cal_CORE!DK2*$C$50*$F$50 -> 47.781459 | DQ50: =cal_CORE!DL2*$C$50*$F$50 -> 44.909165 | DR50: =cal_CORE!DM2*$C$50*$F$50 -> 42.368528 | DS50: =cal_CORE!DN2*$C$50*$F$50 -> 40.104935 | ... GW50: =cal_CORE!GR2*$C$50*$F$50 -> 12.806575
A51: ='User input'!A51 -> 48 | B51: ='User input'!B51 -> 2067 | C51: ='User input'!C51 -> 4.35 | D51: =DH_CORE!D50+'User input'!C51 -> 204.45 | E51: ='User input'!F51 -> 151.448 | F51: ='User input'!F51/45 -> 3.3655111 | BB51: =cal_CORE!B2*$C$51*$F$51 -> 129914.68 | BC51: =cal_CORE!C2*$C$51*$F$51 -> 46041.89 | BD51: =cal_CORE!D2*$C$51*$F$51 -> 25097.159 | BE51: =cal_CORE!E2*$C$51*$F$51 -> 26121.207 | BF51: =cal_CORE!F2*$C$51*$F$51 -> 26944.208 | BG51: =cal_CORE!G2*$C$51*$F$51 -> 27635.862 | BH51: =cal_CORE!H2*$C$51*$F$51 -> 28234.48 | BI51: =cal_CORE!I2*$C$51*$F$51 -> 28763.497 | ... CH51: =cal_CORE!AH2*$C$51*$F$51 -> 17491.685 | CI51: =cal_CORE!CD60*C51*F51 -> 16191.737 | CJ51: =cal_CORE!CE60*C51*F51 -> 15233.517 | CK51: =cal_CORE!CF60*C51*F51 -> 9661.051 | CL51: =cal_CORE!CG60*$C$51*$F$51 -> 7018.7288 | CM51: =cal_CORE!CH60*$C$51*$F$51 -> 5934.4119 | CN51: =cal_CORE!CI60*$C$51*$F$51 -> 5416.4719 | CO51: =cal_CORE!CJ60*$C$51*$F$51 -> 5034.9969 | CP51: =cal_CORE!CK60*$C$51*$F$51 -> 4737.7105 | CQ51: =cal_CORE!CL60*$C$51*$F$51 -> 4496.8803 | CR51: =cal_CORE!CM60*$C$51*$F$51 -> 4296.1907 | CS51: =cal_CORE!CN60*$C$51*$F$51 -> 4125.3074 | ... DK51: =cal_CORE!DF60*$C$51*$F$51 -> 70.587123 | DL51: =cal_CORE!DG2*$C$51*$F$51 -> 64.365181 | DM51: =cal_CORE!DH2*$C$51*$F$51 -> 59.204029 | DN51: =cal_CORE!DI2*$C$51*$F$51 -> 54.822489 | DO51: =cal_CORE!DJ2*$C$51*$F$51 -> 51.05545 | DP51: =cal_CORE!DK2*$C$51*$F$51 -> 47.781459 | DQ51: =cal_CORE!DL2*$C$51*$F$51 -> 44.909165 | DR51: =cal_CORE!DM2*$C$51*$F$51 -> 42.368528 | DS51: =cal_CORE!DN2*$C$51*$F$51 -> 40.104935 | ... GW51: =cal_CORE!GR2*$C$51*$F$51 -> 12.806575
A52: ='User input'!A52 -> 49 | B52: ='User input'!B52 -> 2068 | C52: ='User input'!C52 -> 4.35 | D52: =DH_CORE!D51+'User input'!C52 -> 208.8 | E52: ='User input'!F52 -> 151.448 | F52: ='User input'!F52/45 -> 3.3655111 | BC52: =cal_CORE!B2*$C$52*$F$52 -> 129914.68 | BD52: =cal_CORE!C2*$C$52*$F$52 -> 46041.89 | BE52: =cal_CORE!D2*$C$52*$F$52 -> 25097.159 | BF52: =cal_CORE!E2*$C$52*$F$52 -> 26121.207 | BG52: =cal_CORE!F2*$C$52*$F$52 -> 26944.208 | BH52: =cal_CORE!G2*$C$52*$F$52 -> 27635.862 | BI52: =cal_CORE!H2*$C$52*$F$52 -> 28234.48 | BJ52: =cal_CORE!I2*$C$52*$F$52 -> 28763.497 | ... CH52: =cal_CORE!AG2*$C$52*$F$52 -> 17649.428 | CI52: =cal_CORE!CD61*C52*F52 -> 16303.277 | CJ52: =cal_CORE!CE61*C52*F52 -> 15318.411 | CK52: =cal_CORE!CF61*C52*F52 -> 9701.3815 | CL52: =cal_CORE!CG61*$C$52*$F$52 -> 7036.4102 | CM52: =cal_CORE!CH61*$C$52*$F$52 -> 5940.5791 | CN52: =cal_CORE!CI61*$C$52*$F$52 -> 5420.8564 | CO52: =cal_CORE!CJ61*$C$52*$F$52 -> 5038.3346 | CP52: =cal_CORE!CK61*$C$52*$F$52 -> 4740.3697 | CQ52: =cal_CORE!CL61*$C$52*$F$52 -> 4499.0688 | CR52: =cal_CORE!CM61*$C$52*$F$52 -> 4298.0362 | CS52: =cal_CORE!CN61*$C$52*$F$52 -> 4126.8934 | ... DK52: =cal_CORE!DF61*$C$52*$F$52 -> 70.588204 | DL52: =cal_CORE!DG2*$C$52*$F$52 -> 64.365181 | DM52: =cal_CORE!DH2*$C$52*$F$52 -> 59.204029 | DN52: =cal_CORE!DI2*$C$52*$F$52 -> 54.822489 | DO52: =cal_CORE!DJ2*$C$52*$F$52 -> 51.05545 | DP52: =cal_CORE!DK2*$C$52*$F$52 -> 47.781459 | DQ52: =cal_CORE!DL2*$C$52*$F$52 -> 44.909165 | DR52: =cal_CORE!DM2*$C$52*$F$52 -> 42.368528 | DS52: =cal_CORE!DN2*$C$52*$F$52 -> 40.104935 | ... GW52: =cal_CORE!GR2*$C$52*$F$52 -> 12.806575
A53: ='User input'!A53 -> 50 | B53: ='User input'!B53 -> 2069 | C53: ='User input'!C53 -> 4.35 | D53: =DH_CORE!D52+'User input'!C53 -> 213.15 | E53: ='User input'!F53 -> 151.448 | F53: ='User input'!F53/45 -> 3.3655111 | BD53: =cal_CORE!B2*$C$53*$F$53 -> 129914.68 | BE53: =cal_CORE!C2*$C$53*$F$53 -> 46041.89 | BF53: =cal_CORE!D2*$C$53*$F$53 -> 25097.159 | BG53: =cal_CORE!E2*$C$53*$F$53 -> 26121.207 | BH53: =cal_CORE!F2*$C$53*$F$53 -> 26944.208 | BI53: =cal_CORE!G2*$C$53*$F$53 -> 27635.862 | BJ53: =cal_CORE!H2*$C$53*$F$53 -> 28234.48 | BK53: =cal_CORE!I2*$C$53*$F$53 -> 28763.497 | ... CH53: =cal_CORE!AF2*$C$53*$F$53 -> 17813.669 | CI53: =cal_CORE!CD62*C53*F53 -> 16418.301 | CJ53: =cal_CORE!CE62*C53*F53 -> 15405.44 | CK53: =cal_CORE!CF62*C53*F53 -> 9742.1482 | CL53: =cal_CORE!CG62*$C$53*$F$53 -> 7054.2067 | CM53: =cal_CORE!CH62*$C$53*$F$53 -> 5946.7703 | CN53: =cal_CORE!CI62*$C$53*$F$53 -> 5425.2541 | CO53: =cal_CORE!CJ62*$C$53*$F$53 -> 5041.6806 | CP53: =cal_CORE!CK62*$C$53*$F$53 -> 4743.0345 | CQ53: =cal_CORE!CL62*$C$53*$F$53 -> 4501.2614 | CR53: =cal_CORE!CM62*$C$53*$F$53 -> 4299.8847 | CS53: =cal_CORE!CN62*$C$53*$F$53 -> 4128.4818 | ... DK53: =cal_CORE!DF62*$C$53*$F$53 -> 70.589285 | DL53: =cal_CORE!DG2*$C$53*$F$53 -> 64.365181 | DM53: =cal_CORE!DH2*$C$53*$F$53 -> 59.204029 | DN53: =cal_CORE!DI2*$C$53*$F$53 -> 54.822489 | DO53: =cal_CORE!DJ2*$C$53*$F$53 -> 51.05545 | DP53: =cal_CORE!DK2*$C$53*$F$53 -> 47.781459 | DQ53: =cal_CORE!DL2*$C$53*$F$53 -> 44.909165 | DR53: =cal_CORE!DM2*$C$53*$F$53 -> 42.368528 | DS53: =cal_CORE!DN2*$C$53*$F$53 -> 40.104935 | ... GW53: =cal_CORE!GR2*$C$53*$F$53 -> 12.806575
A54: 51 | B54: ='User input'!B54 -> 2070 | C54: ='User input'!C54 -> 4.35 | D54: =DH_CORE!D53+'User input'!C54 -> 217.5 | E54: ='User input'!F54 -> 151.448 | F54: ='User input'!F54/45 -> 3.3655111 | BE54: =cal_CORE!B2*$C$54*$F$54 -> 129914.68 | BF54: =cal_CORE!C2*$C$54*$F$54 -> 46041.89 | BG54: =cal_CORE!D2*$C$54*$F$54 -> 25097.159 | BH54: =cal_CORE!E2*$C$54*$F$54 -> 26121.207 | BI54: =cal_CORE!F2*$C$54*$F$54 -> 26944.208 | BJ54: =cal_CORE!G2*$C$54*$F$54 -> 27635.862 | BK54: =cal_CORE!H2*$C$54*$F$54 -> 28234.48 | BL54: =cal_CORE!I2*$C$54*$F$54 -> 28763.497 | ... CH54: =cal_CORE!AE2*$C$54*$F$54 -> 17984.902 | CI54: =cal_CORE!CD63*C54*F54 -> 16537.007 | CJ54: =cal_CORE!CE63*C54*F54 -> 15494.702 | CK54: =cal_CORE!CF63*C54*F54 -> 9783.3588 | CL54: =cal_CORE!CG63*$C$54*$F$54 -> 7072.1195 | CM54: =cal_CORE!CH63*$C$54*$F$54 -> 5952.9856 | CN54: =cal_CORE!CI63*$C$54*$F$54 -> 5429.6652 | CO54: =cal_CORE!CJ63*$C$54*$F$54 -> 5045.035 | CP54: =cal_CORE!CK63*$C$54*$F$54 -> 4745.7049 | CQ54: =cal_CORE!CL63*$C$54*$F$54 -> 4503.4579 | CR54: =cal_CORE!CM63*$C$54*$F$54 -> 4301.7362 | CS54: =cal_CORE!CN63*$C$54*$F$54 -> 4130.0724 | ... DK54: =cal_CORE!DF63*$C$54*$F$54 -> 70.590367 | DL54: =cal_CORE!DG2*$C$54*$F$54 -> 64.365181 | DM54: =cal_CORE!DH2*$C$54*$F$54 -> 59.204029 | DN54: =cal_CORE!DI2*$C$54*$F$54 -> 54.822489 | DO54: =cal_CORE!DJ2*$C$54*$F$54 -> 51.05545 | DP54: =cal_CORE!DK2*$C$54*$F$54 -> 47.781459 | DQ54: =cal_CORE!DL2*$C$54*$F$54 -> 44.909165 | DR54: =cal_CORE!DM2*$C$54*$F$54 -> 42.368528 | DS54: =cal_CORE!DN2*$C$54*$F$54 -> 40.104935 | ... GW54: =cal_CORE!GR2*$C$54*$F$54 -> 12.806575
A55: 52 | B55: ='User input'!B55 -> 2071 | C55: ='User input'!C55 -> 4.35 | D55: =DH_CORE!D54+'User input'!C55 -> 221.85 | E55: ='User input'!F55 -> 151.448 | F55: ='User input'!F55/45 -> 3.3655111 | BF55: =cal_CORE!B2*$C$55*$F$55 -> 129914.68 | BG55: =cal_CORE!C2*$C$55*$F$55 -> 46041.89 | BH55: =cal_CORE!D2*$C$55*$F$55 -> 25097.159 | BI55: =cal_CORE!E2*$C$55*$F$55 -> 26121.207 | BJ55: =cal_CORE!F2*$C$55*$F$55 -> 26944.208 | BK55: =cal_CORE!G2*$C$55*$F$55 -> 27635.862 | BL55: =cal_CORE!H2*$C$55*$F$55 -> 28234.48 | BM55: =cal_CORE!I2*$C$55*$F$55 -> 28763.497 | ... CH55: =cal_CORE!AD2*$C$55*$F$55 -> 18264.883 | CI55: =cal_CORE!CD64*C55*F55 -> 16659.611 | CJ55: =cal_CORE!CE64*C55*F55 -> 15586.3 | CK55: =cal_CORE!CF64*C55*F55 -> 9825.0212 | CL55: =cal_CORE!CG64*$C$55*$F$55 -> 7090.1499 | CM55: =cal_CORE!CH64*$C$55*$F$55 -> 5959.2253 | CN55: =cal_CORE!CI64*$C$55*$F$55 -> 5434.0897 | CO55: =cal_CORE!CJ64*$C$55*$F$55 -> 5048.3976 | CP55: =cal_CORE!CK64*$C$55*$F$55 -> 4748.3809 | CQ55: =cal_CORE!CL64*$C$55*$F$55 -> 4505.6584 | CR55: =cal_CORE!CM64*$C$55*$F$55 -> 4303.5907 | CS55: =cal_CORE!CN64*$C$55*$F$55 -> 4131.6653 | ... DK55: =cal_CORE!DF64*$C$55*$F$55 -> 70.591448 | DL55: =cal_CORE!DG2*$C$55*$F$55 -> 64.365181 | DM55: =cal_CORE!DH2*$C$55*$F$55 -> 59.204029 | DN55: =cal_CORE!DI2*$C$55*$F$55 -> 54.822489 | DO55: =cal_CORE!DJ2*$C$55*$F$55 -> 51.05545 | DP55: =cal_CORE!DK2*$C$55*$F$55 -> 47.781459 | DQ55: =cal_CORE!DL2*$C$55*$F$55 -> 44.909165 | DR55: =cal_CORE!DM2*$C$55*$F$55 -> 42.368528 | DS55: =cal_CORE!DN2*$C$55*$F$55 -> 40.104935 | ... GW55: =cal_CORE!GR2*$C$55*$F$55 -> 12.806575
A56: 53 | B56: ='User input'!B56 -> 2072 | C56: ='User input'!C56 -> 4.35 | D56: =DH_CORE!D55+'User input'!C56 -> 226.2 | E56: ='User input'!F56 -> 151.448 | F56: ='User input'!F56/45 -> 3.3655111 | BG56: =cal_CORE!B2*$C$56*$F$56 -> 129914.68 | BH56: =cal_CORE!C2*$C$56*$F$56 -> 46041.89 | BI56: =cal_CORE!D2*$C$56*$F$56 -> 25097.159 | BJ56: =cal_CORE!E2*$C$56*$F$56 -> 26121.207 | BK56: =cal_CORE!F2*$C$56*$F$56 -> 26944.208 | BL56: =cal_CORE!G2*$C$56*$F$56 -> 27635.862 | BM56: =cal_CORE!H2*$C$56*$F$56 -> 28234.48 | BN56: =cal_CORE!I2*$C$56*$F$56 -> 28763.497 | ... CH56: =cal_CORE!AC2*$C$56*$F$56 -> 18559.281 | CI56: =cal_CORE!CD65*C56*F56 -> 16786.344 | CJ56: =cal_CORE!CE65*C56*F56 -> 15680.345 | CK56: =cal_CORE!CF65*C56*F56 -> 9867.1433 | CL56: =cal_CORE!CG65*$C$56*$F$56 -> 7108.2991 | CM56: =cal_CORE!CH65*$C$56*$F$56 -> 5965.4894 | CN56: =cal_CORE!CI65*$C$56*$F$56 -> 5438.5276 | CO56: =cal_CORE!CJ65*$C$56*$F$56 -> 5051.7687 | CP56: =cal_CORE!CK65*$C$56*$F$56 -> 4751.0625 | CQ56: =cal_CORE!CL65*$C$56*$F$56 -> 4507.8629 | CR56: =cal_CORE!CM65*$C$56*$F$56 -> 4305.4481 | CS56: =cal_CORE!CN65*$C$56*$F$56 -> 4133.2605 | ... DK56: =cal_CORE!DF65*$C$56*$F$56 -> 70.59253 | DL56: =cal_CORE!DG2*$C$56*$F$56 -> 64.365181 | DM56: =cal_CORE!DH2*$C$56*$F$56 -> 59.204029 | DN56: =cal_CORE!DI2*$C$56*$F$56 -> 54.822489 | DO56: =cal_CORE!DJ2*$C$56*$F$56 -> 51.05545 | DP56: =cal_CORE!DK2*$C$56*$F$56 -> 47.781459 | DQ56: =cal_CORE!DL2*$C$56*$F$56 -> 44.909165 | DR56: =cal_CORE!DM2*$C$56*$F$56 -> 42.368528 | DS56: =cal_CORE!DN2*$C$56*$F$56 -> 40.104935 | ... GW56: =cal_CORE!GR2*$C$56*$F$56 -> 12.806575
A57: 54 | B57: ='User input'!B57 -> 2073 | C57: ='User input'!C57 -> 4.35 | D57: =DH_CORE!D56+'User input'!C57 -> 230.55 | E57: ='User input'!F57 -> 151.448 | F57: ='User input'!F57/45 -> 3.3655111 | BH57: =cal_CORE!B2*$C$57*$F$57 -> 129914.68 | BI57: =cal_CORE!C2*$C$57*$F$57 -> 46041.89 | BJ57: =cal_CORE!D2*$C$57*$F$57 -> 25097.159 | BK57: =cal_CORE!E2*$C$57*$F$57 -> 26121.207 | BL57: =cal_CORE!F2*$C$57*$F$57 -> 26944.208 | BM57: =cal_CORE!G2*$C$57*$F$57 -> 27635.862 | BN57: =cal_CORE!H2*$C$57*$F$57 -> 28234.48 | BO57: =cal_CORE!I2*$C$57*$F$57 -> 28763.497 | ... CH57: =cal_CORE!AB2*$C$57*$F$57 -> 18869.396 | CI57: =cal_CORE!CD66*C57*F57 -> 16917.459 | CJ57: =cal_CORE!CE66*C57*F57 -> 15776.956 | CK57: =cal_CORE!CF66*C57*F57 -> 9909.7334 | CL57: =cal_CORE!CG66*$C$57*$F$57 -> 7126.5684 | CM57: =cal_CORE!CH66*$C$57*$F$57 -> 5971.7781 | CN57: =cal_CORE!CI66*$C$57*$F$57 -> 5442.9792 | CO57: =cal_CORE!CJ66*$C$57*$F$57 -> 5055.1482 | CP57: =cal_CORE!CK66*$C$57*$F$57 -> 4753.7498 | CQ57: =cal_CORE!CL66*$C$57*$F$57 -> 4510.0715 | CR57: =cal_CORE!CM66*$C$57*$F$57 -> 4307.3085 | CS57: =cal_CORE!CN66*$C$57*$F$57 -> 4134.858 | ... DK57: =cal_CORE!DF66*$C$57*$F$57 -> 70.593611 | DL57: =cal_CORE!DG2*$C$57*$F$57 -> 64.365181 | DM57: =cal_CORE!DH2*$C$57*$F$57 -> 59.204029 | DN57: =cal_CORE!DI2*$C$57*$F$57 -> 54.822489 | DO57: =cal_CORE!DJ2*$C$57*$F$57 -> 51.05545 | DP57: =cal_CORE!DK2*$C$57*$F$57 -> 47.781459 | DQ57: =cal_CORE!DL2*$C$57*$F$57 -> 44.909165 | DR57: =cal_CORE!DM2*$C$57*$F$57 -> 42.368528 | DS57: =cal_CORE!DN2*$C$57*$F$57 -> 40.104935 | ... GW57: =cal_CORE!GR2*$C$57*$F$57 -> 12.806575
